Workbook

Sheet sayfa1
A1: DataTemplateV1,4-130925 | B1: Veri | M1: . | R1: 1 | S1: 2 | T1: 3 | U1: 4 | V1: 5 | W1: 6 | X1: 7 | Y1: 8 | Z1: 9 | AA1: 10 | AB1: 11 | AC1: 12 | AD1: 13 | AE1: 14 | AF1: 15 | AG1: 16 | AH1: 17 | AI1: 18 | AJ1: 19 | AK1: 20 | AL1: 21 | AM1: 22 | AN1: 23 | AO1: 24 | AP1: 25 | AQ1: 26 | AR1: 27 | AS1: 28 | AT1: 29 | AU1: 30 | AV1: 31 | AW1: 32 | AX1: 33 | BA1: DOKUZPINAR | BB1: sayfa3!B2:H150 | BC1: =MIN(INDIRECT(BE1)) -> 0 | BD1: =MAXA(INDIRECT(BE1)) -> 0 | BE1: sayfa3!N$2:N$150
A2: anayurt | B2: Arama | D2: 1 | E2: =IFERROR(VLOOKUP(N3,INDIRECT(P3),1),"") -> 1 | F2: =IFERROR(VLOOKUP(N3,$N$3:$O$151,2),"") -> ANA DEPOLAR | G2: =IFERROR(VLOOKUP(N3,INDIRECT(P3),2, FALSE),"") -> ANAYURT SONDAJ 1 | H2: =IFERROR(VLOOKUP(N3,INDIRECT(P3),3, FALSE),"") -> 38.712423 | I2: =IFERROR(VLOOKUP(N3,INDIRECT(P3),4, FALSE),"") -> 35.564252 | J2: =IFERROR(VLOOKUP(N3,INDIRECT(P3),5, FALSE),"") -> https://maps.yandex.ru/?ll=38.712423%2035.564252&z=16&text=38.712423%2035.564252 | K2: =IFERROR(VLOOKUP(N3,INDIRECT(P3),6, FALSE),"") -> https://maps.google.com/maps?q=38.712423%2C35.564252 | L2: =IFERROR(VLOOKUP(N3,INDIRECT(P3),7, FALSE),"") -> Açıklama: | M2: . | R2: DOKUZPINAR | S2: ERCİYES | T2: ANA DEPOLAR 1 | U2: ANA DEPOLAR 2 | V2: ANA DEPOLAR 3 | W2: HACILAR | X2: MELİKGAZİ 1 | Y2: MELİKGAZİ 2 | Z2: KOCASİNAN (YEM) | AA2: KOCASİNAN 1 | AB2: KOCASİNAN 2 | AC2: TALAS | AD2: AKKIŞLA | AE2: BÜNYAN | AF2: DEVELİ 1 | AG2: DEVELİ 2 | AH2: FELAHİYE | AI2: İNCESU | AJ2: ÖZVATAN | AK2: PINARBAŞI 1 | AL2: PINARBAŞI 2 | AM2: DADALOĞLU | AN2: SARIOĞLAN | AO2: SARIZ | AP2: TOMARZA 1 | AQ2: TOMARZA 2 | AR2: YAHYALI | AS2: YEŞİLHİSAR | AT2: DMA | AU2: DMA | AV2: KANAL | AW2: ALTERNATİF | BA2: ERCİYES | BB2: sayfa3!AA2:AG150 | BC2: =MIN(INDIRECT(BE2)) -> 0 | BD2: =MAXA(INDIRECT(BE2)) -> 0 | BE2: sayfa3!AM$2:AM$150
A3: =CONCATENATE(MAXA(sayfa3!AEM1:AEM150)," Sonuç Bulundu") -> 6 Sonuç Bulundu | B3: Bulundu | D3: 2 | E3: =IFERROR(VLOOKUP(N4,INDIRECT(P4),1),"") -> 2 | F3: =IFERROR(VLOOKUP(N4,$N$3:$O$151,2),"") -> ANA DEPOLAR | G3: =IFERROR(VLOOKUP(N4,INDIRECT(P4),2, FALSE),"") -> ANAYURT SONDAJ 2 | H3: =IFERROR(VLOOKUP(N4,INDIRECT(P4),3, FALSE),"") -> 38.713948 | I3: =IFERROR(VLOOKUP(N4,INDIRECT(P4),4, FALSE),"") -> 35.561074 | J3: =IFERROR(VLOOKUP(N4,INDIRECT(P4),5, FALSE),"") -> https://maps.yandex.ru/?ll=38.713948%2035.561074&z=16&text=38.713948%2035.561074 | K3: =IFERROR(VLOOKUP(N4,INDIRECT(P4),6, FALSE),"") -> https://maps.google.com/maps?q=38.713948%2C35.561074 | L3: =IFERROR(VLOOKUP(N4,INDIRECT(P4),7, FALSE),"") -> Açıklama: | M3: . | N3: 1 | O3: =CHOOSE(Q3,$BA$1,$BA$2,$BA$3,$BA$4,$BA$5,$BA$6,$BA$7,$BA$8,$BA$9,$BA$10,$BA$11,$BA$12,$BA$13,$BA$14,$BA$15,$BA$16,$BA$17,$BA$18,$BA$19,$BA$20,$BA$21,$BA$22,$BA$23,$BA$24,$BA$25,$BA$26,$BA$27,$BA$28,$BA$29,$BA$30,$BA$31,$BA$32,$BA$33) -> ANA DEPOLAR | P3: =CHOOSE(Q3,$BB$1,$BB$2,$BB$3,$BB$4,$BB$5,$BB$6,$BB$7,$BB$8,$BB$9,$BB$10,$BB$11,$BB$12,$BB$13,$BB$14,$BB$15,$BB$16,$BB$17,$BB$18,$BB$19,$BB$20,$BB$21,$BB$22,$BB$23,$BB$24,$BB$25,$BB$26,$BB$27,$BB$28,$BB$29,$BB$30,$BB$31,$BB$32,$BB$33) -> sayfa3!BA2:BG150 | Q3: =MAXA(R3:AX3) -> 3 | R3: {=IF($N3<=INDIRECT("BD"&R$1),IF($N3>=INDIRECT("BC"&R$1),R$1,0),0)} -> 0 | S3: {=IF($N3<=INDIRECT("BD"&S$1),IF($N3>=INDIRECT("BC"&S$1),S$1,0),0)} -> 0 | T3: {=IF($N3<=INDIRECT("BD"&T$1),IF($N3>=INDIRECT("BC"&T$1),T$1,0),0)} -> 3 | U3: {=IF($N3<=INDIRECT("BD"&U$1),IF($N3>=INDIRECT("BC"&U$1),U$1,0),0)} -> 0 | V3: {=IF($N3<=INDIRECT("BD"&V$1),IF($N3>=INDIRECT("BC"&V$1),V$1,0),0)} -> 0 | W3: {=IF($N3<=INDIRECT("BD"&W$1),IF($N3>=INDIRECT("BC"&W$1),W$1,0),0)} -> 0 | X3: {=IF($N3<=INDIRECT("BD"&X$1),IF($N3>=INDIRECT("BC"&X$1),X$1,0),0)} -> 0 | Y3: {=IF($N3<=INDIRECT("BD"&Y$1),IF($N3>=INDIRECT("BC"&Y$1),Y$1,0),0)} -> 0 | ... AW3: {=IF($N3<=INDIRECT("BD"&AW$1),IF($N3>=INDIRECT("BC"&AW$1),AW$1,0),0)} -> 0 | BA3: ANA DEPOLAR | BB3: sayfa3!BA2:BG150 | BC3: =MIN(INDIRECT(BE3)) -> 1 | BD3: =MAXA(INDIRECT(BE3)) -> 6 | BE3: sayfa3!BM$2:BM$150
A4: =CONCATENATE(MAXA(E2:E150)," Sonuç Gösteriliyor") -> 6 Sonuç Gösteriliyor | B4: Gösteriliyor | D4: 3 | E4: =IFERROR(VLOOKUP(N5,INDIRECT(P5),1),"") -> 3 | F4: =IFERROR(VLOOKUP(N5,$N$3:$O$151,2),"") -> ANA DEPOLAR | G4: =IFERROR(VLOOKUP(N5,INDIRECT(P5),2, FALSE),"") -> ANAYURT SONDAJ 3 | H4: =IFERROR(VLOOKUP(N5,INDIRECT(P5),3, FALSE),"") -> 38.716017 | I4: =IFERROR(VLOOKUP(N5,INDIRECT(P5),4, FALSE),"") -> 35.559232 | J4: =IFERROR(VLOOKUP(N5,INDIRECT(P5),5, FALSE),"") -> https://maps.yandex.ru/?ll=38.716017%2035.559232&z=16&text=38.716017%2035.559232 | K4: =IFERROR(VLOOKUP(N5,INDIRECT(P5),6, FALSE),"") -> https://maps.google.com/maps?q=38.716017%2C35.559232 | L4: =IFERROR(VLOOKUP(N5,INDIRECT(P5),7, FALSE),"") -> Açıklama: | M4: . | N4: 2 | O4: =CHOOSE(Q4,$BA$1,$BA$2,$BA$3,$BA$4,$BA$5,$BA$6,$BA$7,$BA$8,$BA$9,$BA$10,$BA$11,$BA$12,$BA$13,$BA$14,$BA$15,$BA$16,$BA$17,$BA$18,$BA$19,$BA$20,$BA$21,$BA$22,$BA$23,$BA$24,$BA$25,$BA$26,$BA$27,$BA$28,$BA$29,$BA$30,$BA$31,$BA$32,$BA$33) -> ANA DEPOLAR | P4: =CHOOSE(Q4,$BB$1,$BB$2,$BB$3,$BB$4,$BB$5,$BB$6,$BB$7,$BB$8,$BB$9,$BB$10,$BB$11,$BB$12,$BB$13,$BB$14,$BB$15,$BB$16,$BB$17,$BB$18,$BB$19,$BB$20,$BB$21,$BB$22,$BB$23,$BB$24,$BB$25,$BB$26,$BB$27,$BB$28,$BB$29,$BB$30,$BB$31,$BB$32,$BB$33) -> sayfa3!BA2:BG150 | Q4: =MAXA(R4:AX4) -> 3 | R4: {=IF($N4<=INDIRECT("BD"&R$1),IF($N4>=INDIRECT("BC"&R$1),R$1,0),0)} -> 0 | S4: {=IF($N4<=INDIRECT("BD"&S$1),IF($N4>=INDIRECT("BC"&S$1),S$1,0),0)} -> 0 | T4: {=IF($N4<=INDIRECT("BD"&T$1),IF($N4>=INDIRECT("BC"&T$1),T$1,0),0)} -> 3 | U4: {=IF($N4<=INDIRECT("BD"&U$1),IF($N4>=INDIRECT("BC"&U$1),U$1,0),0)} -> 0 | V4: {=IF($N4<=INDIRECT("BD"&V$1),IF($N4>=INDIRECT("BC"&V$1),V$1,0),0)} -> 0 | W4: {=IF($N4<=INDIRECT("BD"&W$1),IF($N4>=INDIRECT("BC"&W$1),W$1,0),0)} -> 0 | X4: {=IF($N4<=INDIRECT("BD"&X$1),IF($N4>=INDIRECT("BC"&X$1),X$1,0),0)} -> 0 | Y4: {=IF($N4<=INDIRECT("BD"&Y$1),IF($N4>=INDIRECT("BC"&Y$1),Y$1,0),0)} -> 0 | ... AW4: {=IF($N4<=INDIRECT("BD"&AW$1),IF($N4>=INDIRECT("BC"&AW$1),AW$1,0),0)} -> 0 | BA4: ANA DEPOLAR | BB4: sayfa3!CA2:CG150 | BC4: =MIN(INDIRECT(BE4)) -> 0 | BD4: =MAXA(INDIRECT(BE4)) -> 0 | BE4: sayfa3!CM$2:CM$150
A5: =MAXA(E2:E51) -> 6 | B5: Maks | D5: 4 | E5: =IFERROR(VLOOKUP(N6,INDIRECT(P6),1),"") -> 4 | F5: =IFERROR(VLOOKUP(N6,$N$3:$O$151,2),"") -> ANA DEPOLAR | G5: =IFERROR(VLOOKUP(N6,INDIRECT(P6),2, FALSE),"") -> ANAYURT SONDAJ 4 | H5: =IFERROR(VLOOKUP(N6,INDIRECT(P6),3, FALSE),"") -> 38.715388 | I5: =IFERROR(VLOOKUP(N6,INDIRECT(P6),4, FALSE),"") -> 35.559436 | J5: =IFERROR(VLOOKUP(N6,INDIRECT(P6),5, FALSE),"") -> https://maps.yandex.ru/?ll=38.715388%2035.559436&z=16&text=38.715388%2035.559436 | K5: =IFERROR(VLOOKUP(N6,INDIRECT(P6),6, FALSE),"") -> https://maps.google.com/maps?q=38.715388%2C35.559436 | L5: =IFERROR(VLOOKUP(N6,INDIRECT(P6),7, FALSE),"") -> Açıklama: | M5: . | N5: 3 | O5: =CHOOSE(Q5,$BA$1,$BA$2,$BA$3,$BA$4,$BA$5,$BA$6,$BA$7,$BA$8,$BA$9,$BA$10,$BA$11,$BA$12,$BA$13,$BA$14,$BA$15,$BA$16,$BA$17,$BA$18,$BA$19,$BA$20,$BA$21,$BA$22,$BA$23,$BA$24,$BA$25,$BA$26,$BA$27,$BA$28,$BA$29,$BA$30,$BA$31,$BA$32,$BA$33) -> ANA DEPOLAR | P5: =CHOOSE(Q5,$BB$1,$BB$2,$BB$3,$BB$4,$BB$5,$BB$6,$BB$7,$BB$8,$BB$9,$BB$10,$BB$11,$BB$12,$BB$13,$BB$14,$BB$15,$BB$16,$BB$17,$BB$18,$BB$19,$BB$20,$BB$21,$BB$22,$BB$23,$BB$24,$BB$25,$BB$26,$BB$27,$BB$28,$BB$29,$BB$30,$BB$31,$BB$32,$BB$33) -> sayfa3!BA2:BG150 | Q5: =MAXA(R5:AX5) -> 3 | R5: {=IF($N5<=INDIRECT("BD"&R$1),IF($N5>=INDIRECT("BC"&R$1),R$1,0),0)} -> 0 | S5: {=IF($N5<=INDIRECT("BD"&S$1),IF($N5>=INDIRECT("BC"&S$1),S$1,0),0)} -> 0 | T5: {=IF($N5<=INDIRECT("BD"&T$1),IF($N5>=INDIRECT("BC"&T$1),T$1,0),0)} -> 3 | U5: {=IF($N5<=INDIRECT("BD"&U$1),IF($N5>=INDIRECT("BC"&U$1),U$1,0),0)} -> 0 | V5: {=IF($N5<=INDIRECT("BD"&V$1),IF($N5>=INDIRECT("BC"&V$1),V$1,0),0)} -> 0 | W5: {=IF($N5<=INDIRECT("BD"&W$1),IF($N5>=INDIRECT("BC"&W$1),W$1,0),0)} -> 0 | X5: {=IF($N5<=INDIRECT("BD"&X$1),IF($N5>=INDIRECT("BC"&X$1),X$1,0),0)} -> 0 | Y5: {=IF($N5<=INDIRECT("BD"&Y$1),IF($N5>=INDIRECT("BC"&Y$1),Y$1,0),0)} -> 0 | ... AW5: {=IF($N5<=INDIRECT("BD"&AW$1),IF($N5>=INDIRECT("BC"&AW$1),AW$1,0),0)} -> 0 | BA5: ANA DEPOLAR | BB5: sayfa3!DA2:DG150 | BC5: =MIN(INDIRECT(BE5)) -> 0 | BD5: =MAXA(INDIRECT(BE5)) -> 0 | BE5: sayfa3!DM$2:DM$150
D6: 5 | E6: =IFERROR(VLOOKUP(N7,INDIRECT(P7),1),"") -> 5 | F6: =IFERROR(VLOOKUP(N7,$N$3:$O$151,2),"") -> ANA DEPOLAR | G6: =IFERROR(VLOOKUP(N7,INDIRECT(P7),2, FALSE),"") -> ANAYURT TERFİ MERKEZİ | H6: =IFERROR(VLOOKUP(N7,INDIRECT(P7),3, FALSE),"") -> 38.714456 | I6: =IFERROR(VLOOKUP(N7,INDIRECT(P7),4, FALSE),"") -> 35.562783 | J6: =IFERROR(VLOOKUP(N7,INDIRECT(P7),5, FALSE),"") -> https://maps.yandex.ru/?ll=38.714456%2035.562783&z=16&text=38.714456%2035.562783 | K6: =IFERROR(VLOOKUP(N7,INDIRECT(P7),6, FALSE),"") -> https://maps.google.com/maps?q=38.714456%2C35.562783 | L6: =IFERROR(VLOOKUP(N7,INDIRECT(P7),7, FALSE),"") -> Açıklama: | M6: . | N6: 4 | O6: =CHOOSE(Q6,$BA$1,$BA$2,$BA$3,$BA$4,$BA$5,$BA$6,$BA$7,$BA$8,$BA$9,$BA$10,$BA$11,$BA$12,$BA$13,$BA$14,$BA$15,$BA$16,$BA$17,$BA$18,$BA$19,$BA$20,$BA$21,$BA$22,$BA$23,$BA$24,$BA$25,$BA$26,$BA$27,$BA$28,$BA$29,$BA$30,$BA$31,$BA$32,$BA$33) -> ANA DEPOLAR | P6: =CHOOSE(Q6,$BB$1,$BB$2,$BB$3,$BB$4,$BB$5,$BB$6,$BB$7,$BB$8,$BB$9,$BB$10,$BB$11,$BB$12,$BB$13,$BB$14,$BB$15,$BB$16,$BB$17,$BB$18,$BB$19,$BB$20,$BB$21,$BB$22,$BB$23,$BB$24,$BB$25,$BB$26,$BB$27,$BB$28,$BB$29,$BB$30,$BB$31,$BB$32,$BB$33) -> sayfa3!BA2:BG150 | Q6: =MAXA(R6:AX6) -> 3 | R6: {=IF($N6<=INDIRECT("BD"&R$1),IF($N6>=INDIRECT("BC"&R$1),R$1,0),0)} -> 0 | S6: {=IF($N6<=INDIRECT("BD"&S$1),IF($N6>=INDIRECT("BC"&S$1),S$1,0),0)} -> 0 | T6: {=IF($N6<=INDIRECT("BD"&T$1),IF($N6>=INDIRECT("BC"&T$1),T$1,0),0)} -> 3 | U6: {=IF($N6<=INDIRECT("BD"&U$1),IF($N6>=INDIRECT("BC"&U$1),U$1,0),0)} -> 0 | V6: {=IF($N6<=INDIRECT("BD"&V$1),IF($N6>=INDIRECT("BC"&V$1),V$1,0),0)} -> 0 | W6: {=IF($N6<=INDIRECT("BD"&W$1),IF($N6>=INDIRECT("BC"&W$1),W$1,0),0)} -> 0 | X6: {=IF($N6<=INDIRECT("BD"&X$1),IF($N6>=INDIRECT("BC"&X$1),X$1,0),0)} -> 0 | Y6: {=IF($N6<=INDIRECT("BD"&Y$1),IF($N6>=INDIRECT("BC"&Y$1),Y$1,0),0)} -> 0 | ... AW6: {=IF($N6<=INDIRECT("BD"&AW$1),IF($N6>=INDIRECT("BC"&AW$1),AW$1,0),0)} -> 0 | BA6: HACILAR | BB6: sayfa3!EA2:EG150 | BC6: =MIN(INDIRECT(BE6)) -> 0 | BD6: =MAXA(INDIRECT(BE6)) -> 0 | BE6: sayfa3!EM$2:EM$150
D7: 6 | E7: =IFERROR(VLOOKUP(N8,INDIRECT(P8),1),"") -> 6 | F7: =IFERROR(VLOOKUP(N8,$N$3:$O$151,2),"") -> ANA DEPOLAR | G7: =IFERROR(VLOOKUP(N8,INDIRECT(P8),2, FALSE),"") -> ANAYURT DEPO | H7: =IFERROR(VLOOKUP(N8,INDIRECT(P8),3, FALSE),"") -> 38.714239 | I7: =IFERROR(VLOOKUP(N8,INDIRECT(P8),4, FALSE),"") -> 35.570171 | J7: =IFERROR(VLOOKUP(N8,INDIRECT(P8),5, FALSE),"") -> https://maps.yandex.ru/?ll=38.714239%2035.570171&z=16&text=38.714239%2035.570171 | K7: =IFERROR(VLOOKUP(N8,INDIRECT(P8),6, FALSE),"") -> https://maps.google.com/maps?q=38.714239%2C35.570171 | L7: =IFERROR(VLOOKUP(N8,INDIRECT(P8),7, FALSE),"") -> Açıklama: | M7: . | N7: 5 | O7: =CHOOSE(Q7,$BA$1,$BA$2,$BA$3,$BA$4,$BA$5,$BA$6,$BA$7,$BA$8,$BA$9,$BA$10,$BA$11,$BA$12,$BA$13,$BA$14,$BA$15,$BA$16,$BA$17,$BA$18,$BA$19,$BA$20,$BA$21,$BA$22,$BA$23,$BA$24,$BA$25,$BA$26,$BA$27,$BA$28,$BA$29,$BA$30,$BA$31,$BA$32,$BA$33) -> ANA DEPOLAR | P7: =CHOOSE(Q7,$BB$1,$BB$2,$BB$3,$BB$4,$BB$5,$BB$6,$BB$7,$BB$8,$BB$9,$BB$10,$BB$11,$BB$12,$BB$13,$BB$14,$BB$15,$BB$16,$BB$17,$BB$18,$BB$19,$BB$20,$BB$21,$BB$22,$BB$23,$BB$24,$BB$25,$BB$26,$BB$27,$BB$28,$BB$29,$BB$30,$BB$31,$BB$32,$BB$33) -> sayfa3!BA2:BG150 | Q7: =MAXA(R7:AX7) -> 3 | R7: {=IF($N7<=INDIRECT("BD"&R$1),IF($N7>=INDIRECT("BC"&R$1),R$1,0),0)} -> 0 | S7: {=IF($N7<=INDIRECT("BD"&S$1),IF($N7>=INDIRECT("BC"&S$1),S$1,0),0)} -> 0 | T7: {=IF($N7<=INDIRECT("BD"&T$1),IF($N7>=INDIRECT("BC"&T$1),T$1,0),0)} -> 3 | U7: {=IF($N7<=INDIRECT("BD"&U$1),IF($N7>=INDIRECT("BC"&U$1),U$1,0),0)} -> 0 | V7: {=IF($N7<=INDIRECT("BD"&V$1),IF($N7>=INDIRECT("BC"&V$1),V$1,0),0)} -> 0 | W7: {=IF($N7<=INDIRECT("BD"&W$1),IF($N7>=INDIRECT("BC"&W$1),W$1,0),0)} -> 0 | X7: {=IF($N7<=INDIRECT("BD"&X$1),IF($N7>=INDIRECT("BC"&X$1),X$1,0),0)} -> 0 | Y7: {=IF($N7<=INDIRECT("BD"&Y$1),IF($N7>=INDIRECT("BC"&Y$1),Y$1,0),0)} -> 0 | ... AW7: {=IF($N7<=INDIRECT("BD"&AW$1),IF($N7>=INDIRECT("BC"&AW$1),AW$1,0),0)} -> 0 | BA7: MELİKGAZİ | BB7: sayfa3!FA2:FG150 | BC7: =MIN(INDIRECT(BE7)) -> 0 | BD7: =MAXA(INDIRECT(BE7)) -> 0 | BE7: sayfa3!FM$2:FM$150
D8: 7 | E8: =IFERROR(VLOOKUP(N9,INDIRECT(P9),1),"") | F8: =IFERROR(VLOOKUP(N9,$N$3:$O$151,2),"") | G8: =IFERROR(VLOOKUP(N9,INDIRECT(P9),2, FALSE),"") | H8: =IFERROR(VLOOKUP(N9,INDIRECT(P9),3, FALSE),"") | I8: =IFERROR(VLOOKUP(N9,INDIRECT(P9),4, FALSE),"") | J8: =IFERROR(VLOOKUP(N9,INDIRECT(P9),5, FALSE),"") | K8: =IFERROR(VLOOKUP(N9,INDIRECT(P9),6, FALSE),"") | L8: =IFERROR(VLOOKUP(N9,INDIRECT(P9),7, FALSE),"") | M8: . | N8: 6 | O8: =CHOOSE(Q8,$BA$1,$BA$2,$BA$3,$BA$4,$BA$5,$BA$6,$BA$7,$BA$8,$BA$9,$BA$10,$BA$11,$BA$12,$BA$13,$BA$14,$BA$15,$BA$16,$BA$17,$BA$18,$BA$19,$BA$20,$BA$21,$BA$22,$BA$23,$BA$24,$BA$25,$BA$26,$BA$27,$BA$28,$BA$29,$BA$30,$BA$31,$BA$32,$BA$33) -> ANA DEPOLAR | P8: =CHOOSE(Q8,$BB$1,$BB$2,$BB$3,$BB$4,$BB$5,$BB$6,$BB$7,$BB$8,$BB$9,$BB$10,$BB$11,$BB$12,$BB$13,$BB$14,$BB$15,$BB$16,$BB$17,$BB$18,$BB$19,$BB$20,$BB$21,$BB$22,$BB$23,$BB$24,$BB$25,$BB$26,$BB$27,$BB$28,$BB$29,$BB$30,$BB$31,$BB$32,$BB$33) -> sayfa3!BA2:BG150 | Q8: =MAXA(R8:AX8) -> 3 | R8: {=IF($N8<=INDIRECT("BD"&R$1),IF($N8>=INDIRECT("BC"&R$1),R$1,0),0)} -> 0 | S8: {=IF($N8<=INDIRECT("BD"&S$1),IF($N8>=INDIRECT("BC"&S$1),S$1,0),0)} -> 0 | T8: {=IF($N8<=INDIRECT("BD"&T$1),IF($N8>=INDIRECT("BC"&T$1),T$1,0),0)} -> 3 | U8: {=IF($N8<=INDIRECT("BD"&U$1),IF($N8>=INDIRECT("BC"&U$1),U$1,0),0)} -> 0 | V8: {=IF($N8<=INDIRECT("BD"&V$1),IF($N8>=INDIRECT("BC"&V$1),V$1,0),0)} -> 0 | W8: {=IF($N8<=INDIRECT("BD"&W$1),IF($N8>=INDIRECT("BC"&W$1),W$1,0),0)} -> 0 | X8: {=IF($N8<=INDIRECT("BD"&X$1),IF($N8>=INDIRECT("BC"&X$1),X$1,0),0)} -> 0 | Y8: {=IF($N8<=INDIRECT("BD"&Y$1),IF($N8>=INDIRECT("BC"&Y$1),Y$1,0),0)} -> 0 | ... AW8: {=IF($N8<=INDIRECT("BD"&AW$1),IF($N8>=INDIRECT("BC"&AW$1),AW$1,0),0)} -> 0 | BA8: MELİKGAZİ | BB8: sayfa3!GA2:GG150 | BC8: =MIN(INDIRECT(BE8)) -> 0 | BD8: =MAXA(INDIRECT(BE8)) -> 0 | BE8: sayfa3!GM$2:GM$150
D9: 8 | E9: =IFERROR(VLOOKUP(N10,INDIRECT(P10),1),"") | F9: =IFERROR(VLOOKUP(N10,$N$3:$O$151,2),"") | G9: =IFERROR(VLOOKUP(N10,INDIRECT(P10),2, FALSE),"") | H9: =IFERROR(VLOOKUP(N10,INDIRECT(P10),3, FALSE),"") | I9: =IFERROR(VLOOKUP(N10,INDIRECT(P10),4, FALSE),"") | J9: =IFERROR(VLOOKUP(N10,INDIRECT(P10),5, FALSE),"") | K9: =IFERROR(VLOOKUP(N10,INDIRECT(P10),6, FALSE),"") | L9: =IFERROR(VLOOKUP(N10,INDIRECT(P10),7, FALSE),"") | M9: . | N9: 7 | O9: =CHOOSE(Q9,$BA$1,$BA$2,$BA$3,$BA$4,$BA$5,$BA$6,$BA$7,$BA$8,$BA$9,$BA$10,$BA$11,$BA$12,$BA$13,$BA$14,$BA$15,$BA$16,$BA$17,$BA$18,$BA$19,$BA$20,$BA$21,$BA$22,$BA$23,$BA$24,$BA$25,$BA$26,$BA$27,$BA$28,$BA$29,$BA$30,$BA$31,$BA$32,$BA$33) -> #VALUE! | P9: =CHOOSE(Q9,$BB$1,$BB$2,$BB$3,$BB$4,$BB$5,$BB$6,$BB$7,$BB$8,$BB$9,$BB$10,$BB$11,$BB$12,$BB$13,$BB$14,$BB$15,$BB$16,$BB$17,$BB$18,$BB$19,$BB$20,$BB$21,$BB$22,$BB$23,$BB$24,$BB$25,$BB$26,$BB$27,$BB$28,$BB$29,$BB$30,$BB$31,$BB$32,$BB$33) -> #VALUE! | Q9: =MAXA(R9:AX9) -> 0 | R9: {=IF($N9<=INDIRECT("BD"&R$1),IF($N9>=INDIRECT("BC"&R$1),R$1,0),0)} -> 0 | S9: {=IF($N9<=INDIRECT("BD"&S$1),IF($N9>=INDIRECT("BC"&S$1),S$1,0),0)} -> 0 | T9: {=IF($N9<=INDIRECT("BD"&T$1),IF($N9>=INDIRECT("BC"&T$1),T$1,0),0)} -> 0 | U9: {=IF($N9<=INDIRECT("BD"&U$1),IF($N9>=INDIRECT("BC"&U$1),U$1,0),0)} -> 0 | V9: {=IF($N9<=INDIRECT("BD"&V$1),IF($N9>=INDIRECT("BC"&V$1),V$1,0),0)} -> 0 | W9: {=IF($N9<=INDIRECT("BD"&W$1),IF($N9>=INDIRECT("BC"&W$1),W$1,0),0)} -> 0 | X9: {=IF($N9<=INDIRECT("BD"&X$1),IF($N9>=INDIRECT("BC"&X$1),X$1,0),0)} -> 0 | Y9: {=IF($N9<=INDIRECT("BD"&Y$1),IF($N9>=INDIRECT("BC"&Y$1),Y$1,0),0)} -> 0 | ... AW9: {=IF($N9<=INDIRECT("BD"&AW$1),IF($N9>=INDIRECT("BC"&AW$1),AW$1,0),0)} -> 0 | BA9: KOCASİNAN (Yemliha) | BB9: sayfa3!HA2:HG150 | BC9: =MIN(INDIRECT(BE9)) -> 0 | BD9: =MAXA(INDIRECT(BE9)) -> 0 | BE9: sayfa3!HM$2:HM$150
D10: 9 | E10: =IFERROR(VLOOKUP(N11,INDIRECT(P11),1),"") | F10: =IFERROR(VLOOKUP(N11,$N$3:$O$151,2),"") | G10: =IFERROR(VLOOKUP(N11,INDIRECT(P11),2, FALSE),"") | H10: =IFERROR(VLOOKUP(N11,INDIRECT(P11),3, FALSE),"") | I10: =IFERROR(VLOOKUP(N11,INDIRECT(P11),4, FALSE),"") | J10: =IFERROR(VLOOKUP(N11,INDIRECT(P11),5, FALSE),"") | K10: =IFERROR(VLOOKUP(N11,INDIRECT(P11),6, FALSE),"") | L10: =IFERROR(VLOOKUP(N11,INDIRECT(P11),7, FALSE),"") | M10: . | N10: 8 | O10: =CHOOSE(Q10,$BA$1,$BA$2,$BA$3,$BA$4,$BA$5,$BA$6,$BA$7,$BA$8,$BA$9,$BA$10,$BA$11,$BA$12,$BA$13,$BA$14,$BA$15,$BA$16,$BA$17,$BA$18,$BA$19,$BA$20,$BA$21,$BA$22,$BA$23,$BA$24,$BA$25,$BA$26,$BA$27,$BA$28,$BA$29,$BA$30,$BA$31,$BA$32,$BA$33) -> #VALUE! | P10: =CHOOSE(Q10,$BB$1,$BB$2,$BB$3,$BB$4,$BB$5,$BB$6,$BB$7,$BB$8,$BB$9,$BB$10,$BB$11,$BB$12,$BB$13,$BB$14,$BB$15,$BB$16,$BB$17,$BB$18,$BB$19,$BB$20,$BB$21,$BB$22,$BB$23,$BB$24,$BB$25,$BB$26,$BB$27,$BB$28,$BB$29,$BB$30,$BB$31,$BB$32,$BB$33) -> #VALUE! | Q10: =MAXA(R10:AX10) -> 0 | R10: {=IF($N10<=INDIRECT("BD"&R$1),IF($N10>=INDIRECT("BC"&R$1),R$1,0),0)} -> 0 | S10: {=IF($N10<=INDIRECT("BD"&S$1),IF($N10>=INDIRECT("BC"&S$1),S$1,0),0)} -> 0 | T10: {=IF($N10<=INDIRECT("BD"&T$1),IF($N10>=INDIRECT("BC"&T$1),T$1,0),0)} -> 0 | U10: {=IF($N10<=INDIRECT("BD"&U$1),IF($N10>=INDIRECT("BC"&U$1),U$1,0),0)} -> 0 | V10: {=IF($N10<=INDIRECT("BD"&V$1),IF($N10>=INDIRECT("BC"&V$1),V$1,0),0)} -> 0 | W10: {=IF($N10<=INDIRECT("BD"&W$1),IF($N10>=INDIRECT("BC"&W$1),W$1,0),0)} -> 0 | X10: {=IF($N10<=INDIRECT("BD"&X$1),IF($N10>=INDIRECT("BC"&X$1),X$1,0),0)} -> 0 | Y10: {=IF($N10<=INDIRECT("BD"&Y$1),IF($N10>=INDIRECT("BC"&Y$1),Y$1,0),0)} -> 0 | ... AW10: {=IF($N10<=INDIRECT("BD"&AW$1),IF($N10>=INDIRECT("BC"&AW$1),AW$1,0),0)} -> 0 | BA10: KOCASİNAN | BB10: sayfa3!IA2:IG150 | BC10: =MIN(INDIRECT(BE10)) -> 0 | BD10: =MAXA(INDIRECT(BE10)) -> 0 | BE10: sayfa3!IM$2:IM$150
D11: 10 | E11: =IFERROR(VLOOKUP(N12,INDIRECT(P12),1),"") | F11: =IFERROR(VLOOKUP(N12,$N$3:$O$151,2),"") | G11: =IFERROR(VLOOKUP(N12,INDIRECT(P12),2, FALSE),"") | H11: =IFERROR(VLOOKUP(N12,INDIRECT(P12),3, FALSE),"") | I11: =IFERROR(VLOOKUP(N12,INDIRECT(P12),4, FALSE),"") | J11: =IFERROR(VLOOKUP(N12,INDIRECT(P12),5, FALSE),"") | K11: =IFERROR(VLOOKUP(N12,INDIRECT(P12),6, FALSE),"") | L11: =IFERROR(VLOOKUP(N12,INDIRECT(P12),7, FALSE),"") | M11: . | N11: 9 | O11: =CHOOSE(Q11,$BA$1,$BA$2,$BA$3,$BA$4,$BA$5,$BA$6,$BA$7,$BA$8,$BA$9,$BA$10,$BA$11,$BA$12,$BA$13,$BA$14,$BA$15,$BA$16,$BA$17,$BA$18,$BA$19,$BA$20,$BA$21,$BA$22,$BA$23,$BA$24,$BA$25,$BA$26,$BA$27,$BA$28,$BA$29,$BA$30,$BA$31,$BA$32,$BA$33) -> #VALUE! | P11: =CHOOSE(Q11,$BB$1,$BB$2,$BB$3,$BB$4,$BB$5,$BB$6,$BB$7,$BB$8,$BB$9,$BB$10,$BB$11,$BB$12,$BB$13,$BB$14,$BB$15,$BB$16,$BB$17,$BB$18,$BB$19,$BB$20,$BB$21,$BB$22,$BB$23,$BB$24,$BB$25,$BB$26,$BB$27,$BB$28,$BB$29,$BB$30,$BB$31,$BB$32,$BB$33) -> #VALUE! | Q11: =MAXA(R11:AX11) -> 0 | R11: {=IF($N11<=INDIRECT("BD"&R$1),IF($N11>=INDIRECT("BC"&R$1),R$1,0),0)} -> 0 | S11: {=IF($N11<=INDIRECT("BD"&S$1),IF($N11>=INDIRECT("BC"&S$1),S$1,0),0)} -> 0 | T11: {=IF($N11<=INDIRECT("BD"&T$1),IF($N11>=INDIRECT("BC"&T$1),T$1,0),0)} -> 0 | U11: {=IF($N11<=INDIRECT("BD"&U$1),IF($N11>=INDIRECT("BC"&U$1),U$1,0),0)} -> 0 | V11: {=IF($N11<=INDIRECT("BD"&V$1),IF($N11>=INDIRECT("BC"&V$1),V$1,0),0)} -> 0 | W11: {=IF($N11<=INDIRECT("BD"&W$1),IF($N11>=INDIRECT("BC"&W$1),W$1,0),0)} -> 0 | X11: {=IF($N11<=INDIRECT("BD"&X$1),IF($N11>=INDIRECT("BC"&X$1),X$1,0),0)} -> 0 | Y11: {=IF($N11<=INDIRECT("BD"&Y$1),IF($N11>=INDIRECT("BC"&Y$1),Y$1,0),0)} -> 0 | ... AW11: {=IF($N11<=INDIRECT("BD"&AW$1),IF($N11>=INDIRECT("BC"&AW$1),AW$1,0),0)} -> 0 | BA11: KOCASİNAN | BB11: sayfa3!JA2:JG150 | BC11: =MIN(INDIRECT(BE11)) -> 0 | BD11: =MAXA(INDIRECT(BE11)) -> 0 | BE11: sayfa3!JM$2:JM$150
D12: 11 | E12: =IFERROR(VLOOKUP(N13,INDIRECT(P13),1),"") | F12: =IFERROR(VLOOKUP(N13,$N$3:$O$151,2),"") | G12: =IFERROR(VLOOKUP(N13,INDIRECT(P13),2, FALSE),"") | H12: =IFERROR(VLOOKUP(N13,INDIRECT(P13),3, FALSE),"") | I12: =IFERROR(VLOOKUP(N13,INDIRECT(P13),4, FALSE),"") | J12: =IFERROR(VLOOKUP(N13,INDIRECT(P13),5, FALSE),"") | K12: =IFERROR(VLOOKUP(N13,INDIRECT(P13),6, FALSE),"") | L12: =IFERROR(VLOOKUP(N13,INDIRECT(P13),7, FALSE),"") | M12: . | N12: 10 | O12: =CHOOSE(Q12,$BA$1,$BA$2,$BA$3,$BA$4,$BA$5,$BA$6,$BA$7,$BA$8,$BA$9,$BA$10,$BA$11,$BA$12,$BA$13,$BA$14,$BA$15,$BA$16,$BA$17,$BA$18,$BA$19,$BA$20,$BA$21,$BA$22,$BA$23,$BA$24,$BA$25,$BA$26,$BA$27,$BA$28,$BA$29,$BA$30,$BA$31,$BA$32,$BA$33) -> #VALUE! | P12: =CHOOSE(Q12,$BB$1,$BB$2,$BB$3,$BB$4,$BB$5,$BB$6,$BB$7,$BB$8,$BB$9,$BB$10,$BB$11,$BB$12,$BB$13,$BB$14,$BB$15,$BB$16,$BB$17,$BB$18,$BB$19,$BB$20,$BB$21,$BB$22,$BB$23,$BB$24,$BB$25,$BB$26,$BB$27,$BB$28,$BB$29,$BB$30,$BB$31,$BB$32,$BB$33) -> #VALUE! | Q12: =MAXA(R12:AX12) -> 0 | R12: {=IF($N12<=INDIRECT("BD"&R$1),IF($N12>=INDIRECT("BC"&R$1),R$1,0),0)} -> 0 | S12: {=IF($N12<=INDIRECT("BD"&S$1),IF($N12>=INDIRECT("BC"&S$1),S$1,0),0)} -> 0 | T12: {=IF($N12<=INDIRECT("BD"&T$1),IF($N12>=INDIRECT("BC"&T$1),T$1,0),0)} -> 0 | U12: {=IF($N12<=INDIRECT("BD"&U$1),IF($N12>=INDIRECT("BC"&U$1),U$1,0),0)} -> 0 | V12: {=IF($N12<=INDIRECT("BD"&V$1),IF($N12>=INDIRECT("BC"&V$1),V$1,0),0)} -> 0 | W12: {=IF($N12<=INDIRECT("BD"&W$1),IF($N12>=INDIRECT("BC"&W$1),W$1,0),0)} -> 0 | X12: {=IF($N12<=INDIRECT("BD"&X$1),IF($N12>=INDIRECT("BC"&X$1),X$1,0),0)} -> 0 | Y12: {=IF($N12<=INDIRECT("BD"&Y$1),IF($N12>=INDIRECT("BC"&Y$1),Y$1,0),0)} -> 0 | ... AW12: {=IF($N12<=INDIRECT("BD"&AW$1),IF($N12>=INDIRECT("BC"&AW$1),AW$1,0),0)} -> 0 | BA12: TALAS | BB12: sayfa3!KA2:KG150 | BC12: =MIN(INDIRECT(BE12)) -> 0 | BD12: =MAXA(INDIRECT(BE12)) -> 0 | BE12: sayfa3!KM$2:KM$150
D13: 12 | E13: =IFERROR(VLOOKUP(N14,INDIRECT(P14),1),"") | F13: =IFERROR(VLOOKUP(N14,$N$3:$O$151,2),"") | G13: =IFERROR(VLOOKUP(N14,INDIRECT(P14),2, FALSE),"") | H13: =IFERROR(VLOOKUP(N14,INDIRECT(P14),3, FALSE),"") | I13: =IFERROR(VLOOKUP(N14,INDIRECT(P14),4, FALSE),"") | J13: =IFERROR(VLOOKUP(N14,INDIRECT(P14),5, FALSE),"") | K13: =IFERROR(VLOOKUP(N14,INDIRECT(P14),6, FALSE),"") | L13: =IFERROR(VLOOKUP(N14,INDIRECT(P14),7, FALSE),"") | M13: . | N13: 11 | O13: =CHOOSE(Q13,$BA$1,$BA$2,$BA$3,$BA$4,$BA$5,$BA$6,$BA$7,$BA$8,$BA$9,$BA$10,$BA$11,$BA$12,$BA$13,$BA$14,$BA$15,$BA$16,$BA$17,$BA$18,$BA$19,$BA$20,$BA$21,$BA$22,$BA$23,$BA$24,$BA$25,$BA$26,$BA$27,$BA$28,$BA$29,$BA$30,$BA$31,$BA$32,$BA$33) -> #VALUE! | P13: =CHOOSE(Q13,$BB$1,$BB$2,$BB$3,$BB$4,$BB$5,$BB$6,$BB$7,$BB$8,$BB$9,$BB$10,$BB$11,$BB$12,$BB$13,$BB$14,$BB$15,$BB$16,$BB$17,$BB$18,$BB$19,$BB$20,$BB$21,$BB$22,$BB$23,$BB$24,$BB$25,$BB$26,$BB$27,$BB$28,$BB$29,$BB$30,$BB$31,$BB$32,$BB$33) -> #VALUE! | Q13: =MAXA(R13:AX13) -> 0 | R13: {=IF($N13<=INDIRECT("BD"&R$1),IF($N13>=INDIRECT("BC"&R$1),R$1,0),0)} -> 0 | S13: {=IF($N13<=INDIRECT("BD"&S$1),IF($N13>=INDIRECT("BC"&S$1),S$1,0),0)} -> 0 | T13: {=IF($N13<=INDIRECT("BD"&T$1),IF($N13>=INDIRECT("BC"&T$1),T$1,0),0)} -> 0 | U13: {=IF($N13<=INDIRECT("BD"&U$1),IF($N13>=INDIRECT("BC"&U$1),U$1,0),0)} -> 0 | V13: {=IF($N13<=INDIRECT("BD"&V$1),IF($N13>=INDIRECT("BC"&V$1),V$1,0),0)} -> 0 | W13: {=IF($N13<=INDIRECT("BD"&W$1),IF($N13>=INDIRECT("BC"&W$1),W$1,0),0)} -> 0 | X13: {=IF($N13<=INDIRECT("BD"&X$1),IF($N13>=INDIRECT("BC"&X$1),X$1,0),0)} -> 0 | Y13: {=IF($N13<=INDIRECT("BD"&Y$1),IF($N13>=INDIRECT("BC"&Y$1),Y$1,0),0)} -> 0 | ... AW13: {=IF($N13<=INDIRECT("BD"&AW$1),IF($N13>=INDIRECT("BC"&AW$1),AW$1,0),0)} -> 0 | BA13: AKKIŞLA | BB13: sayfa3!LA2:LG150 | BC13: =MIN(INDIRECT(BE13)) -> 0 | BD13: =MAXA(INDIRECT(BE13)) -> 0 | BE13: sayfa3!LM$2:LM$150
D14: 13 | E14: =IFERROR(VLOOKUP(N15,INDIRECT(P15),1),"") | F14: =IFERROR(VLOOKUP(N15,$N$3:$O$151,2),"") | G14: =IFERROR(VLOOKUP(N15,INDIRECT(P15),2, FALSE),"") | H14: =IFERROR(VLOOKUP(N15,INDIRECT(P15),3, FALSE),"") | I14: =IFERROR(VLOOKUP(N15,INDIRECT(P15),4, FALSE),"") | J14: =IFERROR(VLOOKUP(N15,INDIRECT(P15),5, FALSE),"") | K14: =IFERROR(VLOOKUP(N15,INDIRECT(P15),6, FALSE),"") | L14: =IFERROR(VLOOKUP(N15,INDIRECT(P15),7, FALSE),"") | M14: . | N14: 12 | O14: =CHOOSE(Q14,$BA$1,$BA$2,$BA$3,$BA$4,$BA$5,$BA$6,$BA$7,$BA$8,$BA$9,$BA$10,$BA$11,$BA$12,$BA$13,$BA$14,$BA$15,$BA$16,$BA$17,$BA$18,$BA$19,$BA$20,$BA$21,$BA$22,$BA$23,$BA$24,$BA$25,$BA$26,$BA$27,$BA$28,$BA$29,$BA$30,$BA$31,$BA$32,$BA$33) -> #VALUE! | P14: =CHOOSE(Q14,$BB$1,$BB$2,$BB$3,$BB$4,$BB$5,$BB$6,$BB$7,$BB$8,$BB$9,$BB$10,$BB$11,$BB$12,$BB$13,$BB$14,$BB$15,$BB$16,$BB$17,$BB$18,$BB$19,$BB$20,$BB$21,$BB$22,$BB$23,$BB$24,$BB$25,$BB$26,$BB$27,$BB$28,$BB$29,$BB$30,$BB$31,$BB$32,$BB$33) -> #VALUE! | Q14: =MAXA(R14:AX14) -> 0 | R14: {=IF($N14<=INDIRECT("BD"&R$1),IF($N14>=INDIRECT("BC"&R$1),R$1,0),0)} -> 0 | S14: {=IF($N14<=INDIRECT("BD"&S$1),IF($N14>=INDIRECT("BC"&S$1),S$1,0),0)} -> 0 | T14: {=IF($N14<=INDIRECT("BD"&T$1),IF($N14>=INDIRECT("BC"&T$1),T$1,0),0)} -> 0 | U14: {=IF($N14<=INDIRECT("BD"&U$1),IF($N14>=INDIRECT("BC"&U$1),U$1,0),0)} -> 0 | V14: {=IF($N14<=INDIRECT("BD"&V$1),IF($N14>=INDIRECT("BC"&V$1),V$1,0),0)} -> 0 | W14: {=IF($N14<=INDIRECT("BD"&W$1),IF($N14>=INDIRECT("BC"&W$1),W$1,0),0)} -> 0 | X14: {=IF($N14<=INDIRECT("BD"&X$1),IF($N14>=INDIRECT("BC"&X$1),X$1,0),0)} -> 0 | Y14: {=IF($N14<=INDIRECT("BD"&Y$1),IF($N14>=INDIRECT("BC"&Y$1),Y$1,0),0)} -> 0 | ... AW14: {=IF($N14<=INDIRECT("BD"&AW$1),IF($N14>=INDIRECT("BC"&AW$1),AW$1,0),0)} -> 0 | BA14: BÜNYAN | BB14: sayfa3!MA2:MG150 | BC14: =MIN(INDIRECT(BE14)) -> 0 | BD14: =MAXA(INDIRECT(BE14)) -> 0 | BE14: sayfa3!MM$2:MM$150
D15: 14 | E15: =IFERROR(VLOOKUP(N16,INDIRECT(P16),1),"") | F15: =IFERROR(VLOOKUP(N16,$N$3:$O$151,2),"") | G15: =IFERROR(VLOOKUP(N16,INDIRECT(P16),2, FALSE),"") | H15: =IFERROR(VLOOKUP(N16,INDIRECT(P16),3, FALSE),"") | I15: =IFERROR(VLOOKUP(N16,INDIRECT(P16),4, FALSE),"") | J15: =IFERROR(VLOOKUP(N16,INDIRECT(P16),5, FALSE),"") | K15: =IFERROR(VLOOKUP(N16,INDIRECT(P16),6, FALSE),"") | L15: =IFERROR(VLOOKUP(N16,INDIRECT(P16),7, FALSE),"") | M15: . | N15: 13 | O15: =CHOOSE(Q15,$BA$1,$BA$2,$BA$3,$BA$4,$BA$5,$BA$6,$BA$7,$BA$8,$BA$9,$BA$10,$BA$11,$BA$12,$BA$13,$BA$14,$BA$15,$BA$16,$BA$17,$BA$18,$BA$19,$BA$20,$BA$21,$BA$22,$BA$23,$BA$24,$BA$25,$BA$26,$BA$27,$BA$28,$BA$29,$BA$30,$BA$31,$BA$32,$BA$33) -> #VALUE! | P15: =CHOOSE(Q15,$BB$1,$BB$2,$BB$3,$BB$4,$BB$5,$BB$6,$BB$7,$BB$8,$BB$9,$BB$10,$BB$11,$BB$12,$BB$13,$BB$14,$BB$15,$BB$16,$BB$17,$BB$18,$BB$19,$BB$20,$BB$21,$BB$22,$BB$23,$BB$24,$BB$25,$BB$26,$BB$27,$BB$28,$BB$29,$BB$30,$BB$31,$BB$32,$BB$33) -> #VALUE! | Q15: =MAXA(R15:AX15) -> 0 | R15: {=IF($N15<=INDIRECT("BD"&R$1),IF($N15>=INDIRECT("BC"&R$1),R$1,0),0)} -> 0 | S15: {=IF($N15<=INDIRECT("BD"&S$1),IF($N15>=INDIRECT("BC"&S$1),S$1,0),0)} -> 0 | T15: {=IF($N15<=INDIRECT("BD"&T$1),IF($N15>=INDIRECT("BC"&T$1),T$1,0),0)} -> 0 | U15: {=IF($N15<=INDIRECT("BD"&U$1),IF($N15>=INDIRECT("BC"&U$1),U$1,0),0)} -> 0 | V15: {=IF($N15<=INDIRECT("BD"&V$1),IF($N15>=INDIRECT("BC"&V$1),V$1,0),0)} -> 0 | W15: {=IF($N15<=INDIRECT("BD"&W$1),IF($N15>=INDIRECT("BC"&W$1),W$1,0),0)} -> 0 | X15: {=IF($N15<=INDIRECT("BD"&X$1),IF($N15>=INDIRECT("BC"&X$1),X$1,0),0)} -> 0 | Y15: {=IF($N15<=INDIRECT("BD"&Y$1),IF($N15>=INDIRECT("BC"&Y$1),Y$1,0),0)} -> 0 | ... AW15: {=IF($N15<=INDIRECT("BD"&AW$1),IF($N15>=INDIRECT("BC"&AW$1),AW$1,0),0)} -> 0 | BA15: DEVELİ | BB15: sayfa3!NA2:NG150 | BC15: =MIN(INDIRECT(BE15)) -> 0 | BD15: =MAXA(INDIRECT(BE15)) -> 0 | BE15: sayfa3!NM$2:NM$150
D16: 15 | E16: =IFERROR(VLOOKUP(N17,INDIRECT(P17),1),"") | F16: =IFERROR(VLOOKUP(N17,$N$3:$O$151,2),"") | G16: =IFERROR(VLOOKUP(N17,INDIRECT(P17),2, FALSE),"") | H16: =IFERROR(VLOOKUP(N17,INDIRECT(P17),3, FALSE),"") | I16: =IFERROR(VLOOKUP(N17,INDIRECT(P17),4, FALSE),"") | J16: =IFERROR(VLOOKUP(N17,INDIRECT(P17),5, FALSE),"") | K16: =IFERROR(VLOOKUP(N17,INDIRECT(P17),6, FALSE),"") | L16: =IFERROR(VLOOKUP(N17,INDIRECT(P17),7, FALSE),"") | M16: . | N16: 14 | O16: =CHOOSE(Q16,$BA$1,$BA$2,$BA$3,$BA$4,$BA$5,$BA$6,$BA$7,$BA$8,$BA$9,$BA$10,$BA$11,$BA$12,$BA$13,$BA$14,$BA$15,$BA$16,$BA$17,$BA$18,$BA$19,$BA$20,$BA$21,$BA$22,$BA$23,$BA$24,$BA$25,$BA$26,$BA$27,$BA$28,$BA$29,$BA$30,$BA$31,$BA$32,$BA$33) -> #VALUE! | P16: =CHOOSE(Q16,$BB$1,$BB$2,$BB$3,$BB$4,$BB$5,$BB$6,$BB$7,$BB$8,$BB$9,$BB$10,$BB$11,$BB$12,$BB$13,$BB$14,$BB$15,$BB$16,$BB$17,$BB$18,$BB$19,$BB$20,$BB$21,$BB$22,$BB$23,$BB$24,$BB$25,$BB$26,$BB$27,$BB$28,$BB$29,$BB$30,$BB$31,$BB$32,$BB$33) -> #VALUE! | Q16: =MAXA(R16:AX16) -> 0 | R16: {=IF($N16<=INDIRECT("BD"&R$1),IF($N16>=INDIRECT("BC"&R$1),R$1,0),0)} -> 0 | S16: {=IF($N16<=INDIRECT("BD"&S$1),IF($N16>=INDIRECT("BC"&S$1),S$1,0),0)} -> 0 | T16: {=IF($N16<=INDIRECT("BD"&T$1),IF($N16>=INDIRECT("BC"&T$1),T$1,0),0)} -> 0 | U16: {=IF($N16<=INDIRECT("BD"&U$1),IF($N16>=INDIRECT("BC"&U$1),U$1,0),0)} -> 0 | V16: {=IF($N16<=INDIRECT("BD"&V$1),IF($N16>=INDIRECT("BC"&V$1),V$1,0),0)} -> 0 | W16: {=IF($N16<=INDIRECT("BD"&W$1),IF($N16>=INDIRECT("BC"&W$1),W$1,0),0)} -> 0 | X16: {=IF($N16<=INDIRECT("BD"&X$1),IF($N16>=INDIRECT("BC"&X$1),X$1,0),0)} -> 0 | Y16: {=IF($N16<=INDIRECT("BD"&Y$1),IF($N16>=INDIRECT("BC"&Y$1),Y$1,0),0)} -> 0 | ... AW16: {=IF($N16<=INDIRECT("BD"&AW$1),IF($N16>=INDIRECT("BC"&AW$1),AW$1,0),0)} -> 0 | BA16: DEVELİ | BB16: sayfa3!OA2:OG150 | BC16: =MIN(INDIRECT(BE16)) -> 0 | BD16: =MAXA(INDIRECT(BE16)) -> 0 | BE16: sayfa3!OM$2:OM$150
D17: 16 | E17: =IFERROR(VLOOKUP(N18,INDIRECT(P18),1),"") | F17: =IFERROR(VLOOKUP(N18,$N$3:$O$151,2),"") | G17: =IFERROR(VLOOKUP(N18,INDIRECT(P18),2, FALSE),"") | H17: =IFERROR(VLOOKUP(N18,INDIRECT(P18),3, FALSE),"") | I17: =IFERROR(VLOOKUP(N18,INDIRECT(P18),4, FALSE),"") | J17: =IFERROR(VLOOKUP(N18,INDIRECT(P18),5, FALSE),"") | K17: =IFERROR(VLOOKUP(N18,INDIRECT(P18),6, FALSE),"") | L17: =IFERROR(VLOOKUP(N18,INDIRECT(P18),7, FALSE),"") | M17: . | N17: 15 | O17: =CHOOSE(Q17,$BA$1,$BA$2,$BA$3,$BA$4,$BA$5,$BA$6,$BA$7,$BA$8,$BA$9,$BA$10,$BA$11,$BA$12,$BA$13,$BA$14,$BA$15,$BA$16,$BA$17,$BA$18,$BA$19,$BA$20,$BA$21,$BA$22,$BA$23,$BA$24,$BA$25,$BA$26,$BA$27,$BA$28,$BA$29,$BA$30,$BA$31,$BA$32,$BA$33) -> #VALUE! | P17: =CHOOSE(Q17,$BB$1,$BB$2,$BB$3,$BB$4,$BB$5,$BB$6,$BB$7,$BB$8,$BB$9,$BB$10,$BB$11,$BB$12,$BB$13,$BB$14,$BB$15,$BB$16,$BB$17,$BB$18,$BB$19,$BB$20,$BB$21,$BB$22,$BB$23,$BB$24,$BB$25,$BB$26,$BB$27,$BB$28,$BB$29,$BB$30,$BB$31,$BB$32,$BB$33) -> #VALUE! | Q17: =MAXA(R17:AX17) -> 0 | R17: {=IF($N17<=INDIRECT("BD"&R$1),IF($N17>=INDIRECT("BC"&R$1),R$1,0),0)} -> 0 | S17: {=IF($N17<=INDIRECT("BD"&S$1),IF($N17>=INDIRECT("BC"&S$1),S$1,0),0)} -> 0 | T17: {=IF($N17<=INDIRECT("BD"&T$1),IF($N17>=INDIRECT("BC"&T$1),T$1,0),0)} -> 0 | U17: {=IF($N17<=INDIRECT("BD"&U$1),IF($N17>=INDIRECT("BC"&U$1),U$1,0),0)} -> 0 | V17: {=IF($N17<=INDIRECT("BD"&V$1),IF($N17>=INDIRECT("BC"&V$1),V$1,0),0)} -> 0 | W17: {=IF($N17<=INDIRECT("BD"&W$1),IF($N17>=INDIRECT("BC"&W$1),W$1,0),0)} -> 0 | X17: {=IF($N17<=INDIRECT("BD"&X$1),IF($N17>=INDIRECT("BC"&X$1),X$1,0),0)} -> 0 | Y17: {=IF($N17<=INDIRECT("BD"&Y$1),IF($N17>=INDIRECT("BC"&Y$1),Y$1,0),0)} -> 0 | ... AW17: {=IF($N17<=INDIRECT("BD"&AW$1),IF($N17>=INDIRECT("BC"&AW$1),AW$1,0),0)} -> 0 | BA17: FELAHİYE | BB17: sayfa3!PA2:PG150 | BC17: =MIN(INDIRECT(BE17)) -> 0 | BD17: =MAXA(INDIRECT(BE17)) -> 0 | BE17: sayfa3!PM$2:PM$150
... D32: 31 | E32: =IFERROR(VLOOKUP(N33,INDIRECT(P33),1),"") | F32: =IFERROR(VLOOKUP(N33,$N$3:$O$151,2),"") | G32: =IFERROR(VLOOKUP(N33,INDIRECT(P33),2, FALSE),"") | H32: =IFERROR(VLOOKUP(N33,INDIRECT(P33),3, FALSE),"") | I32: =IFERROR(VLOOKUP(N33,INDIRECT(P33),4, FALSE),"") | J32: =IFERROR(VLOOKUP(N33,INDIRECT(P33),5, FALSE),"") | K32: =IFERROR(VLOOKUP(N33,INDIRECT(P33),6, FALSE),"") | L32: =IFERROR(VLOOKUP(N33,INDIRECT(P33),7, FALSE),"") | M32: . | N32: 30 | O32: =CHOOSE(Q32,$BA$1,$BA$2,$BA$3,$BA$4,$BA$5,$BA$6,$BA$7,$BA$8,$BA$9,$BA$10,$BA$11,$BA$12,$BA$13,$BA$14,$BA$15,$BA$16,$BA$17,$BA$18,$BA$19,$BA$20,$BA$21,$BA$22,$BA$23,$BA$24,$BA$25,$BA$26,$BA$27,$BA$28,$BA$29,$BA$30,$BA$31,$BA$32,$BA$33) -> #VALUE! | P32: =CHOOSE(Q32,$BB$1,$BB$2,$BB$3,$BB$4,$BB$5,$BB$6,$BB$7,$BB$8,$BB$9,$BB$10,$BB$11,$BB$12,$BB$13,$BB$14,$BB$15,$BB$16,$BB$17,$BB$18,$BB$19,$BB$20,$BB$21,$BB$22,$BB$23,$BB$24,$BB$25,$BB$26,$BB$27,$BB$28,$BB$29,$BB$30,$BB$31,$BB$32,$BB$33) -> #VALUE! | Q32: =MAXA(R32:AX32) -> 0 | R32: {=IF($N32<=INDIRECT("BD"&R$1),IF($N32>=INDIRECT("BC"&R$1),R$1,0),0)} -> 0 | S32: {=IF($N32<=INDIRECT("BD"&S$1),IF($N32>=INDIRECT("BC"&S$1),S$1,0),0)} -> 0 | T32: {=IF($N32<=INDIRECT("BD"&T$1),IF($N32>=INDIRECT("BC"&T$1),T$1,0),0)} -> 0 | U32: {=IF($N32<=INDIRECT("BD"&U$1),IF($N32>=INDIRECT("BC"&U$1),U$1,0),0)} -> 0 | V32: {=IF($N32<=INDIRECT("BD"&V$1),IF($N32>=INDIRECT("BC"&V$1),V$1,0),0)} -> 0 | W32: {=IF($N32<=INDIRECT("BD"&W$1),IF($N32>=INDIRECT("BC"&W$1),W$1,0),0)} -> 0 | X32: {=IF($N32<=INDIRECT("BD"&X$1),IF($N32>=INDIRECT("BC"&X$1),X$1,0),0)} -> 0 | Y32: {=IF($N32<=INDIRECT("BD"&Y$1),IF($N32>=INDIRECT("BC"&Y$1),Y$1,0),0)} -> 0 | ... AW32: {=IF($N32<=INDIRECT("BD"&AW$1),IF($N32>=INDIRECT("BC"&AW$1),AW$1,0),0)} -> 0 | BA32: ALTERNATİF | BB32: sayfa3!AEA2:AEG150 | BC32: =MIN(INDIRECT(BE32)) -> 0 | BD32: =MAXA(INDIRECT(BE32)) -> 0 | BE32: sayfa3!AEM$2:AEM$150
D33: 32 | E33: =IFERROR(VLOOKUP(N34,INDIRECT(P34),1),"") | F33: =IFERROR(VLOOKUP(N34,$N$3:$O$151,2),"") | G33: =IFERROR(VLOOKUP(N34,INDIRECT(P34),2, FALSE),"") | H33: =IFERROR(VLOOKUP(N34,INDIRECT(P34),3, FALSE),"") | I33: =IFERROR(VLOOKUP(N34,INDIRECT(P34),4, FALSE),"") | J33: =IFERROR(VLOOKUP(N34,INDIRECT(P34),5, FALSE),"") | K33: =IFERROR(VLOOKUP(N34,INDIRECT(P34),6, FALSE),"") | L33: =IFERROR(VLOOKUP(N34,INDIRECT(P34),7, FALSE),"") | M33: . | N33: 31 | O33: =CHOOSE(Q33,$BA$1,$BA$2,$BA$3,$BA$4,$BA$5,$BA$6,$BA$7,$BA$8,$BA$9,$BA$10,$BA$11,$BA$12,$BA$13,$BA$14,$BA$15,$BA$16,$BA$17,$BA$18,$BA$19,$BA$20,$BA$21,$BA$22,$BA$23,$BA$24,$BA$25,$BA$26,$BA$27,$BA$28,$BA$29,$BA$30,$BA$31,$BA$32,$BA$33) -> #VALUE! | P33: =CHOOSE(Q33,$BB$1,$BB$2,$BB$3,$BB$4,$BB$5,$BB$6,$BB$7,$BB$8,$BB$9,$BB$10,$BB$11,$BB$12,$BB$13,$BB$14,$BB$15,$BB$16,$BB$17,$BB$18,$BB$19,$BB$20,$BB$21,$BB$22,$BB$23,$BB$24,$BB$25,$BB$26,$BB$27,$BB$28,$BB$29,$BB$30,$BB$31,$BB$32,$BB$33) -> #VALUE! | Q33: =MAXA(R33:AX33) -> 0 | R33: {=IF($N33<=INDIRECT("BD"&R$1),IF($N33>=INDIRECT("BC"&R$1),R$1,0),0)} -> 0 | S33: {=IF($N33<=INDIRECT("BD"&S$1),IF($N33>=INDIRECT("BC"&S$1),S$1,0),0)} -> 0 | T33: {=IF($N33<=INDIRECT("BD"&T$1),IF($N33>=INDIRECT("BC"&T$1),T$1,0),0)} -> 0 | U33: {=IF($N33<=INDIRECT("BD"&U$1),IF($N33>=INDIRECT("BC"&U$1),U$1,0),0)} -> 0 | V33: {=IF($N33<=INDIRECT("BD"&V$1),IF($N33>=INDIRECT("BC"&V$1),V$1,0),0)} -> 0 | W33: {=IF($N33<=INDIRECT("BD"&W$1),IF($N33>=INDIRECT("BC"&W$1),W$1,0),0)} -> 0 | X33: {=IF($N33<=INDIRECT("BD"&X$1),IF($N33>=INDIRECT("BC"&X$1),X$1,0),0)} -> 0 | Y33: {=IF($N33<=INDIRECT("BD"&Y$1),IF($N33>=INDIRECT("BC"&Y$1),Y$1,0),0)} -> 0 | ... AW33: {=IF($N33<=INDIRECT("BD"&AW$1),IF($N33>=INDIRECT("BC"&AW$1),AW$1,0),0)} -> 0 | BB33: sayfa3!AFA2:AFG150 | BC33: =MIN(INDIRECT(BE33)) -> 0 | BD33: =MAXA(INDIRECT(BE33)) -> 0 | BE33: sayfa3!AFM$2:AFM$150
D34: 33 | E34: =IFERROR(VLOOKUP(N35,INDIRECT(P35),1),"") | F34: =IFERROR(VLOOKUP(N35,$N$3:$O$151,2),"") | G34: =IFERROR(VLOOKUP(N35,INDIRECT(P35),2, FALSE),"") | H34: =IFERROR(VLOOKUP(N35,INDIRECT(P35),3, FALSE),"") | I34: =IFERROR(VLOOKUP(N35,INDIRECT(P35),4, FALSE),"") | J34: =IFERROR(VLOOKUP(N35,INDIRECT(P35),5, FALSE),"") | K34: =IFERROR(VLOOKUP(N35,INDIRECT(P35),6, FALSE),"") | L34: =IFERROR(VLOOKUP(N35,INDIRECT(P35),7, FALSE),"") | M34: . | N34: 32 | O34: =CHOOSE(Q34,$BA$1,$BA$2,$BA$3,$BA$4,$BA$5,$BA$6,$BA$7,$BA$8,$BA$9,$BA$10,$BA$11,$BA$12,$BA$13,$BA$14,$BA$15,$BA$16,$BA$17,$BA$18,$BA$19,$BA$20,$BA$21,$BA$22,$BA$23,$BA$24,$BA$25,$BA$26,$BA$27,$BA$28,$BA$29,$BA$30,$BA$31,$BA$32,$BA$33) -> #VALUE! | P34: =CHOOSE(Q34,$BB$1,$BB$2,$BB$3,$BB$4,$BB$5,$BB$6,$BB$7,$BB$8,$BB$9,$BB$10,$BB$11,$BB$12,$BB$13,$BB$14,$BB$15,$BB$16,$BB$17,$BB$18,$BB$19,$BB$20,$BB$21,$BB$22,$BB$23,$BB$24,$BB$25,$BB$26,$BB$27,$BB$28,$BB$29,$BB$30,$BB$31,$BB$32,$BB$33) -> #VALUE! | Q34: =MAXA(R34:AX34) -> 0 | R34: {=IF($N34<=INDIRECT("BD"&R$1),IF($N34>=INDIRECT("BC"&R$1),R$1,0),0)} -> 0 | S34: {=IF($N34<=INDIRECT("BD"&S$1),IF($N34>=INDIRECT("BC"&S$1),S$1,0),0)} -> 0 | T34: {=IF($N34<=INDIRECT("BD"&T$1),IF($N34>=INDIRECT("BC"&T$1),T$1,0),0)} -> 0 | U34: {=IF($N34<=INDIRECT("BD"&U$1),IF($N34>=INDIRECT("BC"&U$1),U$1,0),0)} -> 0 | V34: {=IF($N34<=INDIRECT("BD"&V$1),IF($N34>=INDIRECT("BC"&V$1),V$1,0),0)} -> 0 | W34: {=IF($N34<=INDIRECT("BD"&W$1),IF($N34>=INDIRECT("BC"&W$1),W$1,0),0)} -> 0 | X34: {=IF($N34<=INDIRECT("BD"&X$1),IF($N34>=INDIRECT("BC"&X$1),X$1,0),0)} -> 0 | Y34: {=IF($N34<=INDIRECT("BD"&Y$1),IF($N34>=INDIRECT("BC"&Y$1),Y$1,0),0)} -> 0 | ... AW34: {=IF($N34<=INDIRECT("BD"&AW$1),IF($N34>=INDIRECT("BC"&AW$1),AW$1,0),0)} -> 0
D35: 34 | E35: =IFERROR(VLOOKUP(N36,INDIRECT(P36),1),"") | F35: =IFERROR(VLOOKUP(N36,$N$3:$O$151,2),"") | G35: =IFERROR(VLOOKUP(N36,INDIRECT(P36),2, FALSE),"") | H35: =IFERROR(VLOOKUP(N36,INDIRECT(P36),3, FALSE),"") | I35: =IFERROR(VLOOKUP(N36,INDIRECT(P36),4, FALSE),"") | J35: =IFERROR(VLOOKUP(N36,INDIRECT(P36),5, FALSE),"") | K35: =IFERROR(VLOOKUP(N36,INDIRECT(P36),6, FALSE),"") | L35: =IFERROR(VLOOKUP(N36,INDIRECT(P36),7, FALSE),"") | M35: . | N35: 33 | O35: =CHOOSE(Q35,$BA$1,$BA$2,$BA$3,$BA$4,$BA$5,$BA$6,$BA$7,$BA$8,$BA$9,$BA$10,$BA$11,$BA$12,$BA$13,$BA$14,$BA$15,$BA$16,$BA$17,$BA$18,$BA$19,$BA$20,$BA$21,$BA$22,$BA$23,$BA$24,$BA$25,$BA$26,$BA$27,$BA$28,$BA$29,$BA$30,$BA$31,$BA$32,$BA$33) -> #VALUE! | P35: =CHOOSE(Q35,$BB$1,$BB$2,$BB$3,$BB$4,$BB$5,$BB$6,$BB$7,$BB$8,$BB$9,$BB$10,$BB$11,$BB$12,$BB$13,$BB$14,$BB$15,$BB$16,$BB$17,$BB$18,$BB$19,$BB$20,$BB$21,$BB$22,$BB$23,$BB$24,$BB$25,$BB$26,$BB$27,$BB$28,$BB$29,$BB$30,$BB$31,$BB$32,$BB$33) -> #VALUE! | Q35: =MAXA(R35:AX35) -> 0 | R35: {=IF($N35<=INDIRECT("BD"&R$1),IF($N35>=INDIRECT("BC"&R$1),R$1,0),0)} -> 0 | S35: {=IF($N35<=INDIRECT("BD"&S$1),IF($N35>=INDIRECT("BC"&S$1),S$1,0),0)} -> 0 | T35: {=IF($N35<=INDIRECT("BD"&T$1),IF($N35>=INDIRECT("BC"&T$1),T$1,0),0)} -> 0 | U35: {=IF($N35<=INDIRECT("BD"&U$1),IF($N35>=INDIRECT("BC"&U$1),U$1,0),0)} -> 0 | V35: {=IF($N35<=INDIRECT("BD"&V$1),IF($N35>=INDIRECT("BC"&V$1),V$1,0),0)} -> 0 | W35: {=IF($N35<=INDIRECT("BD"&W$1),IF($N35>=INDIRECT("BC"&W$1),W$1,0),0)} -> 0 | X35: {=IF($N35<=INDIRECT("BD"&X$1),IF($N35>=INDIRECT("BC"&X$1),X$1,0),0)} -> 0 | Y35: {=IF($N35<=INDIRECT("BD"&Y$1),IF($N35>=INDIRECT("BC"&Y$1),Y$1,0),0)} -> 0 | ... AW35: {=IF($N35<=INDIRECT("BD"&AW$1),IF($N35>=INDIRECT("BC"&AW$1),AW$1,0),0)} -> 0
D36: 35 | E36: =IFERROR(VLOOKUP(N37,INDIRECT(P37),1),"") | F36: =IFERROR(VLOOKUP(N37,$N$3:$O$151,2),"") | G36: =IFERROR(VLOOKUP(N37,INDIRECT(P37),2, FALSE),"") | H36: =IFERROR(VLOOKUP(N37,INDIRECT(P37),3, FALSE),"") | I36: =IFERROR(VLOOKUP(N37,INDIRECT(P37),4, FALSE),"") | J36: =IFERROR(VLOOKUP(N37,INDIRECT(P37),5, FALSE),"") | K36: =IFERROR(VLOOKUP(N37,INDIRECT(P37),6, FALSE),"") | L36: =IFERROR(VLOOKUP(N37,INDIRECT(P37),7, FALSE),"") | M36: . | N36: 34 | O36: =CHOOSE(Q36,$BA$1,$BA$2,$BA$3,$BA$4,$BA$5,$BA$6,$BA$7,$BA$8,$BA$9,$BA$10,$BA$11,$BA$12,$BA$13,$BA$14,$BA$15,$BA$16,$BA$17,$BA$18,$BA$19,$BA$20,$BA$21,$BA$22,$BA$23,$BA$24,$BA$25,$BA$26,$BA$27,$BA$28,$BA$29,$BA$30,$BA$31,$BA$32,$BA$33) -> #VALUE! | P36: =CHOOSE(Q36,$BB$1,$BB$2,$BB$3,$BB$4,$BB$5,$BB$6,$BB$7,$BB$8,$BB$9,$BB$10,$BB$11,$BB$12,$BB$13,$BB$14,$BB$15,$BB$16,$BB$17,$BB$18,$BB$19,$BB$20,$BB$21,$BB$22,$BB$23,$BB$24,$BB$25,$BB$26,$BB$27,$BB$28,$BB$29,$BB$30,$BB$31,$BB$32,$BB$33) -> #VALUE! | Q36: =MAXA(R36:AX36) -> 0 | R36: {=IF($N36<=INDIRECT("BD"&R$1),IF($N36>=INDIRECT("BC"&R$1),R$1,0),0)} -> 0 | S36: {=IF($N36<=INDIRECT("BD"&S$1),IF($N36>=INDIRECT("BC"&S$1),S$1,0),0)} -> 0 | T36: {=IF($N36<=INDIRECT("BD"&T$1),IF($N36>=INDIRECT("BC"&T$1),T$1,0),0)} -> 0 | U36: {=IF($N36<=INDIRECT("BD"&U$1),IF($N36>=INDIRECT("BC"&U$1),U$1,0),0)} -> 0 | V36: {=IF($N36<=INDIRECT("BD"&V$1),IF($N36>=INDIRECT("BC"&V$1),V$1,0),0)} -> 0 | W36: {=IF($N36<=INDIRECT("BD"&W$1),IF($N36>=INDIRECT("BC"&W$1),W$1,0),0)} -> 0 | X36: {=IF($N36<=INDIRECT("BD"&X$1),IF($N36>=INDIRECT("BC"&X$1),X$1,0),0)} -> 0 | Y36: {=IF($N36<=INDIRECT("BD"&Y$1),IF($N36>=INDIRECT("BC"&Y$1),Y$1,0),0)} -> 0 | ... AW36: {=IF($N36<=INDIRECT("BD"&AW$1),IF($N36>=INDIRECT("BC"&AW$1),AW$1,0),0)} -> 0
D37: 36 | E37: =IFERROR(VLOOKUP(N38,INDIRECT(P38),1),"") | F37: =IFERROR(VLOOKUP(N38,$N$3:$O$151,2),"") | G37: =IFERROR(VLOOKUP(N38,INDIRECT(P38),2, FALSE),"") | H37: =IFERROR(VLOOKUP(N38,INDIRECT(P38),3, FALSE),"") | I37: =IFERROR(VLOOKUP(N38,INDIRECT(P38),4, FALSE),"") | J37: =IFERROR(VLOOKUP(N38,INDIRECT(P38),5, FALSE),"") | K37: =IFERROR(VLOOKUP(N38,INDIRECT(P38),6, FALSE),"") | L37: =IFERROR(VLOOKUP(N38,INDIRECT(P38),7, FALSE),"") | M37: . | N37: 35 | O37: =CHOOSE(Q37,$BA$1,$BA$2,$BA$3,$BA$4,$BA$5,$BA$6,$BA$7,$BA$8,$BA$9,$BA$10,$BA$11,$BA$12,$BA$13,$BA$14,$BA$15,$BA$16,$BA$17,$BA$18,$BA$19,$BA$20,$BA$21,$BA$22,$BA$23,$BA$24,$BA$25,$BA$26,$BA$27,$BA$28,$BA$29,$BA$30,$BA$31,$BA$32,$BA$33) -> #VALUE! | P37: =CHOOSE(Q37,$BB$1,$BB$2,$BB$3,$BB$4,$BB$5,$BB$6,$BB$7,$BB$8,$BB$9,$BB$10,$BB$11,$BB$12,$BB$13,$BB$14,$BB$15,$BB$16,$BB$17,$BB$18,$BB$19,$BB$20,$BB$21,$BB$22,$BB$23,$BB$24,$BB$25,$BB$26,$BB$27,$BB$28,$BB$29,$BB$30,$BB$31,$BB$32,$BB$33) -> #VALUE! | Q37: =MAXA(R37:AX37) -> 0 | R37: {=IF($N37<=INDIRECT("BD"&R$1),IF($N37>=INDIRECT("BC"&R$1),R$1,0),0)} -> 0 | S37: {=IF($N37<=INDIRECT("BD"&S$1),IF($N37>=INDIRECT("BC"&S$1),S$1,0),0)} -> 0 | T37: {=IF($N37<=INDIRECT("BD"&T$1),IF($N37>=INDIRECT("BC"&T$1),T$1,0),0)} -> 0 | U37: {=IF($N37<=INDIRECT("BD"&U$1),IF($N37>=INDIRECT("BC"&U$1),U$1,0),0)} -> 0 | V37: {=IF($N37<=INDIRECT("BD"&V$1),IF($N37>=INDIRECT("BC"&V$1),V$1,0),0)} -> 0 | W37: {=IF($N37<=INDIRECT("BD"&W$1),IF($N37>=INDIRECT("BC"&W$1),W$1,0),0)} -> 0 | X37: {=IF($N37<=INDIRECT("BD"&X$1),IF($N37>=INDIRECT("BC"&X$1),X$1,0),0)} -> 0 | Y37: {=IF($N37<=INDIRECT("BD"&Y$1),IF($N37>=INDIRECT("BC"&Y$1),Y$1,0),0)} -> 0 | ... AW37: {=IF($N37<=INDIRECT("BD"&AW$1),IF($N37>=INDIRECT("BC"&AW$1),AW$1,0),0)} -> 0
D38: 37 | E38: =IFERROR(VLOOKUP(N39,INDIRECT(P39),1),"") | F38: =IFERROR(VLOOKUP(N39,$N$3:$O$151,2),"") | G38: =IFERROR(VLOOKUP(N39,INDIRECT(P39),2, FALSE),"") | H38: =IFERROR(VLOOKUP(N39,INDIRECT(P39),3, FALSE),"") | I38: =IFERROR(VLOOKUP(N39,INDIRECT(P39),4, FALSE),"") | J38: =IFERROR(VLOOKUP(N39,INDIRECT(P39),5, FALSE),"") | K38: =IFERROR(VLOOKUP(N39,INDIRECT(P39),6, FALSE),"") | L38: =IFERROR(VLOOKUP(N39,INDIRECT(P39),7, FALSE),"") | M38: . | N38: 36 | O38: =CHOOSE(Q38,$BA$1,$BA$2,$BA$3,$BA$4,$BA$5,$BA$6,$BA$7,$BA$8,$BA$9,$BA$10,$BA$11,$BA$12,$BA$13,$BA$14,$BA$15,$BA$16,$BA$17,$BA$18,$BA$19,$BA$20,$BA$21,$BA$22,$BA$23,$BA$24,$BA$25,$BA$26,$BA$27,$BA$28,$BA$29,$BA$30,$BA$31,$BA$32,$BA$33) -> #VALUE! | P38: =CHOOSE(Q38,$BB$1,$BB$2,$BB$3,$BB$4,$BB$5,$BB$6,$BB$7,$BB$8,$BB$9,$BB$10,$BB$11,$BB$12,$BB$13,$BB$14,$BB$15,$BB$16,$BB$17,$BB$18,$BB$19,$BB$20,$BB$21,$BB$22,$BB$23,$BB$24,$BB$25,$BB$26,$BB$27,$BB$28,$BB$29,$BB$30,$BB$31,$BB$32,$BB$33) -> #VALUE! | Q38: =MAXA(R38:AX38) -> 0 | R38: {=IF($N38<=INDIRECT("BD"&R$1),IF($N38>=INDIRECT("BC"&R$1),R$1,0),0)} -> 0 | S38: {=IF($N38<=INDIRECT("BD"&S$1),IF($N38>=INDIRECT("BC"&S$1),S$1,0),0)} -> 0 | T38: {=IF($N38<=INDIRECT("BD"&T$1),IF($N38>=INDIRECT("BC"&T$1),T$1,0),0)} -> 0 | U38: {=IF($N38<=INDIRECT("BD"&U$1),IF($N38>=INDIRECT("BC"&U$1),U$1,0),0)} -> 0 | V38: {=IF($N38<=INDIRECT("BD"&V$1),IF($N38>=INDIRECT("BC"&V$1),V$1,0),0)} -> 0 | W38: {=IF($N38<=INDIRECT("BD"&W$1),IF($N38>=INDIRECT("BC"&W$1),W$1,0),0)} -> 0 | X38: {=IF($N38<=INDIRECT("BD"&X$1),IF($N38>=INDIRECT("BC"&X$1),X$1,0),0)} -> 0 | Y38: {=IF($N38<=INDIRECT("BD"&Y$1),IF($N38>=INDIRECT("BC"&Y$1),Y$1,0),0)} -> 0 | ... AW38: {=IF($N38<=INDIRECT("BD"&AW$1),IF($N38>=INDIRECT("BC"&AW$1),AW$1,0),0)} -> 0
D39: 38 | E39: =IFERROR(VLOOKUP(N40,INDIRECT(P40),1),"") | F39: =IFERROR(VLOOKUP(N40,$N$3:$O$151,2),"") | G39: =IFERROR(VLOOKUP(N40,INDIRECT(P40),2, FALSE),"") | H39: =IFERROR(VLOOKUP(N40,INDIRECT(P40),3, FALSE),"") | I39: =IFERROR(VLOOKUP(N40,INDIRECT(P40),4, FALSE),"") | J39: =IFERROR(VLOOKUP(N40,INDIRECT(P40),5, FALSE),"") | K39: =IFERROR(VLOOKUP(N40,INDIRECT(P40),6, FALSE),"") | L39: =IFERROR(VLOOKUP(N40,INDIRECT(P40),7, FALSE),"") | M39: . | N39: 37 | O39: =CHOOSE(Q39,$BA$1,$BA$2,$BA$3,$BA$4,$BA$5,$BA$6,$BA$7,$BA$8,$BA$9,$BA$10,$BA$11,$BA$12,$BA$13,$BA$14,$BA$15,$BA$16,$BA$17,$BA$18,$BA$19,$BA$20,$BA$21,$BA$22,$BA$23,$BA$24,$BA$25,$BA$26,$BA$27,$BA$28,$BA$29,$BA$30,$BA$31,$BA$32,$BA$33) -> #VALUE! | P39: =CHOOSE(Q39,$BB$1,$BB$2,$BB$3,$BB$4,$BB$5,$BB$6,$BB$7,$BB$8,$BB$9,$BB$10,$BB$11,$BB$12,$BB$13,$BB$14,$BB$15,$BB$16,$BB$17,$BB$18,$BB$19,$BB$20,$BB$21,$BB$22,$BB$23,$BB$24,$BB$25,$BB$26,$BB$27,$BB$28,$BB$29,$BB$30,$BB$31,$BB$32,$BB$33) -> #VALUE! | Q39: =MAXA(R39:AX39) -> 0 | R39: {=IF($N39<=INDIRECT("BD"&R$1),IF($N39>=INDIRECT("BC"&R$1),R$1,0),0)} -> 0 | S39: {=IF($N39<=INDIRECT("BD"&S$1),IF($N39>=INDIRECT("BC"&S$1),S$1,0),0)} -> 0 | T39: {=IF($N39<=INDIRECT("BD"&T$1),IF($N39>=INDIRECT("BC"&T$1),T$1,0),0)} -> 0 | U39: {=IF($N39<=INDIRECT("BD"&U$1),IF($N39>=INDIRECT("BC"&U$1),U$1,0),0)} -> 0 | V39: {=IF($N39<=INDIRECT("BD"&V$1),IF($N39>=INDIRECT("BC"&V$1),V$1,0),0)} -> 0 | W39: {=IF($N39<=INDIRECT("BD"&W$1),IF($N39>=INDIRECT("BC"&W$1),W$1,0),0)} -> 0 | X39: {=IF($N39<=INDIRECT("BD"&X$1),IF($N39>=INDIRECT("BC"&X$1),X$1,0),0)} -> 0 | Y39: {=IF($N39<=INDIRECT("BD"&Y$1),IF($N39>=INDIRECT("BC"&Y$1),Y$1,0),0)} -> 0 | ... AW39: {=IF($N39<=INDIRECT("BD"&AW$1),IF($N39>=INDIRECT("BC"&AW$1),AW$1,0),0)} -> 0
D40: 39 | E40: =IFERROR(VLOOKUP(N41,INDIRECT(P41),1),"") | F40: =IFERROR(VLOOKUP(N41,$N$3:$O$151,2),"") | G40: =IFERROR(VLOOKUP(N41,INDIRECT(P41),2, FALSE),"") | H40: =IFERROR(VLOOKUP(N41,INDIRECT(P41),3, FALSE),"") | I40: =IFERROR(VLOOKUP(N41,INDIRECT(P41),4, FALSE),"") | J40: =IFERROR(VLOOKUP(N41,INDIRECT(P41),5, FALSE),"") | K40: =IFERROR(VLOOKUP(N41,INDIRECT(P41),6, FALSE),"") | L40: =IFERROR(VLOOKUP(N41,INDIRECT(P41),7, FALSE),"") | M40: . | N40: 38 | O40: =CHOOSE(Q40,$BA$1,$BA$2,$BA$3,$BA$4,$BA$5,$BA$6,$BA$7,$BA$8,$BA$9,$BA$10,$BA$11,$BA$12,$BA$13,$BA$14,$BA$15,$BA$16,$BA$17,$BA$18,$BA$19,$BA$20,$BA$21,$BA$22,$BA$23,$BA$24,$BA$25,$BA$26,$BA$27,$BA$28,$BA$29,$BA$30,$BA$31,$BA$32,$BA$33) -> #VALUE! | P40: =CHOOSE(Q40,$BB$1,$BB$2,$BB$3,$BB$4,$BB$5,$BB$6,$BB$7,$BB$8,$BB$9,$BB$10,$BB$11,$BB$12,$BB$13,$BB$14,$BB$15,$BB$16,$BB$17,$BB$18,$BB$19,$BB$20,$BB$21,$BB$22,$BB$23,$BB$24,$BB$25,$BB$26,$BB$27,$BB$28,$BB$29,$BB$30,$BB$31,$BB$32,$BB$33) -> #VALUE! | Q40: =MAXA(R40:AX40) -> 0 | R40: {=IF($N40<=INDIRECT("BD"&R$1),IF($N40>=INDIRECT("BC"&R$1),R$1,0),0)} -> 0 | S40: {=IF($N40<=INDIRECT("BD"&S$1),IF($N40>=INDIRECT("BC"&S$1),S$1,0),0)} -> 0 | T40: {=IF($N40<=INDIRECT("BD"&T$1),IF($N40>=INDIRECT("BC"&T$1),T$1,0),0)} -> 0 | U40: {=IF($N40<=INDIRECT("BD"&U$1),IF($N40>=INDIRECT("BC"&U$1),U$1,0),0)} -> 0 | V40: {=IF($N40<=INDIRECT("BD"&V$1),IF($N40>=INDIRECT("BC"&V$1),V$1,0),0)} -> 0 | W40: {=IF($N40<=INDIRECT("BD"&W$1),IF($N40>=INDIRECT("BC"&W$1),W$1,0),0)} -> 0 | X40: {=IF($N40<=INDIRECT("BD"&X$1),IF($N40>=INDIRECT("BC"&X$1),X$1,0),0)} -> 0 | Y40: {=IF($N40<=INDIRECT("BD"&Y$1),IF($N40>=INDIRECT("BC"&Y$1),Y$1,0),0)} -> 0 | ... AW40: {=IF($N40<=INDIRECT("BD"&AW$1),IF($N40>=INDIRECT("BC"&AW$1),AW$1,0),0)} -> 0
D41: 40 | E41: =IFERROR(VLOOKUP(N42,INDIRECT(P42),1),"") | F41: =IFERROR(VLOOKUP(N42,$N$3:$O$151,2),"") | G41: =IFERROR(VLOOKUP(N42,INDIRECT(P42),2, FALSE),"") | H41: =IFERROR(VLOOKUP(N42,INDIRECT(P42),3, FALSE),"") | I41: =IFERROR(VLOOKUP(N42,INDIRECT(P42),4, FALSE),"") | J41: =IFERROR(VLOOKUP(N42,INDIRECT(P42),5, FALSE),"") | K41: =IFERROR(VLOOKUP(N42,INDIRECT(P42),6, FALSE),"") | L41: =IFERROR(VLOOKUP(N42,INDIRECT(P42),7, FALSE),"") | M41: . | N41: 39 | O41: =CHOOSE(Q41,$BA$1,$BA$2,$BA$3,$BA$4,$BA$5,$BA$6,$BA$7,$BA$8,$BA$9,$BA$10,$BA$11,$BA$12,$BA$13,$BA$14,$BA$15,$BA$16,$BA$17,$BA$18,$BA$19,$BA$20,$BA$21,$BA$22,$BA$23,$BA$24,$BA$25,$BA$26,$BA$27,$BA$28,$BA$29,$BA$30,$BA$31,$BA$32,$BA$33) -> #VALUE! | P41: =CHOOSE(Q41,$BB$1,$BB$2,$BB$3,$BB$4,$BB$5,$BB$6,$BB$7,$BB$8,$BB$9,$BB$10,$BB$11,$BB$12,$BB$13,$BB$14,$BB$15,$BB$16,$BB$17,$BB$18,$BB$19,$BB$20,$BB$21,$BB$22,$BB$23,$BB$24,$BB$25,$BB$26,$BB$27,$BB$28,$BB$29,$BB$30,$BB$31,$BB$32,$BB$33) -> #VALUE! | Q41: =MAXA(R41:AX41) -> 0 | R41: {=IF($N41<=INDIRECT("BD"&R$1),IF($N41>=INDIRECT("BC"&R$1),R$1,0),0)} -> 0 | S41: {=IF($N41<=INDIRECT("BD"&S$1),IF($N41>=INDIRECT("BC"&S$1),S$1,0),0)} -> 0 | T41: {=IF($N41<=INDIRECT("BD"&T$1),IF($N41>=INDIRECT("BC"&T$1),T$1,0),0)} -> 0 | U41: {=IF($N41<=INDIRECT("BD"&U$1),IF($N41>=INDIRECT("BC"&U$1),U$1,0),0)} -> 0 | V41: {=IF($N41<=INDIRECT("BD"&V$1),IF($N41>=INDIRECT("BC"&V$1),V$1,0),0)} -> 0 | W41: {=IF($N41<=INDIRECT("BD"&W$1),IF($N41>=INDIRECT("BC"&W$1),W$1,0),0)} -> 0 | X41: {=IF($N41<=INDIRECT("BD"&X$1),IF($N41>=INDIRECT("BC"&X$1),X$1,0),0)} -> 0 | Y41: {=IF($N41<=INDIRECT("BD"&Y$1),IF($N41>=INDIRECT("BC"&Y$1),Y$1,0),0)} -> 0 | ... AW41: {=IF($N41<=INDIRECT("BD"&AW$1),IF($N41>=INDIRECT("BC"&AW$1),AW$1,0),0)} -> 0
D42: 41 | E42: =IFERROR(VLOOKUP(N43,INDIRECT(P43),1),"") | F42: =IFERROR(VLOOKUP(N43,$N$3:$O$151,2),"") | G42: =IFERROR(VLOOKUP(N43,INDIRECT(P43),2, FALSE),"") | H42: =IFERROR(VLOOKUP(N43,INDIRECT(P43),3, FALSE),"") | I42: =IFERROR(VLOOKUP(N43,INDIRECT(P43),4, FALSE),"") | J42: =IFERROR(VLOOKUP(N43,INDIRECT(P43),5, FALSE),"") | K42: =IFERROR(VLOOKUP(N43,INDIRECT(P43),6, FALSE),"") | L42: =IFERROR(VLOOKUP(N43,INDIRECT(P43),7, FALSE),"") | M42: . | N42: 40 | O42: =CHOOSE(Q42,$BA$1,$BA$2,$BA$3,$BA$4,$BA$5,$BA$6,$BA$7,$BA$8,$BA$9,$BA$10,$BA$11,$BA$12,$BA$13,$BA$14,$BA$15,$BA$16,$BA$17,$BA$18,$BA$19,$BA$20,$BA$21,$BA$22,$BA$23,$BA$24,$BA$25,$BA$26,$BA$27,$BA$28,$BA$29,$BA$30,$BA$31,$BA$32,$BA$33) -> #VALUE! | P42: =CHOOSE(Q42,$BB$1,$BB$2,$BB$3,$BB$4,$BB$5,$BB$6,$BB$7,$BB$8,$BB$9,$BB$10,$BB$11,$BB$12,$BB$13,$BB$14,$BB$15,$BB$16,$BB$17,$BB$18,$BB$19,$BB$20,$BB$21,$BB$22,$BB$23,$BB$24,$BB$25,$BB$26,$BB$27,$BB$28,$BB$29,$BB$30,$BB$31,$BB$32,$BB$33) -> #VALUE! | Q42: =MAXA(R42:AX42) -> 0 | R42: {=IF($N42<=INDIRECT("BD"&R$1),IF($N42>=INDIRECT("BC"&R$1),R$1,0),0)} -> 0 | S42: {=IF($N42<=INDIRECT("BD"&S$1),IF($N42>=INDIRECT("BC"&S$1),S$1,0),0)} -> 0 | T42: {=IF($N42<=INDIRECT("BD"&T$1),IF($N42>=INDIRECT("BC"&T$1),T$1,0),0)} -> 0 | U42: {=IF($N42<=INDIRECT("BD"&U$1),IF($N42>=INDIRECT("BC"&U$1),U$1,0),0)} -> 0 | V42: {=IF($N42<=INDIRECT("BD"&V$1),IF($N42>=INDIRECT("BC"&V$1),V$1,0),0)} -> 0 | W42: {=IF($N42<=INDIRECT("BD"&W$1),IF($N42>=INDIRECT("BC"&W$1),W$1,0),0)} -> 0 | X42: {=IF($N42<=INDIRECT("BD"&X$1),IF($N42>=INDIRECT("BC"&X$1),X$1,0),0)} -> 0 | Y42: {=IF($N42<=INDIRECT("BD"&Y$1),IF($N42>=INDIRECT("BC"&Y$1),Y$1,0),0)} -> 0 | ... AW42: {=IF($N42<=INDIRECT("BD"&AW$1),IF($N42>=INDIRECT("BC"&AW$1),AW$1,0),0)} -> 0
D43: 42 | E43: =IFERROR(VLOOKUP(N44,INDIRECT(P44),1),"") | F43: =IFERROR(VLOOKUP(N44,$N$3:$O$151,2),"") | G43: =IFERROR(VLOOKUP(N44,INDIRECT(P44),2, FALSE),"") | H43: =IFERROR(VLOOKUP(N44,INDIRECT(P44),3, FALSE),"") | I43: =IFERROR(VLOOKUP(N44,INDIRECT(P44),4, FALSE),"") | J43: =IFERROR(VLOOKUP(N44,INDIRECT(P44),5, FALSE),"") | K43: =IFERROR(VLOOKUP(N44,INDIRECT(P44),6, FALSE),"") | L43: =IFERROR(VLOOKUP(N44,INDIRECT(P44),7, FALSE),"") | M43: . | N43: 41 | O43: =CHOOSE(Q43,$BA$1,$BA$2,$BA$3,$BA$4,$BA$5,$BA$6,$BA$7,$BA$8,$BA$9,$BA$10,$BA$11,$BA$12,$BA$13,$BA$14,$BA$15,$BA$16,$BA$17,$BA$18,$BA$19,$BA$20,$BA$21,$BA$22,$BA$23,$BA$24,$BA$25,$BA$26,$BA$27,$BA$28,$BA$29,$BA$30,$BA$31,$BA$32,$BA$33) -> #VALUE! | P43: =CHOOSE(Q43,$BB$1,$BB$2,$BB$3,$BB$4,$BB$5,$BB$6,$BB$7,$BB$8,$BB$9,$BB$10,$BB$11,$BB$12,$BB$13,$BB$14,$BB$15,$BB$16,$BB$17,$BB$18,$BB$19,$BB$20,$BB$21,$BB$22,$BB$23,$BB$24,$BB$25,$BB$26,$BB$27,$BB$28,$BB$29,$BB$30,$BB$31,$BB$32,$BB$33) -> #VALUE! | Q43: =MAXA(R43:AX43) -> 0 | R43: {=IF($N43<=INDIRECT("BD"&R$1),IF($N43>=INDIRECT("BC"&R$1),R$1,0),0)} -> 0 | S43: {=IF($N43<=INDIRECT("BD"&S$1),IF($N43>=INDIRECT("BC"&S$1),S$1,0),0)} -> 0 | T43: {=IF($N43<=INDIRECT("BD"&T$1),IF($N43>=INDIRECT("BC"&T$1),T$1,0),0)} -> 0 | U43: {=IF($N43<=INDIRECT("BD"&U$1),IF($N43>=INDIRECT("BC"&U$1),U$1,0),0)} -> 0 | V43: {=IF($N43<=INDIRECT("BD"&V$1),IF($N43>=INDIRECT("BC"&V$1),V$1,0),0)} -> 0 | W43: {=IF($N43<=INDIRECT("BD"&W$1),IF($N43>=INDIRECT("BC"&W$1),W$1,0),0)} -> 0 | X43: {=IF($N43<=INDIRECT("BD"&X$1),IF($N43>=INDIRECT("BC"&X$1),X$1,0),0)} -> 0 | Y43: {=IF($N43<=INDIRECT("BD"&Y$1),IF($N43>=INDIRECT("BC"&Y$1),Y$1,0),0)} -> 0 | ... AW43: {=IF($N43<=INDIRECT("BD"&AW$1),IF($N43>=INDIRECT("BC"&AW$1),AW$1,0),0)} -> 0
D44: 43 | E44: =IFERROR(VLOOKUP(N45,INDIRECT(P45),1),"") | F44: =IFERROR(VLOOKUP(N45,$N$3:$O$151,2),"") | G44: =IFERROR(VLOOKUP(N45,INDIRECT(P45),2, FALSE),"") | H44: =IFERROR(VLOOKUP(N45,INDIRECT(P45),3, FALSE),"") | I44: =IFERROR(VLOOKUP(N45,INDIRECT(P45),4, FALSE),"") | J44: =IFERROR(VLOOKUP(N45,INDIRECT(P45),5, FALSE),"") | K44: =IFERROR(VLOOKUP(N45,INDIRECT(P45),6, FALSE),"") | L44: =IFERROR(VLOOKUP(N45,INDIRECT(P45),7, FALSE),"") | M44: . | N44: 42 | O44: =CHOOSE(Q44,$BA$1,$BA$2,$BA$3,$BA$4,$BA$5,$BA$6,$BA$7,$BA$8,$BA$9,$BA$10,$BA$11,$BA$12,$BA$13,$BA$14,$BA$15,$BA$16,$BA$17,$BA$18,$BA$19,$BA$20,$BA$21,$BA$22,$BA$23,$BA$24,$BA$25,$BA$26,$BA$27,$BA$28,$BA$29,$BA$30,$BA$31,$BA$32,$BA$33) -> #VALUE! | P44: =CHOOSE(Q44,$BB$1,$BB$2,$BB$3,$BB$4,$BB$5,$BB$6,$BB$7,$BB$8,$BB$9,$BB$10,$BB$11,$BB$12,$BB$13,$BB$14,$BB$15,$BB$16,$BB$17,$BB$18,$BB$19,$BB$20,$BB$21,$BB$22,$BB$23,$BB$24,$BB$25,$BB$26,$BB$27,$BB$28,$BB$29,$BB$30,$BB$31,$BB$32,$BB$33) -> #VALUE! | Q44: =MAXA(R44:AX44) -> 0 | R44: {=IF($N44<=INDIRECT("BD"&R$1),IF($N44>=INDIRECT("BC"&R$1),R$1,0),0)} -> 0 | S44: {=IF($N44<=INDIRECT("BD"&S$1),IF($N44>=INDIRECT("BC"&S$1),S$1,0),0)} -> 0 | T44: {=IF($N44<=INDIRECT("BD"&T$1),IF($N44>=INDIRECT("BC"&T$1),T$1,0),0)} -> 0 | U44: {=IF($N44<=INDIRECT("BD"&U$1),IF($N44>=INDIRECT("BC"&U$1),U$1,0),0)} -> 0 | V44: {=IF($N44<=INDIRECT("BD"&V$1),IF($N44>=INDIRECT("BC"&V$1),V$1,0),0)} -> 0 | W44: {=IF($N44<=INDIRECT("BD"&W$1),IF($N44>=INDIRECT("BC"&W$1),W$1,0),0)} -> 0 | X44: {=IF($N44<=INDIRECT("BD"&X$1),IF($N44>=INDIRECT("BC"&X$1),X$1,0),0)} -> 0 | Y44: {=IF($N44<=INDIRECT("BD"&Y$1),IF($N44>=INDIRECT("BC"&Y$1),Y$1,0),0)} -> 0 | ... AW44: {=IF($N44<=INDIRECT("BD"&AW$1),IF($N44>=INDIRECT("BC"&AW$1),AW$1,0),0)} -> 0
D45: 44 | E45: =IFERROR(VLOOKUP(N46,INDIRECT(P46),1),"") | F45: =IFERROR(VLOOKUP(N46,$N$3:$O$151,2),"") | G45: =IFERROR(VLOOKUP(N46,INDIRECT(P46),2, FALSE),"") | H45: =IFERROR(VLOOKUP(N46,INDIRECT(P46),3, FALSE),"") | I45: =IFERROR(VLOOKUP(N46,INDIRECT(P46),4, FALSE),"") | J45: =IFERROR(VLOOKUP(N46,INDIRECT(P46),5, FALSE),"") | K45: =IFERROR(VLOOKUP(N46,INDIRECT(P46),6, FALSE),"") | L45: =IFERROR(VLOOKUP(N46,INDIRECT(P46),7, FALSE),"") | M45: . | N45: 43 | O45: =CHOOSE(Q45,$BA$1,$BA$2,$BA$3,$BA$4,$BA$5,$BA$6,$BA$7,$BA$8,$BA$9,$BA$10,$BA$11,$BA$12,$BA$13,$BA$14,$BA$15,$BA$16,$BA$17,$BA$18,$BA$19,$BA$20,$BA$21,$BA$22,$BA$23,$BA$24,$BA$25,$BA$26,$BA$27,$BA$28,$BA$29,$BA$30,$BA$31,$BA$32,$BA$33) -> #VALUE! | P45: =CHOOSE(Q45,$BB$1,$BB$2,$BB$3,$BB$4,$BB$5,$BB$6,$BB$7,$BB$8,$BB$9,$BB$10,$BB$11,$BB$12,$BB$13,$BB$14,$BB$15,$BB$16,$BB$17,$BB$18,$BB$19,$BB$20,$BB$21,$BB$22,$BB$23,$BB$24,$BB$25,$BB$26,$BB$27,$BB$28,$BB$29,$BB$30,$BB$31,$BB$32,$BB$33) -> #VALUE! | Q45: =MAXA(R45:AX45) -> 0 | R45: {=IF($N45<=INDIRECT("BD"&R$1),IF($N45>=INDIRECT("BC"&R$1),R$1,0),0)} -> 0 | S45: {=IF($N45<=INDIRECT("BD"&S$1),IF($N45>=INDIRECT("BC"&S$1),S$1,0),0)} -> 0 | T45: {=IF($N45<=INDIRECT("BD"&T$1),IF($N45>=INDIRECT("BC"&T$1),T$1,0),0)} -> 0 | U45: {=IF($N45<=INDIRECT("BD"&U$1),IF($N45>=INDIRECT("BC"&U$1),U$1,0),0)} -> 0 | V45: {=IF($N45<=INDIRECT("BD"&V$1),IF($N45>=INDIRECT("BC"&V$1),V$1,0),0)} -> 0 | W45: {=IF($N45<=INDIRECT("BD"&W$1),IF($N45>=INDIRECT("BC"&W$1),W$1,0),0)} -> 0 | X45: {=IF($N45<=INDIRECT("BD"&X$1),IF($N45>=INDIRECT("BC"&X$1),X$1,0),0)} -> 0 | Y45: {=IF($N45<=INDIRECT("BD"&Y$1),IF($N45>=INDIRECT("BC"&Y$1),Y$1,0),0)} -> 0 | ... AW45: {=IF($N45<=INDIRECT("BD"&AW$1),IF($N45>=INDIRECT("BC"&AW$1),AW$1,0),0)} -> 0
... D51: 50 | E51: =IFERROR(VLOOKUP(N52,INDIRECT(P52),1),"") | F51: =IFERROR(VLOOKUP(N52,$N$3:$O$151,2),"") | G51: =IFERROR(VLOOKUP(N52,INDIRECT(P52),2, FALSE),"") | H51: =IFERROR(VLOOKUP(N52,INDIRECT(P52),3, FALSE),"") | I51: =IFERROR(VLOOKUP(N52,INDIRECT(P52),4, FALSE),"") | J51: =IFERROR(VLOOKUP(N52,INDIRECT(P52),5, FALSE),"") | K51: =IFERROR(VLOOKUP(N52,INDIRECT(P52),6, FALSE),"") | L51: =IFERROR(VLOOKUP(N52,INDIRECT(P52),7, FALSE),"") | M51: . | N51: 49 | O51: =CHOOSE(Q51,$BA$1,$BA$2,$BA$3,$BA$4,$BA$5,$BA$6,$BA$7,$BA$8,$BA$9,$BA$10,$BA$11,$BA$12,$BA$13,$BA$14,$BA$15,$BA$16,$BA$17,$BA$18,$BA$19,$BA$20,$BA$21,$BA$22,$BA$23,$BA$24,$BA$25,$BA$26,$BA$27,$BA$28,$BA$29,$BA$30,$BA$31,$BA$32,$BA$33) -> #VALUE! | P51: =CHOOSE(Q51,$BB$1,$BB$2,$BB$3,$BB$4,$BB$5,$BB$6,$BB$7,$BB$8,$BB$9,$BB$10,$BB$11,$BB$12,$BB$13,$BB$14,$BB$15,$BB$16,$BB$17,$BB$18,$BB$19,$BB$20,$BB$21,$BB$22,$BB$23,$BB$24,$BB$25,$BB$26,$BB$27,$BB$28,$BB$29,$BB$30,$BB$31,$BB$32,$BB$33) -> #VALUE! | Q51: =MAXA(R51:AX51) -> 0 | R51: {=IF($N51<=INDIRECT("BD"&R$1),IF($N51>=INDIRECT("BC"&R$1),R$1,0),0)} -> 0 | S51: {=IF($N51<=INDIRECT("BD"&S$1),IF($N51>=INDIRECT("BC"&S$1),S$1,0),0)} -> 0 | T51: {=IF($N51<=INDIRECT("BD"&T$1),IF($N51>=INDIRECT("BC"&T$1),T$1,0),0)} -> 0 | U51: {=IF($N51<=INDIRECT("BD"&U$1),IF($N51>=INDIRECT("BC"&U$1),U$1,0),0)} -> 0 | V51: {=IF($N51<=INDIRECT("BD"&V$1),IF($N51>=INDIRECT("BC"&V$1),V$1,0),0)} -> 0 | W51: {=IF($N51<=INDIRECT("BD"&W$1),IF($N51>=INDIRECT("BC"&W$1),W$1,0),0)} -> 0 | X51: {=IF($N51<=INDIRECT("BD"&X$1),IF($N51>=INDIRECT("BC"&X$1),X$1,0),0)} -> 0 | Y51: {=IF($N51<=INDIRECT("BD"&Y$1),IF($N51>=INDIRECT("BC"&Y$1),Y$1,0),0)} -> 0 | ... AW51: {=IF($N51<=INDIRECT("BD"&AW$1),IF($N51>=INDIRECT("BC"&AW$1),AW$1,0),0)} -> 0
M52: . | N52: 50 | O52: =CHOOSE(Q52,$BA$1,$BA$2,$BA$3,$BA$4,$BA$5,$BA$6,$BA$7,$BA$8,$BA$9,$BA$10,$BA$11,$BA$12,$BA$13,$BA$14,$BA$15,$BA$16,$BA$17,$BA$18,$BA$19,$BA$20,$BA$21,$BA$22,$BA$23,$BA$24,$BA$25,$BA$26,$BA$27,$BA$28,$BA$29,$BA$30,$BA$31,$BA$32,$BA$33) -> #VALUE! | P52: =CHOOSE(Q52,$BB$1,$BB$2,$BB$3,$BB$4,$BB$5,$BB$6,$BB$7,$BB$8,$BB$9,$BB$10,$BB$11,$BB$12,$BB$13,$BB$14,$BB$15,$BB$16,$BB$17,$BB$18,$BB$19,$BB$20,$BB$21,$BB$22,$BB$23,$BB$24,$BB$25,$BB$26,$BB$27,$BB$28,$BB$29,$BB$30,$BB$31,$BB$32,$BB$33) -> #VALUE! | Q52: =MAXA(R52:AX52) -> 0 | R52: {=IF($N52<=INDIRECT("BD"&R$1),IF($N52>=INDIRECT("BC"&R$1),R$1,0),0)} -> 0 | S52: {=IF($N52<=INDIRECT("BD"&S$1),IF($N52>=INDIRECT("BC"&S$1),S$1,0),0)} -> 0 | T52: {=IF($N52<=INDIRECT("BD"&T$1),IF($N52>=INDIRECT("BC"&T$1),T$1,0),0)} -> 0 | U52: {=IF($N52<=INDIRECT("BD"&U$1),IF($N52>=INDIRECT("BC"&U$1),U$1,0),0)} -> 0 | V52: {=IF($N52<=INDIRECT("BD"&V$1),IF($N52>=INDIRECT("BC"&V$1),V$1,0),0)} -> 0 | W52: {=IF($N52<=INDIRECT("BD"&W$1),IF($N52>=INDIRECT("BC"&W$1),W$1,0),0)} -> 0 | X52: {=IF($N52<=INDIRECT("BD"&X$1),IF($N52>=INDIRECT("BC"&X$1),X$1,0),0)} -> 0 | Y52: {=IF($N52<=INDIRECT("BD"&Y$1),IF($N52>=INDIRECT("BC"&Y$1),Y$1,0),0)} -> 0 | ... AW52: {=IF($N52<=INDIRECT("BD"&AW$1),IF($N52>=INDIRECT("BC"&AW$1),AW$1,0),0)} -> 0
M53: .
M54: .
M55: .
M56: .
M57: .
M58: .
M59: .
...

Sheet sayfa2
A1: =MAXA(A2:A150) -> 6 | I1: . | R1: 1 | S1: 2 | T1: 3 | U1: 4 | V1: 5 | W1: 6 | X1: 7 | Y1: 8 | Z1: 9 | AA1: 10 | AB1: 11 | AC1: 12 | AD1: 13 | AE1: 14 | AF1: 15 | AG1: 16 | AH1: 17 | AI1: 18 | AJ1: 19 | AK1: 20 | AL1: 21 | AM1: 22 | AN1: 23 | AO1: 24 | AP1: 25 | AQ1: 26 | AR1: 27 | AS1: 28 | AT1: 29 | AU1: 30 | AV1: 31 | AW1: 32 | AX1: 33 | BA1: DOKUZPINAR | BB1: sayfa3!J2:K150 | BC1: =MIN(INDIRECT(BE1)) -> 0 | BD1: =MAXA(INDIRECT(BE1)) -> 0 | BE1: sayfa3!J$2:J$150
A2: =IFERROR(VLOOKUP(N3,INDIRECT(P3),1),"") -> 1 | B2: =IFERROR(VLOOKUP(N3,$N$3:$O$151,2),"") -> ANA DEPOLAR | C2: =IFERROR(VLOOKUP(N3,INDIRECT(P3),2, FALSE),"") -> TAVLUSUN KOOPERATİF SONDAJ | I2: . | R2: DOKUZPINAR | S2: ERCİYES | T2: ANA DEPOLAR 1 | U2: ANA DEPOLAR 2 | V2: ANA DEPOLAR 3 | W2: HACILAR | X2: MELİKGAZİ 1 | Y2: MELİKGAZİ 2 | Z2: KOCASİNAN (YEM) | AA2: KOCASİNAN 1 | AB2: KOCASİNAN 2 | AC2: TALAS | AD2: AKKIŞLA | AE2: BÜNYAN | AF2: DEVELİ 1 | AG2: DEVELİ 2 | AH2: FELAHİYE | AI2: İNCESU | AJ2: ÖZVATAN | AK2: PINARBAŞI 1 | AL2: PINARBAŞI 2 | AM2: DADALOĞLU | AN2: SARIOĞLAN | AO2: SARIZ | AP2: TOMARZA 1 | AQ2: TOMARZA 2 | AR2: YAHYALI | AS2: YEŞİLHİSAR | AT2: DMA | AU2: DMA | AV2: KANAL | AW2: ALTERNATİF | BA2: ERCİYES | BB2: sayfa3!AI2:AJ150 | BC2: =MIN(INDIRECT(BE2)) -> 0 | BD2: =MAXA(INDIRECT(BE2)) -> 0 | BE2: sayfa3!AI$2:AI$150
