Workbook

Sheet sayfa1
A1: DataTemplateV1,4-130925 | B1: Veri | M1: . | R1: 1 | S1: 2 | T1: 3 | U1: 4 | V1: 5 | W1: 6 | X1: 7 | Y1: 8 | Z1: 9 | AA1: 10 | AB1: 11 | AC1: 12 | AD1: 13 | AE1: 14 | AF1: 15 | AG1: 16 | AH1: 17 | AI1: 18 | AJ1: 19 | AK1: 20 | AL1: 21 | AM1: 22 | AN1: 23 | AO1: 24 | AP1: 25 | AQ1: 26 | AR1: 27 | AS1: 28 | AT1: 29 | AU1: 30 | AV1: 31 | AW1: 32 | AX1: 33 | BA1: DOKUZPINAR | BB1: sayfa3!B2:H150 | BC1: =MIN(INDIRECT(BE1)) -> 0 | BD1: =MAXA(INDIRECT(BE1)) -> 0 | BE1: sayfa3!N$2:N$150
A2: anayurt | B2: Arama | D2: 1 | E2: =IFERROR(VLOOKUP(N3,INDIRECT(P3),1),"") -> 1 | F2: =IFERROR(VLOOKUP(N3,$N$3:$O$151,2),"") -> ANA DEPOLAR | G2: =IFERROR(VLOOKUP(N3,INDIRECT(P3),2, FALSE),"") -> ANAYURT SONDAJ 1 | H2: =IFERROR(VLOOKUP(N3,INDIRECT(P3),3, FALSE),"") -> 38.712423 | I2: =IFERROR(VLOOKUP(N3,INDIRECT(P3),4, FALSE),"") -> 35.564252 | J2: =IFERROR(VLOOKUP(N3,INDIRECT(P3),5, FALSE),"") -> https://maps.yandex.ru/?ll=38.712423%2035.564252&z=16&text=38.712423%2035.564252 | K2: =IFERROR(VLOOKUP(N3,INDIRECT(P3),6, FALSE),"") -> https://maps.google.com/maps?q=38.712423%2C35.564252 | L2: =IFERROR(VLOOKUP(N3,INDIRECT(P3),7, FALSE),"") -> Açıklama: | M2: . | R2: DOKUZPINAR | S2: ERCİYES | T2: ANA DEPOLAR 1 | U2: ANA DEPOLAR 2 | V2: ANA DEPOLAR 3 | W2: HACILAR | X2: MELİKGAZİ 1 | Y2: MELİKGAZİ 2 | Z2: KOCASİNAN (YEM) | AA2: KOCASİNAN 1 | AB2: KOCASİNAN 2 | AC2: TALAS | AD2: AKKIŞLA | AE2: BÜNYAN | AF2: DEVELİ 1 | AG2: DEVELİ 2 | AH2: FELAHİYE | AI2: İNCESU | AJ2: ÖZVATAN | AK2: PINARBAŞI 1 | AL2: PINARBAŞI 2 | AM2: DADALOĞLU | AN2: SARIOĞLAN | AO2: SARIZ | AP2: TOMARZA 1 | AQ2: TOMARZA 2 | AR2: YAHYALI | AS2: YEŞİLHİSAR | AT2: DMA | AU2: DMA | AV2: KANAL | AW2: ALTERNATİF | BA2: ERCİYES | BB2: sayfa3!AA2:AG150 | BC2: =MIN(INDIRECT(BE2)) -> 0 | BD2: =MAXA(INDIRECT(BE2)) -> 0 | BE2: sayfa3!AM$2:AM$150
A3: =CONCATENATE(MAXA(sayfa3!AEM1:AEM150)," Sonuç Bulundu") -> 6 Sonuç Bulundu | B3: Bulundu | D3: 2 | E3: =IFERROR(VLOOKUP(N4,INDIRECT(P4),1),"") -> 2 | F3: =IFERROR(VLOOKUP(N4,$N$3:$O$151,2),"") -> ANA DEPOLAR | G3: =IFERROR(VLOOKUP(N4,INDIRECT(P4),2, FALSE),"") -> ANAYURT SONDAJ 2 | H3: =IFERROR(VLOOKUP(N4,INDIRECT(P4),3, FALSE),"") -> 38.713948 | I3: =IFERROR(VLOOKUP(N4,INDIRECT(P4),4, FALSE),"") -> 35.561074 | J3: =IFERROR(VLOOKUP(N4,INDIRECT(P4),5, FALSE),"") -> https://maps.yandex.ru/?ll=38.713948%2035.561074&z=16&text=38.713948%2035.561074 | K3: =IFERROR(VLOOKUP(N4,INDIRECT(P4),6, FALSE),"") -> https://maps.google.com/maps?q=38.713948%2C35.561074 | L3: =IFERROR(VLOOKUP(N4,INDIRECT(P4),7, FALSE),"") -> Açıklama: | M3: . | N3: 1 | O3: =CHOOSE(Q3,$BA$1,$BA$2,$BA$3,$BA$4,$BA$5,$BA$6,$BA$7,$BA$8,$BA$9,$BA$10,$BA$11,$BA$12,$BA$13,$BA$14,$BA$15,$BA$16,$BA$17,$BA$18,$BA$19,$BA$20,$BA$21,$BA$22,$BA$23,$BA$24,$BA$25,$BA$26,$BA$27,$BA$28,$BA$29,$BA$30,$BA$31,$BA$32,$BA$33) -> ANA DEPOLAR | P3: =CHOOSE(Q3,$BB$1,$BB$2,$BB$3,$BB$4,$BB$5,$BB$6,$BB$7,$BB$8,$BB$9,$BB$10,$BB$11,$BB$12,$BB$13,$BB$14,$BB$15,$BB$16,$BB$17,$BB$18,$BB$19,$BB$20,$BB$21,$BB$22,$BB$23,$BB$24,$BB$25,$BB$26,$BB$27,$BB$28,$BB$29,$BB$30,$BB$31,$BB$32,$BB$33) -> sayfa3!BA2:BG150 | Q3: =MAXA(R3:AX3) -> 3 | R3: {=IF($N3<=INDIRECT("BD"&R$1),IF($N3>=INDIRECT("BC"&R$1),R$1,0),0)} -> 0 | S3: {=IF($N3<=INDIRECT("BD"&S$1),IF($N3>=INDIRECT("BC"&S$1),S$1,0),0)} -> 0 | T3: {=IF($N3<=INDIRECT("BD"&T$1),IF($N3>=INDIRECT("BC"&T$1),T$1,0),0)} -> 3 | U3: {=IF($N3<=INDIRECT("BD"&U$1),IF($N3>=INDIRECT("BC"&U$1),U$1,0),0)} -> 0 | V3: {=IF($N3<=INDIRECT("BD"&V$1),IF($N3>=INDIRECT("BC"&V$1),V$1,0),0)} -> 0 | W3: {=IF($N3<=INDIRECT("BD"&W$1),IF($N3>=INDIRECT("BC"&W$1),W$1,0),0)} -> 0 | X3: {=IF($N3<=INDIRECT("BD"&X$1),IF($N3>=INDIRECT("BC"&X$1),X$1,0),0)} -> 0 | Y3: {=IF($N3<=INDIRECT("BD"&Y$1),IF($N3>=INDIRECT("BC"&Y$1),Y$1,0),0)} -> 0 | ... AW3: {=IF($N3<=INDIRECT("BD"&AW$1),IF($N3>=INDIRECT("BC"&AW$1),AW$1,0),0)} -> 0 | BA3: ANA DEPOLAR | BB3: sayfa3!BA2:BG150 | BC3: =MIN(INDIRECT(BE3)) -> 1 | BD3: =MAXA(INDIRECT(BE3)) -> 6 | BE3: sayfa3!BM$2:BM$150
A4: =CONCATENATE(MAXA(E2:E150)," Sonuç Gösteriliyor") -> 6 Sonuç Gösteriliyor | B4: Gösteriliyor | D4: 3 | E4: =IFERROR(VLOOKUP(N5,INDIRECT(P5),1),"") -> 3 | F4: =IFERROR(VLOOKUP(N5,$N$3:$O$151,2),"") -> ANA DEPOLAR | G4: =IFERROR(VLOOKUP(N5,INDIRECT(P5),2, FALSE),"") -> ANAYURT SONDAJ 3 | H4: =IFERROR(VLOOKUP(N5,INDIRECT(P5),3, FALSE),"") -> 38.716017 | I4: =IFERROR(VLOOKUP(N5,INDIRECT(P5),4, FALSE),"") -> 35.559232 | J4: =IFERROR(VLOOKUP(N5,INDIRECT(P5),5, FALSE),"") -> https://maps.yandex.ru/?ll=38.716017%2035.559232&z=16&text=38.716017%2035.559232 | K4: =IFERROR(VLOOKUP(N5,INDIRECT(P5),6, FALSE),"") -> https://maps.google.com/maps?q=38.716017%2C35.559232 | L4: =IFERROR(VLOOKUP(N5,INDIRECT(P5),7, FALSE),"") -> Açıklama: | M4: . | N4: 2 | O4: =CHOOSE(Q4,$BA$1,$BA$2,$BA$3,$BA$4,$BA$5,$BA$6,$BA$7,$BA$8,$BA$9,$BA$10,$BA$11,$BA$12,$BA$13,$BA$14,$BA$15,$BA$16,$BA$17,$BA$18,$BA$19,$BA$20,$BA$21,$BA$22,$BA$23,$BA$24,$BA$25,$BA$26,$BA$27,$BA$28,$BA$29,$BA$30,$BA$31,$BA$32,$BA$33) -> ANA DEPOLAR | P4: =CHOOSE(Q4,$BB$1,$BB$2,$BB$3,$BB$4,$BB$5,$BB$6,$BB$7,$BB$8,$BB$9,$BB$10,$BB$11,$BB$12,$BB$13,$BB$14,$BB$15,$BB$16,$BB$17,$BB$18,$BB$19,$BB$20,$BB$21,$BB$22,$BB$23,$BB$24,$BB$25,$BB$26,$BB$27,$BB$28,$BB$29,$BB$30,$BB$31,$BB$32,$BB$33) -> sayfa3!BA2:BG150 | Q4: =MAXA(R4:AX4) -> 3 | R4: {=IF($N4<=INDIRECT("BD"&R$1),IF($N4>=INDIRECT("BC"&R$1),R$1,0),0)} -> 0 | S4: {=IF($N4<=INDIRECT("BD"&S$1),IF($N4>=INDIRECT("BC"&S$1),S$1,0),0)} -> 0 | T4: {=IF($N4<=INDIRECT("BD"&T$1),IF($N4>=INDIRECT("BC"&T$1),T$1,0),0)} -> 3 | U4: {=IF($N4<=INDIRECT("BD"&U$1),IF($N4>=INDIRECT("BC"&U$1),U$1,0),0)} -> 0 | V4: {=IF($N4<=INDIRECT("BD"&V$1),IF($N4>=INDIRECT("BC"&V$1),V$1,0),0)} -> 0 | W4: {=IF($N4<=INDIRECT("BD"&W$1),IF($N4>=INDIRECT("BC"&W$1),W$1,0),0)} -> 0 | X4: {=IF($N4<=INDIRECT("BD"&X$1),IF($N4>=INDIRECT("BC"&X$1),X$1,0),0)} -> 0 | Y4: {=IF($N4<=INDIRECT("BD"&Y$1),IF($N4>=INDIRECT("BC"&Y$1),Y$1,0),0)} -> 0 | ... AW4: {=IF($N4<=INDIRECT("BD"&AW$1),IF($N4>=INDIRECT("BC"&AW$1),AW$1,0),0)} -> 0 | BA4: ANA DEPOLAR | BB4: sayfa3!CA2:CG150 | BC4: =MIN(INDIRECT(BE4)) -> 0 | BD4: =MAXA(INDIRECT(BE4)) -> 0 | BE4: sayfa3!CM$2:CM$150
A5: =MAXA(E2:E51) -> 6 | B5: Maks | D5: 4 | E5: =IFERROR(VLOOKUP(N6,INDIRECT(P6),1),"") -> 4 | F5: =IFERROR(VLOOKUP(N6,$N$3:$O$151,2),"") -> ANA DEPOLAR | G5: =IFERROR(VLOOKUP(N6,INDIRECT(P6),2, FALSE),"") -> ANAYURT SONDAJ 4 | H5: =IFERROR(VLOOKUP(N6,INDIRECT(P6),3, FALSE),"") -> 38.715388 | I5: =IFERROR(VLOOKUP(N6,INDIRECT(P6),4, FALSE),"") -> 35.559436 | J5: =IFERROR(VLOOKUP(N6,INDIRECT(P6),5, FALSE),"") -> https://maps.yandex.ru/?ll=38.715388%2035.559436&z=16&text=38.715388%2035.559436 | K5: =IFERROR(VLOOKUP(N6,INDIRECT(P6),6, FALSE),"") -> https://maps.google.com/maps?q=38.715388%2C35.559436 | L5: =IFERROR(VLOOKUP(N6,INDIRECT(P6),7, FALSE),"") -> Açıklama: | M5: . | N5: 3 | O5: =CHOOSE(Q5,$BA$1,$BA$2,$BA$3,$BA$4,$BA$5,$BA$6,$BA$7,$BA$8,$BA$9,$BA$10,$BA$11,$BA$12,$BA$13,$BA$14,$BA$15,$BA$16,$BA$17,$BA$18,$BA$19,$BA$20,$BA$21,$BA$22,$BA$23,$BA$24,$BA$25,$BA$26,$BA$27,$BA$28,$BA$29,$BA$30,$BA$31,$BA$32,$BA$33) -> ANA DEPOLAR | P5: =CHOOSE(Q5,$BB$1,$BB$2,$BB$3,$BB$4,$BB$5,$BB$6,$BB$7,$BB$8,$BB$9,$BB$10,$BB$11,$BB$12,$BB$13,$BB$14,$BB$15,$BB$16,$BB$17,$BB$18,$BB$19,$BB$20,$BB$21,$BB$22,$BB$23,$BB$24,$BB$25,$BB$26,$BB$27,$BB$28,$BB$29,$BB$30,$BB$31,$BB$32,$BB$33) -> sayfa3!BA2:BG150 | Q5: =MAXA(R5:AX5) -> 3 | R5: {=IF($N5<=INDIRECT("BD"&R$1),IF($N5>=INDIRECT("BC"&R$1),R$1,0),0)} -> 0 | S5: {=IF($N5<=INDIRECT("BD"&S$1),IF($N5>=INDIRECT("BC"&S$1),S$1,0),0)} -> 0 | T5: {=IF($N5<=INDIRECT("BD"&T$1),IF($N5>=INDIRECT("BC"&T$1),T$1,0),0)} -> 3 | U5: {=IF($N5<=INDIRECT("BD"&U$1),IF($N5>=INDIRECT("BC"&U$1),U$1,0),0)} -> 0 | V5: {=IF($N5<=INDIRECT("BD"&V$1),IF($N5>=INDIRECT("BC"&V$1),V$1,0),0)} -> 0 | W5: {=IF($N5<=INDIRECT("BD"&W$1),IF($N5>=INDIRECT("BC"&W$1),W$1,0),0)} -> 0 | X5: {=IF($N5<=INDIRECT("BD"&X$1),IF($N5>=INDIRECT("BC"&X$1),X$1,0),0)} -> 0 | Y5: {=IF($N5<=INDIRECT("BD"&Y$1),IF($N5>=INDIRECT("BC"&Y$1),Y$1,0),0)} -> 0 | ... AW5: {=IF($N5<=INDIRECT("BD"&AW$1),IF($N5>=INDIRECT("BC"&AW$1),AW$1,0),0)} -> 0 | BA5: ANA DEPOLAR | BB5: sayfa3!DA2:DG150 | BC5: =MIN(INDIRECT(BE5)) -> 0 | BD5: =MAXA(INDIRECT(BE5)) -> 0 | BE5: sayfa3!DM$2:DM$150
D6: 5 | E6: =IFERROR(VLOOKUP(N7,INDIRECT(P7),1),"") -> 5 | F6: =IFERROR(VLOOKUP(N7,$N$3:$O$151,2),"") -> ANA DEPOLAR | G6: =IFERROR(VLOOKUP(N7,INDIRECT(P7),2, FALSE),"") -> ANAYURT TERFİ MERKEZİ | H6: =IFERROR(VLOOKUP(N7,INDIRECT(P7),3, FALSE),"") -> 38.714456 | I6: =IFERROR(VLOOKUP(N7,INDIRECT(P7),4, FALSE),"") -> 35.562783 | J6: =IFERROR(VLOOKUP(N7,INDIRECT(P7),5, FALSE),"") -> https://maps.yandex.ru/?ll=38.714456%2035.562783&z=16&text=38.714456%2035.562783 | K6: =IFERROR(VLOOKUP(N7,INDIRECT(P7),6, FALSE),"") -> https://maps.google.com/maps?q=38.714456%2C35.562783 | L6: =IFERROR(VLOOKUP(N7,INDIRECT(P7),7, FALSE),"") -> Açıklama: | M6: . | N6: 4 | O6: =CHOOSE(Q6,$BA$1,$BA$2,$BA$3,$BA$4,$BA$5,$BA$6,$BA$7,$BA$8,$BA$9,$BA$10,$BA$11,$BA$12,$BA$13,$BA$14,$BA$15,$BA$16,$BA$17,$BA$18,$BA$19,$BA$20,$BA$21,$BA$22,$BA$23,$BA$24,$BA$25,$BA$26,$BA$27,$BA$28,$BA$29,$BA$30,$BA$31,$BA$32,$BA$33) -> ANA DEPOLAR | P6: =CHOOSE(Q6,$BB$1,$BB$2,$BB$3,$BB$4,$BB$5,$BB$6,$BB$7,$BB$8,$BB$9,$BB$10,$BB$11,$BB$12,$BB$13,$BB$14,$BB$15,$BB$16,$BB$17,$BB$18,$BB$19,$BB$20,$BB$21,$BB$22,$BB$23,$BB$24,$BB$25,$BB$26,$BB$27,$BB$28,$BB$29,$BB$30,$BB$31,$BB$32,$BB$33) -> sayfa3!BA2:BG150 | Q6: =MAXA(R6:AX6) -> 3 | R6: {=IF($N6<=INDIRECT("BD"&R$1),IF($N6>=INDIRECT("BC"&R$1),R$1,0),0)} -> 0 | S6: {=IF($N6<=INDIRECT("BD"&S$1),IF($N6>=INDIRECT("BC"&S$1),S$1,0),0)} -> 0 | T6: {=IF($N6<=INDIRECT("BD"&T$1),IF($N6>=INDIRECT("BC"&T$1),T$1,0),0)} -> 3 | U6: {=IF($N6<=INDIRECT("BD"&U$1),IF($N6>=INDIRECT("BC"&U$1),U$1,0),0)} -> 0 | V6: {=IF($N6<=INDIRECT("BD"&V$1),IF($N6>=INDIRECT("BC"&V$1),V$1,0),0)} -> 0 | W6: {=IF($N6<=INDIRECT("BD"&W$1),IF($N6>=INDIRECT("BC"&W$1),W$1,0),0)} -> 0 | X6: {=IF($N6<=INDIRECT("BD"&X$1),IF($N6>=INDIRECT("BC"&X$1),X$1,0),0)} -> 0 | Y6: {=IF($N6<=INDIRECT("BD"&Y$1),IF($N6>=INDIRECT("BC"&Y$1),Y$1,0),0)} -> 0 | ... AW6: {=IF($N6<=INDIRECT("BD"&AW$1),IF($N6>=INDIRECT("BC"&AW$1),AW$1,0),0)} -> 0 | BA6: HACILAR | BB6: sayfa3!EA2:EG150 | BC6: =MIN(INDIRECT(BE6)) -> 0 | BD6: =MAXA(INDIRECT(BE6)) -> 0 | BE6: sayfa3!EM$2:EM$150
D7: 6 | E7: =IFERROR(VLOOKUP(N8,INDIRECT(P8),1),"") -> 6 | F7: =IFERROR(VLOOKUP(N8,$N$3:$O$151,2),"") -> ANA DEPOLAR | G7: =IFERROR(VLOOKUP(N8,INDIRECT(P8),2, FALSE),"") -> ANAYURT DEPO | H7: =IFERROR(VLOOKUP(N8,INDIRECT(P8),3, FALSE),"") -> 38.714239 | I7: =IFERROR(VLOOKUP(N8,INDIRECT(P8),4, FALSE),"") -> 35.570171 | J7: =IFERROR(VLOOKUP(N8,INDIRECT(P8),5, FALSE),"") -> https://maps.yandex.ru/?ll=38.714239%2035.570171&z=16&text=38.714239%2035.570171 | K7: =IFERROR(VLOOKUP(N8,INDIRECT(P8),6, FALSE),"") -> https://maps.google.com/maps?q=38.714239%2C35.570171 | L7: =IFERROR(VLOOKUP(N8,INDIRECT(P8),7, FALSE),"") -> Açıklama: | M7: . | N7: 5 | O7: =CHOOSE(Q7,$BA$1,$BA$2,$BA$3,$BA$4,$BA$5,$BA$6,$BA$7,$BA$8,$BA$9,$BA$10,$BA$11,$BA$12,$BA$13,$BA$14,$BA$15,$BA$16,$BA$17,$BA$18,$BA$19,$BA$20,$BA$21,$BA$22,$BA$23,$BA$24,$BA$25,$BA$26,$BA$27,$BA$28,$BA$29,$BA$30,$BA$31,$BA$32,$BA$33) -> ANA DEPOLAR | P7: =CHOOSE(Q7,$BB$1,$BB$2,$BB$3,$BB$4,$BB$5,$BB$6,$BB$7,$BB$8,$BB$9,$BB$10,$BB$11,$BB$12,$BB$13,$BB$14,$BB$15,$BB$16,$BB$17,$BB$18,$BB$19,$BB$20,$BB$21,$BB$22,$BB$23,$BB$24,$BB$25,$BB$26,$BB$27,$BB$28,$BB$29,$BB$30,$BB$31,$BB$32,$BB$33) -> sayfa3!BA2:BG150 | Q7: =MAXA(R7:AX7) -> 3 | R7: {=IF($N7<=INDIRECT("BD"&R$1),IF($N7>=INDIRECT("BC"&R$1),R$1,0),0)} -> 0 | S7: {=IF($N7<=INDIRECT("BD"&S$1),IF($N7>=INDIRECT("BC"&S$1),S$1,0),0)} -> 0 | T7: {=IF($N7<=INDIRECT("BD"&T$1),IF($N7>=INDIRECT("BC"&T$1),T$1,0),0)} -> 3 | U7: {=IF($N7<=INDIRECT("BD"&U$1),IF($N7>=INDIRECT("BC"&U$1),U$1,0),0)} -> 0 | V7: {=IF($N7<=INDIRECT("BD"&V$1),IF($N7>=INDIRECT("BC"&V$1),V$1,0),0)} -> 0 | W7: {=IF($N7<=INDIRECT("BD"&W$1),IF($N7>=INDIRECT("BC"&W$1),W$1,0),0)} -> 0 | X7: {=IF($N7<=INDIRECT("BD"&X$1),IF($N7>=INDIRECT("BC"&X$1),X$1,0),0)} -> 0 | Y7: {=IF($N7<=INDIRECT("BD"&Y$1),IF($N7>=INDIRECT("BC"&Y$1),Y$1,0),0)} -> 0 | ... AW7: {=IF($N7<=INDIRECT("BD"&AW$1),IF($N7>=INDIRECT("BC"&AW$1),AW$1,0),0)} -> 0 | BA7: MELİKGAZİ | BB7: sayfa3!FA2:FG150 | BC7: =MIN(INDIRECT(BE7)) -> 0 | BD7: =MAXA(INDIRECT(BE7)) -> 0 | BE7: sayfa3!FM$2:FM$150
D8: 7 | E8: =IFERROR(VLOOKUP(N9,INDIRECT(P9),1),"") | F8: =IFERROR(VLOOKUP(N9,$N$3:$O$151,2),"") | G8: =IFERROR(VLOOKUP(N9,INDIRECT(P9),2, FALSE),"") | H8: =IFERROR(VLOOKUP(N9,INDIRECT(P9),3, FALSE),"") | I8: =IFERROR(VLOOKUP(N9,INDIRECT(P9),4, FALSE),"") | J8: =IFERROR(VLOOKUP(N9,INDIRECT(P9),5, FALSE),"") | K8: =IFERROR(VLOOKUP(N9,INDIRECT(P9),6, FALSE),"") | L8: =IFERROR(VLOOKUP(N9,INDIRECT(P9),7, FALSE),"") | M8: . | N8: 6 | O8: =CHOOSE(Q8,$BA$1,$BA$2,$BA$3,$BA$4,$BA$5,$BA$6,$BA$7,$BA$8,$BA$9,$BA$10,$BA$11,$BA$12,$BA$13,$BA$14,$BA$15,$BA$16,$BA$17,$BA$18,$BA$19,$BA$20,$BA$21,$BA$22,$BA$23,$BA$24,$BA$25,$BA$26,$BA$27,$BA$28,$BA$29,$BA$30,$BA$31,$BA$32,$BA$33) -> ANA DEPOLAR | P8: =CHOOSE(Q8,$BB$1,$BB$2,$BB$3,$BB$4,$BB$5,$BB$6,$BB$7,$BB$8,$BB$9,$BB$10,$BB$11,$BB$12,$BB$13,$BB$14,$BB$15,$BB$16,$BB$17,$BB$18,$BB$19,$BB$20,$BB$21,$BB$22,$BB$23,$BB$24,$BB$25,$BB$26,$BB$27,$BB$28,$BB$29,$BB$30,$BB$31,$BB$32,$BB$33) -> sayfa3!BA2:BG150 | Q8: =MAXA(R8:AX8) -> 3 | R8: {=IF($N8<=INDIRECT("BD"&R$1),IF($N8>=INDIRECT("BC"&R$1),R$1,0),0)} -> 0 | S8: {=IF($N8<=INDIRECT("BD"&S$1),IF($N8>=INDIRECT("BC"&S$1),S$1,0),0)} -> 0 | T8: {=IF($N8<=INDIRECT("BD"&T$1),IF($N8>=INDIRECT("BC"&T$1),T$1,0),0)} -> 3 | U8: {=IF($N8<=INDIRECT("BD"&U$1),IF($N8>=INDIRECT("BC"&U$1),U$1,0),0)} -> 0 | V8: {=IF($N8<=INDIRECT("BD"&V$1),IF($N8>=INDIRECT("BC"&V$1),V$1,0),0)} -> 0 | W8: {=IF($N8<=INDIRECT("BD"&W$1),IF($N8>=INDIRECT("BC"&W$1),W$1,0),0)} -> 0 | X8: {=IF($N8<=INDIRECT("BD"&X$1),IF($N8>=INDIRECT("BC"&X$1),X$1,0),0)} -> 0 | Y8: {=IF($N8<=INDIRECT("BD"&Y$1),IF($N8>=INDIRECT("BC"&Y$1),Y$1,0),0)} -> 0 | ... AW8: {=IF($N8<=INDIRECT("BD"&AW$1),IF($N8>=INDIRECT("BC"&AW$1),AW$1,0),0)} -> 0 | BA8: MELİKGAZİ | BB8: sayfa3!GA2:GG150 | BC8: =MIN(INDIRECT(BE8)) -> 0 | BD8: =MAXA(INDIRECT(BE8)) -> 0 | BE8: sayfa3!GM$2:GM$150
D9: 8 | E9: =IFERROR(VLOOKUP(N10,INDIRECT(P10),1),"") | F9: =IFERROR(VLOOKUP(N10,$N$3:$O$151,2),"") | G9: =IFERROR(VLOOKUP(N10,INDIRECT(P10),2, FALSE),"") | H9: =IFERROR(VLOOKUP(N10,INDIRECT(P10),3, FALSE),"") | I9: =IFERROR(VLOOKUP(N10,INDIRECT(P10),4, FALSE),"") | J9: =IFERROR(VLOOKUP(N10,INDIRECT(P10),5, FALSE),"") | K9: =IFERROR(VLOOKUP(N10,INDIRECT(P10),6, FALSE),"") | L9: =IFERROR(VLOOKUP(N10,INDIRECT(P10),7, FALSE),"") | M9: . | N9: 7 | O9: =CHOOSE(Q9,$BA$1,$BA$2,$BA$3,$BA$4,$BA$5,$BA$6,$BA$7,$BA$8,$BA$9,$BA$10,$BA$11,$BA$12,$BA$13,$BA$14,$BA$15,$BA$16,$BA$17,$BA$18,$BA$19,$BA$20,$BA$21,$BA$22,$BA$23,$BA$24,$BA$25,$BA$26,$BA$27,$BA$28,$BA$29,$BA$30,$BA$31,$BA$32,$BA$33) -> #VALUE! | P9: =CHOOSE(Q9,$BB$1,$BB$2,$BB$3,$BB$4,$BB$5,$BB$6,$BB$7,$BB$8,$BB$9,$BB$10,$BB$11,$BB$12,$BB$13,$BB$14,$BB$15,$BB$16,$BB$17,$BB$18,$BB$19,$BB$20,$BB$21,$BB$22,$BB$23,$BB$24,$BB$25,$BB$26,$BB$27,$BB$28,$BB$29,$BB$30,$BB$31,$BB$32,$BB$33) -> #VALUE! | Q9: =MAXA(R9:AX9) -> 0 | R9: {=IF($N9<=INDIRECT("BD"&R$1),IF($N9>=INDIRECT("BC"&R$1),R$1,0),0)} -> 0 | S9: {=IF($N9<=INDIRECT("BD"&S$1),IF($N9>=INDIRECT("BC"&S$1),S$1,0),0)} -> 0 | T9: {=IF($N9<=INDIRECT("BD"&T$1),IF($N9>=INDIRECT("BC"&T$1),T$1,0),0)} -> 0 | U9: {=IF($N9<=INDIRECT("BD"&U$1),IF($N9>=INDIRECT("BC"&U$1),U$1,0),0)} -> 0 | V9: {=IF($N9<=INDIRECT("BD"&V$1),IF($N9>=INDIRECT("BC"&V$1),V$1,0),0)} -> 0 | W9: {=IF($N9<=INDIRECT("BD"&W$1),IF($N9>=INDIRECT("BC"&W$1),W$1,0),0)} -> 0 | X9: {=IF($N9<=INDIRECT("BD"&X$1),IF($N9>=INDIRECT("BC"&X$1),X$1,0),0)} -> 0 | Y9: {=IF($N9<=INDIRECT("BD"&Y$1),IF($N9>=INDIRECT("BC"&Y$1),Y$1,0),0)} -> 0 | ... AW9: {=IF($N9<=INDIRECT("BD"&AW$1),IF($N9>=INDIRECT("BC"&AW$1),AW$1,0),0)} -> 0 | BA9: KOCASİNAN (Yemliha) | BB9: sayfa3!HA2:HG150 | BC9: =MIN(INDIRECT(BE9)) -> 0 | BD9: =MAXA(INDIRECT(BE9)) -> 0 | BE9: sayfa3!HM$2:HM$150
D10: 9 | E10: =IFERROR(VLOOKUP(N11,INDIRECT(P11),1),"") | F10: =IFERROR(VLOOKUP(N11,$N$3:$O$151,2),"") | G10: =IFERROR(VLOOKUP(N11,INDIRECT(P11),2, FALSE),"") | H10: =IFERROR(VLOOKUP(N11,INDIRECT(P11),3, FALSE),"") | I10: =IFERROR(VLOOKUP(N11,INDIRECT(P11),4, FALSE),"") | J10: =IFERROR(VLOOKUP(N11,INDIRECT(P11),5, FALSE),"") | K10: =IFERROR(VLOOKUP(N11,INDIRECT(P11),6, FALSE),"") | L10: =IFERROR(VLOOKUP(N11,INDIRECT(P11),7, FALSE),"") | M10: . | N10: 8 | O10: =CHOOSE(Q10,$BA$1,$BA$2,$BA$3,$BA$4,$BA$5,$BA$6,$BA$7,$BA$8,$BA$9,$BA$10,$BA$11,$BA$12,$BA$13,$BA$14,$BA$15,$BA$16,$BA$17,$BA$18,$BA$19,$BA$20,$BA$21,$BA$22,$BA$23,$BA$24,$BA$25,$BA$26,$BA$27,$BA$28,$BA$29,$BA$30,$BA$31,$BA$32,$BA$33) -> #VALUE! | P10: =CHOOSE(Q10,$BB$1,$BB$2,$BB$3,$BB$4,$BB$5,$BB$6,$BB$7,$BB$8,$BB$9,$BB$10,$BB$11,$BB$12,$BB$13,$BB$14,$BB$15,$BB$16,$BB$17,$BB$18,$BB$19,$BB$20,$BB$21,$BB$22,$BB$23,$BB$24,$BB$25,$BB$26,$BB$27,$BB$28,$BB$29,$BB$30,$BB$31,$BB$32,$BB$33) -> #VALUE! | Q10: =MAXA(R10:AX10) -> 0 | R10: {=IF($N10<=INDIRECT("BD"&R$1),IF($N10>=INDIRECT("BC"&R$1),R$1,0),0)} -> 0 | S10: {=IF($N10<=INDIRECT("BD"&S$1),IF($N10>=INDIRECT("BC"&S$1),S$1,0),0)} -> 0 | T10: {=IF($N10<=INDIRECT("BD"&T$1),IF($N10>=INDIRECT("BC"&T$1),T$1,0),0)} -> 0 | U10: {=IF($N10<=INDIRECT("BD"&U$1),IF($N10>=INDIRECT("BC"&U$1),U$1,0),0)} -> 0 | V10: {=IF($N10<=INDIRECT("BD"&V$1),IF($N10>=INDIRECT("BC"&V$1),V$1,0),0)} -> 0 | W10: {=IF($N10<=INDIRECT("BD"&W$1),IF($N10>=INDIRECT("BC"&W$1),W$1,0),0)} -> 0 | X10: {=IF($N10<=INDIRECT("BD"&X$1),IF($N10>=INDIRECT("BC"&X$1),X$1,0),0)} -> 0 | Y10: {=IF($N10<=INDIRECT("BD"&Y$1),IF($N10>=INDIRECT("BC"&Y$1),Y$1,0),0)} -> 0 | ... AW10: {=IF($N10<=INDIRECT("BD"&AW$1),IF($N10>=INDIRECT("BC"&AW$1),AW$1,0),0)} -> 0 | BA10: KOCASİNAN | BB10: sayfa3!IA2:IG150 | BC10: =MIN(INDIRECT(BE10)) -> 0 | BD10: =MAXA(INDIRECT(BE10)) -> 0 | BE10: sayfa3!IM$2:IM$150
D11: 10 | E11: =IFERROR(VLOOKUP(N12,INDIRECT(P12),1),"") | F11: =IFERROR(VLOOKUP(N12,$N$3:$O$151,2),"") | G11: =IFERROR(VLOOKUP(N12,INDIRECT(P12),2, FALSE),"") | H11: =IFERROR(VLOOKUP(N12,INDIRECT(P12),3, FALSE),"") | I11: =IFERROR(VLOOKUP(N12,INDIRECT(P12),4, FALSE),"") | J11: =IFERROR(VLOOKUP(N12,INDIRECT(P12),5, FALSE),"") | K11: =IFERROR(VLOOKUP(N12,INDIRECT(P12),6, FALSE),"") | L11: =IFERROR(VLOOKUP(N12,INDIRECT(P12),7, FALSE),"") | M11: . | N11: 9 | O11: =CHOOSE(Q11,$BA$1,$BA$2,$BA$3,$BA$4,$BA$5,$BA$6,$BA$7,$BA$8,$BA$9,$BA$10,$BA$11,$BA$12,$BA$13,$BA$14,$BA$15,$BA$16,$BA$17,$BA$18,$BA$19,$BA$20,$BA$21,$BA$22,$BA$23,$BA$24,$BA$25,$BA$26,$BA$27,$BA$28,$BA$29,$BA$30,$BA$31,$BA$32,$BA$33) -> #VALUE! | P11: =CHOOSE(Q11,$BB$1,$BB$2,$BB$3,$BB$4,$BB$5,$BB$6,$BB$7,$BB$8,$BB$9,$BB$10,$BB$11,$BB$12,$BB$13,$BB$14,$BB$15,$BB$16,$BB$17,$BB$18,$BB$19,$BB$20,$BB$21,$BB$22,$BB$23,$BB$24,$BB$25,$BB$26,$BB$27,$BB$28,$BB$29,$BB$30,$BB$31,$BB$32,$BB$33) -> #VALUE! | Q11: =MAXA(R11:AX11) -> 0 | R11: {=IF($N11<=INDIRECT("BD"&R$1),IF($N11>=INDIRECT("BC"&R$1),R$1,0),0)} -> 0 | S11: {=IF($N11<=INDIRECT("BD"&S$1),IF($N11>=INDIRECT("BC"&S$1),S$1,0),0)} -> 0 | T11: {=IF($N11<=INDIRECT("BD"&T$1),IF($N11>=INDIRECT("BC"&T$1),T$1,0),0)} -> 0 | U11: {=IF($N11<=INDIRECT("BD"&U$1),IF($N11>=INDIRECT("BC"&U$1),U$1,0),0)} -> 0 | V11: {=IF($N11<=INDIRECT("BD"&V$1),IF($N11>=INDIRECT("BC"&V$1),V$1,0),0)} -> 0 | W11: {=IF($N11<=INDIRECT("BD"&W$1),IF($N11>=INDIRECT("BC"&W$1),W$1,0),0)} -> 0 | X11: {=IF($N11<=INDIRECT("BD"&X$1),IF($N11>=INDIRECT("BC"&X$1),X$1,0),0)} -> 0 | Y11: {=IF($N11<=INDIRECT("BD"&Y$1),IF($N11>=INDIRECT("BC"&Y$1),Y$1,0),0)} -> 0 | ... AW11: {=IF($N11<=INDIRECT("BD"&AW$1),IF($N11>=INDIRECT("BC"&AW$1),AW$1,0),0)} -> 0 | BA11: KOCASİNAN | BB11: sayfa3!JA2:JG150 | BC11: =MIN(INDIRECT(BE11)) -> 0 | BD11: =MAXA(INDIRECT(BE11)) -> 0 | BE11: sayfa3!JM$2:JM$150
D12: 11 | E12: =IFERROR(VLOOKUP(N13,INDIRECT(P13),1),"") | F12: =IFERROR(VLOOKUP(N13,$N$3:$O$151,2),"") | G12: =IFERROR(VLOOKUP(N13,INDIRECT(P13),2, FALSE),"") | H12: =IFERROR(VLOOKUP(N13,INDIRECT(P13),3, FALSE),"") | I12: =IFERROR(VLOOKUP(N13,INDIRECT(P13),4, FALSE),"") | J12: =IFERROR(VLOOKUP(N13,INDIRECT(P13),5, FALSE),"") | K12: =IFERROR(VLOOKUP(N13,INDIRECT(P13),6, FALSE),"") | L12: =IFERROR(VLOOKUP(N13,INDIRECT(P13),7, FALSE),"") | M12: . | N12: 10 | O12: =CHOOSE(Q12,$BA$1,$BA$2,$BA$3,$BA$4,$BA$5,$BA$6,$BA$7,$BA$8,$BA$9,$BA$10,$BA$11,$BA$12,$BA$13,$BA$14,$BA$15,$BA$16,$BA$17,$BA$18,$BA$19,$BA$20,$BA$21,$BA$22,$BA$23,$BA$24,$BA$25,$BA$26,$BA$27,$BA$28,$BA$29,$BA$30,$BA$31,$BA$32,$BA$33) -> #VALUE! | P12: =CHOOSE(Q12,$BB$1,$BB$2,$BB$3,$BB$4,$BB$5,$BB$6,$BB$7,$BB$8,$BB$9,$BB$10,$BB$11,$BB$12,$BB$13,$BB$14,$BB$15,$BB$16,$BB$17,$BB$18,$BB$19,$BB$20,$BB$21,$BB$22,$BB$23,$BB$24,$BB$25,$BB$26,$BB$27,$BB$28,$BB$29,$BB$30,$BB$31,$BB$32,$BB$33) -> #VALUE! | Q12: =MAXA(R12:AX12) -> 0 | R12: {=IF($N12<=INDIRECT("BD"&R$1),IF($N12>=INDIRECT("BC"&R$1),R$1,0),0)} -> 0 | S12: {=IF($N12<=INDIRECT("BD"&S$1),IF($N12>=INDIRECT("BC"&S$1),S$1,0),0)} -> 0 | T12: {=IF($N12<=INDIRECT("BD"&T$1),IF($N12>=INDIRECT("BC"&T$1),T$1,0),0)} -> 0 | U12: {=IF($N12<=INDIRECT("BD"&U$1),IF($N12>=INDIRECT("BC"&U$1),U$1,0),0)} -> 0 | V12: {=IF($N12<=INDIRECT("BD"&V$1),IF($N12>=INDIRECT("BC"&V$1),V$1,0),0)} -> 0 | W12: {=IF($N12<=INDIRECT("BD"&W$1),IF($N12>=INDIRECT("BC"&W$1),W$1,0),0)} -> 0 | X12: {=IF($N12<=INDIRECT("BD"&X$1),IF($N12>=INDIRECT("BC"&X$1),X$1,0),0)} -> 0 | Y12: {=IF($N12<=INDIRECT("BD"&Y$1),IF($N12>=INDIRECT("BC"&Y$1),Y$1,0),0)} -> 0 | ... AW12: {=IF($N12<=INDIRECT("BD"&AW$1),IF($N12>=INDIRECT("BC"&AW$1),AW$1,0),0)} -> 0 | BA12: TALAS | BB12: sayfa3!KA2:KG150 | BC12: =MIN(INDIRECT(BE12)) -> 0 | BD12: =MAXA(INDIRECT(BE12)) -> 0 | BE12: sayfa3!KM$2:KM$150
D13: 12 | E13: =IFERROR(VLOOKUP(N14,INDIRECT(P14),1),"") | F13: =IFERROR(VLOOKUP(N14,$N$3:$O$151,2),"") | G13: =IFERROR(VLOOKUP(N14,INDIRECT(P14),2, FALSE),"") | H13: =IFERROR(VLOOKUP(N14,INDIRECT(P14),3, FALSE),"") | I13: =IFERROR(VLOOKUP(N14,INDIRECT(P14),4, FALSE),"") | J13: =IFERROR(VLOOKUP(N14,INDIRECT(P14),5, FALSE),"") | K13: =IFERROR(VLOOKUP(N14,INDIRECT(P14),6, FALSE),"") | L13: =IFERROR(VLOOKUP(N14,INDIRECT(P14),7, FALSE),"") | M13: . | N13: 11 | O13: =CHOOSE(Q13,$BA$1,$BA$2,$BA$3,$BA$4,$BA$5,$BA$6,$BA$7,$BA$8,$BA$9,$BA$10,$BA$11,$BA$12,$BA$13,$BA$14,$BA$15,$BA$16,$BA$17,$BA$18,$BA$19,$BA$20,$BA$21,$BA$22,$BA$23,$BA$24,$BA$25,$BA$26,$BA$27,$BA$28,$BA$29,$BA$30,$BA$31,$BA$32,$BA$33) -> #VALUE! | P13: =CHOOSE(Q13,$BB$1,$BB$2,$BB$3,$BB$4,$BB$5,$BB$6,$BB$7,$BB$8,$BB$9,$BB$10,$BB$11,$BB$12,$BB$13,$BB$14,$BB$15,$BB$16,$BB$17,$BB$18,$BB$19,$BB$20,$BB$21,$BB$22,$BB$23,$BB$24,$BB$25,$BB$26,$BB$27,$BB$28,$BB$29,$BB$30,$BB$31,$BB$32,$BB$33) -> #VALUE! | Q13: =MAXA(R13:AX13) -> 0 | R13: {=IF($N13<=INDIRECT("BD"&R$1),IF($N13>=INDIRECT("BC"&R$1),R$1,0),0)} -> 0 | S13: {=IF($N13<=INDIRECT("BD"&S$1),IF($N13>=INDIRECT("BC"&S$1),S$1,0),0)} -> 0 | T13: {=IF($N13<=INDIRECT("BD"&T$1),IF($N13>=INDIRECT("BC"&T$1),T$1,0),0)} -> 0 | U13: {=IF($N13<=INDIRECT("BD"&U$1),IF($N13>=INDIRECT("BC"&U$1),U$1,0),0)} -> 0 | V13: {=IF($N13<=INDIRECT("BD"&V$1),IF($N13>=INDIRECT("BC"&V$1),V$1,0),0)} -> 0 | W13: {=IF($N13<=INDIRECT("BD"&W$1),IF($N13>=INDIRECT("BC"&W$1),W$1,0),0)} -> 0 | X13: {=IF($N13<=INDIRECT("BD"&X$1),IF($N13>=INDIRECT("BC"&X$1),X$1,0),0)} -> 0 | Y13: {=IF($N13<=INDIRECT("BD"&Y$1),IF($N13>=INDIRECT("BC"&Y$1),Y$1,0),0)} -> 0 | ... AW13: {=IF($N13<=INDIRECT("BD"&AW$1),IF($N13>=INDIRECT("BC"&AW$1),AW$1,0),0)} -> 0 | BA13: AKKIŞLA | BB13: sayfa3!LA2:LG150 | BC13: =MIN(INDIRECT(BE13)) -> 0 | BD13: =MAXA(INDIRECT(BE13)) -> 0 | BE13: sayfa3!LM$2:LM$150
D14: 13 | E14: =IFERROR(VLOOKUP(N15,INDIRECT(P15),1),"") | F14: =IFERROR(VLOOKUP(N15,$N$3:$O$151,2),"") | G14: =IFERROR(VLOOKUP(N15,INDIRECT(P15),2, FALSE),"") | H14: =IFERROR(VLOOKUP(N15,INDIRECT(P15),3, FALSE),"") | I14: =IFERROR(VLOOKUP(N15,INDIRECT(P15),4, FALSE),"") | J14: =IFERROR(VLOOKUP(N15,INDIRECT(P15),5, FALSE),"") | K14: =IFERROR(VLOOKUP(N15,INDIRECT(P15),6, FALSE),"") | L14: =IFERROR(VLOOKUP(N15,INDIRECT(P15),7, FALSE),"") | M14: . | N14: 12 | O14: =CHOOSE(Q14,$BA$1,$BA$2,$BA$3,$BA$4,$BA$5,$BA$6,$BA$7,$BA$8,$BA$9,$BA$10,$BA$11,$BA$12,$BA$13,$BA$14,$BA$15,$BA$16,$BA$17,$BA$18,$BA$19,$BA$20,$BA$21,$BA$22,$BA$23,$BA$24,$BA$25,$BA$26,$BA$27,$BA$28,$BA$29,$BA$30,$BA$31,$BA$32,$BA$33) -> #VALUE! | P14: =CHOOSE(Q14,$BB$1,$BB$2,$BB$3,$BB$4,$BB$5,$BB$6,$BB$7,$BB$8,$BB$9,$BB$10,$BB$11,$BB$12,$BB$13,$BB$14,$BB$15,$BB$16,$BB$17,$BB$18,$BB$19,$BB$20,$BB$21,$BB$22,$BB$23,$BB$24,$BB$25,$BB$26,$BB$27,$BB$28,$BB$29,$BB$30,$BB$31,$BB$32,$BB$33) -> #VALUE! | Q14: =MAXA(R14:AX14) -> 0 | R14: {=IF($N14<=INDIRECT("BD"&R$1),IF($N14>=INDIRECT("BC"&R$1),R$1,0),0)} -> 0 | S14: {=IF($N14<=INDIRECT("BD"&S$1),IF($N14>=INDIRECT("BC"&S$1),S$1,0),0)} -> 0 | T14: {=IF($N14<=INDIRECT("BD"&T$1),IF($N14>=INDIRECT("BC"&T$1),T$1,0),0)} -> 0 | U14: {=IF($N14<=INDIRECT("BD"&U$1),IF($N14>=INDIRECT("BC"&U$1),U$1,0),0)} -> 0 | V14: {=IF($N14<=INDIRECT("BD"&V$1),IF($N14>=INDIRECT("BC"&V$1),V$1,0),0)} -> 0 | W14: {=IF($N14<=INDIRECT("BD"&W$1),IF($N14>=INDIRECT("BC"&W$1),W$1,0),0)} -> 0 | X14: {=IF($N14<=INDIRECT("BD"&X$1),IF($N14>=INDIRECT("BC"&X$1),X$1,0),0)} -> 0 | Y14: {=IF($N14<=INDIRECT("BD"&Y$1),IF($N14>=INDIRECT("BC"&Y$1),Y$1,0),0)} -> 0 | ... AW14: {=IF($N14<=INDIRECT("BD"&AW$1),IF($N14>=INDIRECT("BC"&AW$1),AW$1,0),0)} -> 0 | BA14: BÜNYAN | BB14: sayfa3!MA2:MG150 | BC14: =MIN(INDIRECT(BE14)) -> 0 | BD14: =MAXA(INDIRECT(BE14)) -> 0 | BE14: sayfa3!MM$2:MM$150
D15: 14 | E15: =IFERROR(VLOOKUP(N16,INDIRECT(P16),1),"") | F15: =IFERROR(VLOOKUP(N16,$N$3:$O$151,2),"") | G15: =IFERROR(VLOOKUP(N16,INDIRECT(P16),2, FALSE),"") | H15: =IFERROR(VLOOKUP(N16,INDIRECT(P16),3, FALSE),"") | I15: =IFERROR(VLOOKUP(N16,INDIRECT(P16),4, FALSE),"") | J15: =IFERROR(VLOOKUP(N16,INDIRECT(P16),5, FALSE),"") | K15: =IFERROR(VLOOKUP(N16,INDIRECT(P16),6, FALSE),"") | L15: =IFERROR(VLOOKUP(N16,INDIRECT(P16),7, FALSE),"") | M15: . | N15: 13 | O15: =CHOOSE(Q15,$BA$1,$BA$2,$BA$3,$BA$4,$BA$5,$BA$6,$BA$7,$BA$8,$BA$9,$BA$10,$BA$11,$BA$12,$BA$13,$BA$14,$BA$15,$BA$16,$BA$17,$BA$18,$BA$19,$BA$20,$BA$21,$BA$22,$BA$23,$BA$24,$BA$25,$BA$26,$BA$27,$BA$28,$BA$29,$BA$30,$BA$31,$BA$32,$BA$33) -> #VALUE! | P15: =CHOOSE(Q15,$BB$1,$BB$2,$BB$3,$BB$4,$BB$5,$BB$6,$BB$7,$BB$8,$BB$9,$BB$10,$BB$11,$BB$12,$BB$13,$BB$14,$BB$15,$BB$16,$BB$17,$BB$18,$BB$19,$BB$20,$BB$21,$BB$22,$BB$23,$BB$24,$BB$25,$BB$26,$BB$27,$BB$28,$BB$29,$BB$30,$BB$31,$BB$32,$BB$33) -> #VALUE! | Q15: =MAXA(R15:AX15) -> 0 | R15: {=IF($N15<=INDIRECT("BD"&R$1),IF($N15>=INDIRECT("BC"&R$1),R$1,0),0)} -> 0 | S15: {=IF($N15<=INDIRECT("BD"&S$1),IF($N15>=INDIRECT("BC"&S$1),S$1,0),0)} -> 0 | T15: {=IF($N15<=INDIRECT("BD"&T$1),IF($N15>=INDIRECT("BC"&T$1),T$1,0),0)} -> 0 | U15: {=IF($N15<=INDIRECT("BD"&U$1),IF($N15>=INDIRECT("BC"&U$1),U$1,0),0)} -> 0 | V15: {=IF($N15<=INDIRECT("BD"&V$1),IF($N15>=INDIRECT("BC"&V$1),V$1,0),0)} -> 0 | W15: {=IF($N15<=INDIRECT("BD"&W$1),IF($N15>=INDIRECT("BC"&W$1),W$1,0),0)} -> 0 | X15: {=IF($N15<=INDIRECT("BD"&X$1),IF($N15>=INDIRECT("BC"&X$1),X$1,0),0)} -> 0 | Y15: {=IF($N15<=INDIRECT("BD"&Y$1),IF($N15>=INDIRECT("BC"&Y$1),Y$1,0),0)} -> 0 | ... AW15: {=IF($N15<=INDIRECT("BD"&AW$1),IF($N15>=INDIRECT("BC"&AW$1),AW$1,0),0)} -> 0 | BA15: DEVELİ | BB15: sayfa3!NA2:NG150 | BC15: =MIN(INDIRECT(BE15)) -> 0 | BD15: =MAXA(INDIRECT(BE15)) -> 0 | BE15: sayfa3!NM$2:NM$150
D16: 15 | E16: =IFERROR(VLOOKUP(N17,INDIRECT(P17),1),"") | F16: =IFERROR(VLOOKUP(N17,$N$3:$O$151,2),"") | G16: =IFERROR(VLOOKUP(N17,INDIRECT(P17),2, FALSE),"") | H16: =IFERROR(VLOOKUP(N17,INDIRECT(P17),3, FALSE),"") | I16: =IFERROR(VLOOKUP(N17,INDIRECT(P17),4, FALSE),"") | J16: =IFERROR(VLOOKUP(N17,INDIRECT(P17),5, FALSE),"") | K16: =IFERROR(VLOOKUP(N17,INDIRECT(P17),6, FALSE),"") | L16: =IFERROR(VLOOKUP(N17,INDIRECT(P17),7, FALSE),"") | M16: . | N16: 14 | O16: =CHOOSE(Q16,$BA$1,$BA$2,$BA$3,$BA$4,$BA$5,$BA$6,$BA$7,$BA$8,$BA$9,$BA$10,$BA$11,$BA$12,$BA$13,$BA$14,$BA$15,$BA$16,$BA$17,$BA$18,$BA$19,$BA$20,$BA$21,$BA$22,$BA$23,$BA$24,$BA$25,$BA$26,$BA$27,$BA$28,$BA$29,$BA$30,$BA$31,$BA$32,$BA$33) -> #VALUE! | P16: =CHOOSE(Q16,$BB$1,$BB$2,$BB$3,$BB$4,$BB$5,$BB$6,$BB$7,$BB$8,$BB$9,$BB$10,$BB$11,$BB$12,$BB$13,$BB$14,$BB$15,$BB$16,$BB$17,$BB$18,$BB$19,$BB$20,$BB$21,$BB$22,$BB$23,$BB$24,$BB$25,$BB$26,$BB$27,$BB$28,$BB$29,$BB$30,$BB$31,$BB$32,$BB$33) -> #VALUE! | Q16: =MAXA(R16:AX16) -> 0 | R16: {=IF($N16<=INDIRECT("BD"&R$1),IF($N16>=INDIRECT("BC"&R$1),R$1,0),0)} -> 0 | S16: {=IF($N16<=INDIRECT("BD"&S$1),IF($N16>=INDIRECT("BC"&S$1),S$1,0),0)} -> 0 | T16: {=IF($N16<=INDIRECT("BD"&T$1),IF($N16>=INDIRECT("BC"&T$1),T$1,0),0)} -> 0 | U16: {=IF($N16<=INDIRECT("BD"&U$1),IF($N16>=INDIRECT("BC"&U$1),U$1,0),0)} -> 0 | V16: {=IF($N16<=INDIRECT("BD"&V$1),IF($N16>=INDIRECT("BC"&V$1),V$1,0),0)} -> 0 | W16: {=IF($N16<=INDIRECT("BD"&W$1),IF($N16>=INDIRECT("BC"&W$1),W$1,0),0)} -> 0 | X16: {=IF($N16<=INDIRECT("BD"&X$1),IF($N16>=INDIRECT("BC"&X$1),X$1,0),0)} -> 0 | Y16: {=IF($N16<=INDIRECT("BD"&Y$1),IF($N16>=INDIRECT("BC"&Y$1),Y$1,0),0)} -> 0 | ... AW16: {=IF($N16<=INDIRECT("BD"&AW$1),IF($N16>=INDIRECT("BC"&AW$1),AW$1,0),0)} -> 0 | BA16: DEVELİ | BB16: sayfa3!OA2:OG150 | BC16: =MIN(INDIRECT(BE16)) -> 0 | BD16: =MAXA(INDIRECT(BE16)) -> 0 | BE16: sayfa3!OM$2:OM$150
D17: 16 | E17: =IFERROR(VLOOKUP(N18,INDIRECT(P18),1),"") | F17: =IFERROR(VLOOKUP(N18,$N$3:$O$151,2),"") | G17: =IFERROR(VLOOKUP(N18,INDIRECT(P18),2, FALSE),"") | H17: =IFERROR(VLOOKUP(N18,INDIRECT(P18),3, FALSE),"") | I17: =IFERROR(VLOOKUP(N18,INDIRECT(P18),4, FALSE),"") | J17: =IFERROR(VLOOKUP(N18,INDIRECT(P18),5, FALSE),"") | K17: =IFERROR(VLOOKUP(N18,INDIRECT(P18),6, FALSE),"") | L17: =IFERROR(VLOOKUP(N18,INDIRECT(P18),7, FALSE),"") | M17: . | N17: 15 | O17: =CHOOSE(Q17,$BA$1,$BA$2,$BA$3,$BA$4,$BA$5,$BA$6,$BA$7,$BA$8,$BA$9,$BA$10,$BA$11,$BA$12,$BA$13,$BA$14,$BA$15,$BA$16,$BA$17,$BA$18,$BA$19,$BA$20,$BA$21,$BA$22,$BA$23,$BA$24,$BA$25,$BA$26,$BA$27,$BA$28,$BA$29,$BA$30,$BA$31,$BA$32,$BA$33) -> #VALUE! | P17: =CHOOSE(Q17,$BB$1,$BB$2,$BB$3,$BB$4,$BB$5,$BB$6,$BB$7,$BB$8,$BB$9,$BB$10,$BB$11,$BB$12,$BB$13,$BB$14,$BB$15,$BB$16,$BB$17,$BB$18,$BB$19,$BB$20,$BB$21,$BB$22,$BB$23,$BB$24,$BB$25,$BB$26,$BB$27,$BB$28,$BB$29,$BB$30,$BB$31,$BB$32,$BB$33) -> #VALUE! | Q17: =MAXA(R17:AX17) -> 0 | R17: {=IF($N17<=INDIRECT("BD"&R$1),IF($N17>=INDIRECT("BC"&R$1),R$1,0),0)} -> 0 | S17: {=IF($N17<=INDIRECT("BD"&S$1),IF($N17>=INDIRECT("BC"&S$1),S$1,0),0)} -> 0 | T17: {=IF($N17<=INDIRECT("BD"&T$1),IF($N17>=INDIRECT("BC"&T$1),T$1,0),0)} -> 0 | U17: {=IF($N17<=INDIRECT("BD"&U$1),IF($N17>=INDIRECT("BC"&U$1),U$1,0),0)} -> 0 | V17: {=IF($N17<=INDIRECT("BD"&V$1),IF($N17>=INDIRECT("BC"&V$1),V$1,0),0)} -> 0 | W17: {=IF($N17<=INDIRECT("BD"&W$1),IF($N17>=INDIRECT("BC"&W$1),W$1,0),0)} -> 0 | X17: {=IF($N17<=INDIRECT("BD"&X$1),IF($N17>=INDIRECT("BC"&X$1),X$1,0),0)} -> 0 | Y17: {=IF($N17<=INDIRECT("BD"&Y$1),IF($N17>=INDIRECT("BC"&Y$1),Y$1,0),0)} -> 0 | ... AW17: {=IF($N17<=INDIRECT("BD"&AW$1),IF($N17>=INDIRECT("BC"&AW$1),AW$1,0),0)} -> 0 | BA17: FELAHİYE | BB17: sayfa3!PA2:PG150 | BC17: =MIN(INDIRECT(BE17)) -> 0 | BD17: =MAXA(INDIRECT(BE17)) -> 0 | BE17: sayfa3!PM$2:PM$150
... D32: 31 | E32: =IFERROR(VLOOKUP(N33,INDIRECT(P33),1),"") | F32: =IFERROR(VLOOKUP(N33,$N$3:$O$151,2),"") | G32: =IFERROR(VLOOKUP(N33,INDIRECT(P33),2, FALSE),"") | H32: =IFERROR(VLOOKUP(N33,INDIRECT(P33),3, FALSE),"") | I32: =IFERROR(VLOOKUP(N33,INDIRECT(P33),4, FALSE),"") | J32: =IFERROR(VLOOKUP(N33,INDIRECT(P33),5, FALSE),"") | K32: =IFERROR(VLOOKUP(N33,INDIRECT(P33),6, FALSE),"") | L32: =IFERROR(VLOOKUP(N33,INDIRECT(P33),7, FALSE),"") | M32: . | N32: 30 | O32: =CHOOSE(Q32,$BA$1,$BA$2,$BA$3,$BA$4,$BA$5,$BA$6,$BA$7,$BA$8,$BA$9,$BA$10,$BA$11,$BA$12,$BA$13,$BA$14,$BA$15,$BA$16,$BA$17,$BA$18,$BA$19,$BA$20,$BA$21,$BA$22,$BA$23,$BA$24,$BA$25,$BA$26,$BA$27,$BA$28,$BA$29,$BA$30,$BA$31,$BA$32,$BA$33) -> #VALUE! | P32: =CHOOSE(Q32,$BB$1,$BB$2,$BB$3,$BB$4,$BB$5,$BB$6,$BB$7,$BB$8,$BB$9,$BB$10,$BB$11,$BB$12,$BB$13,$BB$14,$BB$15,$BB$16,$BB$17,$BB$18,$BB$19,$BB$20,$BB$21,$BB$22,$BB$23,$BB$24,$BB$25,$BB$26,$BB$27,$BB$28,$BB$29,$BB$30,$BB$31,$BB$32,$BB$33) -> #VALUE! | Q32: =MAXA(R32:AX32) -> 0 | R32: {=IF($N32<=INDIRECT("BD"&R$1),IF($N32>=INDIRECT("BC"&R$1),R$1,0),0)} -> 0 | S32: {=IF($N32<=INDIRECT("BD"&S$1),IF($N32>=INDIRECT("BC"&S$1),S$1,0),0)} -> 0 | T32: {=IF($N32<=INDIRECT("BD"&T$1),IF($N32>=INDIRECT("BC"&T$1),T$1,0),0)} -> 0 | U32: {=IF($N32<=INDIRECT("BD"&U$1),IF($N32>=INDIRECT("BC"&U$1),U$1,0),0)} -> 0 | V32: {=IF($N32<=INDIRECT("BD"&V$1),IF($N32>=INDIRECT("BC"&V$1),V$1,0),0)} -> 0 | W32: {=IF($N32<=INDIRECT("BD"&W$1),IF($N32>=INDIRECT("BC"&W$1),W$1,0),0)} -> 0 | X32: {=IF($N32<=INDIRECT("BD"&X$1),IF($N32>=INDIRECT("BC"&X$1),X$1,0),0)} -> 0 | Y32: {=IF($N32<=INDIRECT("BD"&Y$1),IF($N32>=INDIRECT("BC"&Y$1),Y$1,0),0)} -> 0 | ... AW32: {=IF($N32<=INDIRECT("BD"&AW$1),IF($N32>=INDIRECT("BC"&AW$1),AW$1,0),0)} -> 0 | BA32: ALTERNATİF | BB32: sayfa3!AEA2:AEG150 | BC32: =MIN(INDIRECT(BE32)) -> 0 | BD32: =MAXA(INDIRECT(BE32)) -> 0 | BE32: sayfa3!AEM$2:AEM$150
D33: 32 | E33: =IFERROR(VLOOKUP(N34,INDIRECT(P34),1),"") | F33: =IFERROR(VLOOKUP(N34,$N$3:$O$151,2),"") | G33: =IFERROR(VLOOKUP(N34,INDIRECT(P34),2, FALSE),"") | H33: =IFERROR(VLOOKUP(N34,INDIRECT(P34),3, FALSE),"") | I33: =IFERROR(VLOOKUP(N34,INDIRECT(P34),4, FALSE),"") | J33: =IFERROR(VLOOKUP(N34,INDIRECT(P34),5, FALSE),"") | K33: =IFERROR(VLOOKUP(N34,INDIRECT(P34),6, FALSE),"") | L33: =IFERROR(VLOOKUP(N34,INDIRECT(P34),7, FALSE),"") | M33: . | N33: 31 | O33: =CHOOSE(Q33,$BA$1,$BA$2,$BA$3,$BA$4,$BA$5,$BA$6,$BA$7,$BA$8,$BA$9,$BA$10,$BA$11,$BA$12,$BA$13,$BA$14,$BA$15,$BA$16,$BA$17,$BA$18,$BA$19,$BA$20,$BA$21,$BA$22,$BA$23,$BA$24,$BA$25,$BA$26,$BA$27,$BA$28,$BA$29,$BA$30,$BA$31,$BA$32,$BA$33) -> #VALUE! | P33: =CHOOSE(Q33,$BB$1,$BB$2,$BB$3,$BB$4,$BB$5,$BB$6,$BB$7,$BB$8,$BB$9,$BB$10,$BB$11,$BB$12,$BB$13,$BB$14,$BB$15,$BB$16,$BB$17,$BB$18,$BB$19,$BB$20,$BB$21,$BB$22,$BB$23,$BB$24,$BB$25,$BB$26,$BB$27,$BB$28,$BB$29,$BB$30,$BB$31,$BB$32,$BB$33) -> #VALUE! | Q33: =MAXA(R33:AX33) -> 0 | R33: {=IF($N33<=INDIRECT("BD"&R$1),IF($N33>=INDIRECT("BC"&R$1),R$1,0),0)} -> 0 | S33: {=IF($N33<=INDIRECT("BD"&S$1),IF($N33>=INDIRECT("BC"&S$1),S$1,0),0)} -> 0 | T33: {=IF($N33<=INDIRECT("BD"&T$1),IF($N33>=INDIRECT("BC"&T$1),T$1,0),0)} -> 0 | U33: {=IF($N33<=INDIRECT("BD"&U$1),IF($N33>=INDIRECT("BC"&U$1),U$1,0),0)} -> 0 | V33: {=IF($N33<=INDIRECT("BD"&V$1),IF($N33>=INDIRECT("BC"&V$1),V$1,0),0)} -> 0 | W33: {=IF($N33<=INDIRECT("BD"&W$1),IF($N33>=INDIRECT("BC"&W$1),W$1,0),0)} -> 0 | X33: {=IF($N33<=INDIRECT("BD"&X$1),IF($N33>=INDIRECT("BC"&X$1),X$1,0),0)} -> 0 | Y33: {=IF($N33<=INDIRECT("BD"&Y$1),IF($N33>=INDIRECT("BC"&Y$1),Y$1,0),0)} -> 0 | ... AW33: {=IF($N33<=INDIRECT("BD"&AW$1),IF($N33>=INDIRECT("BC"&AW$1),AW$1,0),0)} -> 0 | BB33: sayfa3!AFA2:AFG150 | BC33: =MIN(INDIRECT(BE33)) -> 0 | BD33: =MAXA(INDIRECT(BE33)) -> 0 | BE33: sayfa3!AFM$2:AFM$150
D34: 33 | E34: =IFERROR(VLOOKUP(N35,INDIRECT(P35),1),"") | F34: =IFERROR(VLOOKUP(N35,$N$3:$O$151,2),"") | G34: =IFERROR(VLOOKUP(N35,INDIRECT(P35),2, FALSE),"") | H34: =IFERROR(VLOOKUP(N35,INDIRECT(P35),3, FALSE),"") | I34: =IFERROR(VLOOKUP(N35,INDIRECT(P35),4, FALSE),"") | J34: =IFERROR(VLOOKUP(N35,INDIRECT(P35),5, FALSE),"") | K34: =IFERROR(VLOOKUP(N35,INDIRECT(P35),6, FALSE),"") | L34: =IFERROR(VLOOKUP(N35,INDIRECT(P35),7, FALSE),"") | M34: . | N34: 32 | O34: =CHOOSE(Q34,$BA$1,$BA$2,$BA$3,$BA$4,$BA$5,$BA$6,$BA$7,$BA$8,$BA$9,$BA$10,$BA$11,$BA$12,$BA$13,$BA$14,$BA$15,$BA$16,$BA$17,$BA$18,$BA$19,$BA$20,$BA$21,$BA$22,$BA$23,$BA$24,$BA$25,$BA$26,$BA$27,$BA$28,$BA$29,$BA$30,$BA$31,$BA$32,$BA$33) -> #VALUE! | P34: =CHOOSE(Q34,$BB$1,$BB$2,$BB$3,$BB$4,$BB$5,$BB$6,$BB$7,$BB$8,$BB$9,$BB$10,$BB$11,$BB$12,$BB$13,$BB$14,$BB$15,$BB$16,$BB$17,$BB$18,$BB$19,$BB$20,$BB$21,$BB$22,$BB$23,$BB$24,$BB$25,$BB$26,$BB$27,$BB$28,$BB$29,$BB$30,$BB$31,$BB$32,$BB$33) -> #VALUE! | Q34: =MAXA(R34:AX34) -> 0 | R34: {=IF($N34<=INDIRECT("BD"&R$1),IF($N34>=INDIRECT("BC"&R$1),R$1,0),0)} -> 0 | S34: {=IF($N34<=INDIRECT("BD"&S$1),IF($N34>=INDIRECT("BC"&S$1),S$1,0),0)} -> 0 | T34: {=IF($N34<=INDIRECT("BD"&T$1),IF($N34>=INDIRECT("BC"&T$1),T$1,0),0)} -> 0 | U34: {=IF($N34<=INDIRECT("BD"&U$1),IF($N34>=INDIRECT("BC"&U$1),U$1,0),0)} -> 0 | V34: {=IF($N34<=INDIRECT("BD"&V$1),IF($N34>=INDIRECT("BC"&V$1),V$1,0),0)} -> 0 | W34: {=IF($N34<=INDIRECT("BD"&W$1),IF($N34>=INDIRECT("BC"&W$1),W$1,0),0)} -> 0 | X34: {=IF($N34<=INDIRECT("BD"&X$1),IF($N34>=INDIRECT("BC"&X$1),X$1,0),0)} -> 0 | Y34: {=IF($N34<=INDIRECT("BD"&Y$1),IF($N34>=INDIRECT("BC"&Y$1),Y$1,0),0)} -> 0 | ... AW34: {=IF($N34<=INDIRECT("BD"&AW$1),IF($N34>=INDIRECT("BC"&AW$1),AW$1,0),0)} -> 0
D35: 34 | E35: =IFERROR(VLOOKUP(N36,INDIRECT(P36),1),"") | F35: =IFERROR(VLOOKUP(N36,$N$3:$O$151,2),"") | G35: =IFERROR(VLOOKUP(N36,INDIRECT(P36),2, FALSE),"") | H35: =IFERROR(VLOOKUP(N36,INDIRECT(P36),3, FALSE),"") | I35: =IFERROR(VLOOKUP(N36,INDIRECT(P36),4, FALSE),"") | J35: =IFERROR(VLOOKUP(N36,INDIRECT(P36),5, FALSE),"") | K35: =IFERROR(VLOOKUP(N36,INDIRECT(P36),6, FALSE),"") | L35: =IFERROR(VLOOKUP(N36,INDIRECT(P36),7, FALSE),"") | M35: . | N35: 33 | O35: =CHOOSE(Q35,$BA$1,$BA$2,$BA$3,$BA$4,$BA$5,$BA$6,$BA$7,$BA$8,$BA$9,$BA$10,$BA$11,$BA$12,$BA$13,$BA$14,$BA$15,$BA$16,$BA$17,$BA$18,$BA$19,$BA$20,$BA$21,$BA$22,$BA$23,$BA$24,$BA$25,$BA$26,$BA$27,$BA$28,$BA$29,$BA$30,$BA$31,$BA$32,$BA$33) -> #VALUE! | P35: =CHOOSE(Q35,$BB$1,$BB$2,$BB$3,$BB$4,$BB$5,$BB$6,$BB$7,$BB$8,$BB$9,$BB$10,$BB$11,$BB$12,$BB$13,$BB$14,$BB$15,$BB$16,$BB$17,$BB$18,$BB$19,$BB$20,$BB$21,$BB$22,$BB$23,$BB$24,$BB$25,$BB$26,$BB$27,$BB$28,$BB$29,$BB$30,$BB$31,$BB$32,$BB$33) -> #VALUE! | Q35: =MAXA(R35:AX35) -> 0 | R35: {=IF($N35<=INDIRECT("BD"&R$1),IF($N35>=INDIRECT("BC"&R$1),R$1,0),0)} -> 0 | S35: {=IF($N35<=INDIRECT("BD"&S$1),IF($N35>=INDIRECT("BC"&S$1),S$1,0),0)} -> 0 | T35: {=IF($N35<=INDIRECT("BD"&T$1),IF($N35>=INDIRECT("BC"&T$1),T$1,0),0)} -> 0 | U35: {=IF($N35<=INDIRECT("BD"&U$1),IF($N35>=INDIRECT("BC"&U$1),U$1,0),0)} -> 0 | V35: {=IF($N35<=INDIRECT("BD"&V$1),IF($N35>=INDIRECT("BC"&V$1),V$1,0),0)} -> 0 | W35: {=IF($N35<=INDIRECT("BD"&W$1),IF($N35>=INDIRECT("BC"&W$1),W$1,0),0)} -> 0 | X35: {=IF($N35<=INDIRECT("BD"&X$1),IF($N35>=INDIRECT("BC"&X$1),X$1,0),0)} -> 0 | Y35: {=IF($N35<=INDIRECT("BD"&Y$1),IF($N35>=INDIRECT("BC"&Y$1),Y$1,0),0)} -> 0 | ... AW35: {=IF($N35<=INDIRECT("BD"&AW$1),IF($N35>=INDIRECT("BC"&AW$1),AW$1,0),0)} -> 0
D36: 35 | E36: =IFERROR(VLOOKUP(N37,INDIRECT(P37),1),"") | F36: =IFERROR(VLOOKUP(N37,$N$3:$O$151,2),"") | G36: =IFERROR(VLOOKUP(N37,INDIRECT(P37),2, FALSE),"") | H36: =IFERROR(VLOOKUP(N37,INDIRECT(P37),3, FALSE),"") | I36: =IFERROR(VLOOKUP(N37,INDIRECT(P37),4, FALSE),"") | J36: =IFERROR(VLOOKUP(N37,INDIRECT(P37),5, FALSE),"") | K36: =IFERROR(VLOOKUP(N37,INDIRECT(P37),6, FALSE),"") | L36: =IFERROR(VLOOKUP(N37,INDIRECT(P37),7, FALSE),"") | M36: . | N36: 34 | O36: =CHOOSE(Q36,$BA$1,$BA$2,$BA$3,$BA$4,$BA$5,$BA$6,$BA$7,$BA$8,$BA$9,$BA$10,$BA$11,$BA$12,$BA$13,$BA$14,$BA$15,$BA$16,$BA$17,$BA$18,$BA$19,$BA$20,$BA$21,$BA$22,$BA$23,$BA$24,$BA$25,$BA$26,$BA$27,$BA$28,$BA$29,$BA$30,$BA$31,$BA$32,$BA$33) -> #VALUE! | P36: =CHOOSE(Q36,$BB$1,$BB$2,$BB$3,$BB$4,$BB$5,$BB$6,$BB$7,$BB$8,$BB$9,$BB$10,$BB$11,$BB$12,$BB$13,$BB$14,$BB$15,$BB$16,$BB$17,$BB$18,$BB$19,$BB$20,$BB$21,$BB$22,$BB$23,$BB$24,$BB$25,$BB$26,$BB$27,$BB$28,$BB$29,$BB$30,$BB$31,$BB$32,$BB$33) -> #VALUE! | Q36: =MAXA(R36:AX36) -> 0 | R36: {=IF($N36<=INDIRECT("BD"&R$1),IF($N36>=INDIRECT("BC"&R$1),R$1,0),0)} -> 0 | S36: {=IF($N36<=INDIRECT("BD"&S$1),IF($N36>=INDIRECT("BC"&S$1),S$1,0),0)} -> 0 | T36: {=IF($N36<=INDIRECT("BD"&T$1),IF($N36>=INDIRECT("BC"&T$1),T$1,0),0)} -> 0 | U36: {=IF($N36<=INDIRECT("BD"&U$1),IF($N36>=INDIRECT("BC"&U$1),U$1,0),0)} -> 0 | V36: {=IF($N36<=INDIRECT("BD"&V$1),IF($N36>=INDIRECT("BC"&V$1),V$1,0),0)} -> 0 | W36: {=IF($N36<=INDIRECT("BD"&W$1),IF($N36>=INDIRECT("BC"&W$1),W$1,0),0)} -> 0 | X36: {=IF($N36<=INDIRECT("BD"&X$1),IF($N36>=INDIRECT("BC"&X$1),X$1,0),0)} -> 0 | Y36: {=IF($N36<=INDIRECT("BD"&Y$1),IF($N36>=INDIRECT("BC"&Y$1),Y$1,0),0)} -> 0 | ... AW36: {=IF($N36<=INDIRECT("BD"&AW$1),IF($N36>=INDIRECT("BC"&AW$1),AW$1,0),0)} -> 0
D37: 36 | E37: =IFERROR(VLOOKUP(N38,INDIRECT(P38),1),"") | F37: =IFERROR(VLOOKUP(N38,$N$3:$O$151,2),"") | G37: =IFERROR(VLOOKUP(N38,INDIRECT(P38),2, FALSE),"") | H37: =IFERROR(VLOOKUP(N38,INDIRECT(P38),3, FALSE),"") | I37: =IFERROR(VLOOKUP(N38,INDIRECT(P38),4, FALSE),"") | J37: =IFERROR(VLOOKUP(N38,INDIRECT(P38),5, FALSE),"") | K37: =IFERROR(VLOOKUP(N38,INDIRECT(P38),6, FALSE),"") | L37: =IFERROR(VLOOKUP(N38,INDIRECT(P38),7, FALSE),"") | M37: . | N37: 35 | O37: =CHOOSE(Q37,$BA$1,$BA$2,$BA$3,$BA$4,$BA$5,$BA$6,$BA$7,$BA$8,$BA$9,$BA$10,$BA$11,$BA$12,$BA$13,$BA$14,$BA$15,$BA$16,$BA$17,$BA$18,$BA$19,$BA$20,$BA$21,$BA$22,$BA$23,$BA$24,$BA$25,$BA$26,$BA$27,$BA$28,$BA$29,$BA$30,$BA$31,$BA$32,$BA$33) -> #VALUE! | P37: =CHOOSE(Q37,$BB$1,$BB$2,$BB$3,$BB$4,$BB$5,$BB$6,$BB$7,$BB$8,$BB$9,$BB$10,$BB$11,$BB$12,$BB$13,$BB$14,$BB$15,$BB$16,$BB$17,$BB$18,$BB$19,$BB$20,$BB$21,$BB$22,$BB$23,$BB$24,$BB$25,$BB$26,$BB$27,$BB$28,$BB$29,$BB$30,$BB$31,$BB$32,$BB$33) -> #VALUE! | Q37: =MAXA(R37:AX37) -> 0 | R37: {=IF($N37<=INDIRECT("BD"&R$1),IF($N37>=INDIRECT("BC"&R$1),R$1,0),0)} -> 0 | S37: {=IF($N37<=INDIRECT("BD"&S$1),IF($N37>=INDIRECT("BC"&S$1),S$1,0),0)} -> 0 | T37: {=IF($N37<=INDIRECT("BD"&T$1),IF($N37>=INDIRECT("BC"&T$1),T$1,0),0)} -> 0 | U37: {=IF($N37<=INDIRECT("BD"&U$1),IF($N37>=INDIRECT("BC"&U$1),U$1,0),0)} -> 0 | V37: {=IF($N37<=INDIRECT("BD"&V$1),IF($N37>=INDIRECT("BC"&V$1),V$1,0),0)} -> 0 | W37: {=IF($N37<=INDIRECT("BD"&W$1),IF($N37>=INDIRECT("BC"&W$1),W$1,0),0)} -> 0 | X37: {=IF($N37<=INDIRECT("BD"&X$1),IF($N37>=INDIRECT("BC"&X$1),X$1,0),0)} -> 0 | Y37: {=IF($N37<=INDIRECT("BD"&Y$1),IF($N37>=INDIRECT("BC"&Y$1),Y$1,0),0)} -> 0 | ... AW37: {=IF($N37<=INDIRECT("BD"&AW$1),IF($N37>=INDIRECT("BC"&AW$1),AW$1,0),0)} -> 0
D38: 37 | E38: =IFERROR(VLOOKUP(N39,INDIRECT(P39),1),"") | F38: =IFERROR(VLOOKUP(N39,$N$3:$O$151,2),"") | G38: =IFERROR(VLOOKUP(N39,INDIRECT(P39),2, FALSE),"") | H38: =IFERROR(VLOOKUP(N39,INDIRECT(P39),3, FALSE),"") | I38: =IFERROR(VLOOKUP(N39,INDIRECT(P39),4, FALSE),"") | J38: =IFERROR(VLOOKUP(N39,INDIRECT(P39),5, FALSE),"") | K38: =IFERROR(VLOOKUP(N39,INDIRECT(P39),6, FALSE),"") | L38: =IFERROR(VLOOKUP(N39,INDIRECT(P39),7, FALSE),"") | M38: . | N38: 36 | O38: =CHOOSE(Q38,$BA$1,$BA$2,$BA$3,$BA$4,$BA$5,$BA$6,$BA$7,$BA$8,$BA$9,$BA$10,$BA$11,$BA$12,$BA$13,$BA$14,$BA$15,$BA$16,$BA$17,$BA$18,$BA$19,$BA$20,$BA$21,$BA$22,$BA$23,$BA$24,$BA$25,$BA$26,$BA$27,$BA$28,$BA$29,$BA$30,$BA$31,$BA$32,$BA$33) -> #VALUE! | P38: =CHOOSE(Q38,$BB$1,$BB$2,$BB$3,$BB$4,$BB$5,$BB$6,$BB$7,$BB$8,$BB$9,$BB$10,$BB$11,$BB$12,$BB$13,$BB$14,$BB$15,$BB$16,$BB$17,$BB$18,$BB$19,$BB$20,$BB$21,$BB$22,$BB$23,$BB$24,$BB$25,$BB$26,$BB$27,$BB$28,$BB$29,$BB$30,$BB$31,$BB$32,$BB$33) -> #VALUE! | Q38: =MAXA(R38:AX38) -> 0 | R38: {=IF($N38<=INDIRECT("BD"&R$1),IF($N38>=INDIRECT("BC"&R$1),R$1,0),0)} -> 0 | S38: {=IF($N38<=INDIRECT("BD"&S$1),IF($N38>=INDIRECT("BC"&S$1),S$1,0),0)} -> 0 | T38: {=IF($N38<=INDIRECT("BD"&T$1),IF($N38>=INDIRECT("BC"&T$1),T$1,0),0)} -> 0 | U38: {=IF($N38<=INDIRECT("BD"&U$1),IF($N38>=INDIRECT("BC"&U$1),U$1,0),0)} -> 0 | V38: {=IF($N38<=INDIRECT("BD"&V$1),IF($N38>=INDIRECT("BC"&V$1),V$1,0),0)} -> 0 | W38: {=IF($N38<=INDIRECT("BD"&W$1),IF($N38>=INDIRECT("BC"&W$1),W$1,0),0)} -> 0 | X38: {=IF($N38<=INDIRECT("BD"&X$1),IF($N38>=INDIRECT("BC"&X$1),X$1,0),0)} -> 0 | Y38: {=IF($N38<=INDIRECT("BD"&Y$1),IF($N38>=INDIRECT("BC"&Y$1),Y$1,0),0)} -> 0 | ... AW38: {=IF($N38<=INDIRECT("BD"&AW$1),IF($N38>=INDIRECT("BC"&AW$1),AW$1,0),0)} -> 0
D39: 38 | E39: =IFERROR(VLOOKUP(N40,INDIRECT(P40),1),"") | F39: =IFERROR(VLOOKUP(N40,$N$3:$O$151,2),"") | G39: =IFERROR(VLOOKUP(N40,INDIRECT(P40),2, FALSE),"") | H39: =IFERROR(VLOOKUP(N40,INDIRECT(P40),3, FALSE),"") | I39: =IFERROR(VLOOKUP(N40,INDIRECT(P40),4, FALSE),"") | J39: =IFERROR(VLOOKUP(N40,INDIRECT(P40),5, FALSE),"") | K39: =IFERROR(VLOOKUP(N40,INDIRECT(P40),6, FALSE),"") | L39: =IFERROR(VLOOKUP(N40,INDIRECT(P40),7, FALSE),"") | M39: . | N39: 37 | O39: =CHOOSE(Q39,$BA$1,$BA$2,$BA$3,$BA$4,$BA$5,$BA$6,$BA$7,$BA$8,$BA$9,$BA$10,$BA$11,$BA$12,$BA$13,$BA$14,$BA$15,$BA$16,$BA$17,$BA$18,$BA$19,$BA$20,$BA$21,$BA$22,$BA$23,$BA$24,$BA$25,$BA$26,$BA$27,$BA$28,$BA$29,$BA$30,$BA$31,$BA$32,$BA$33) -> #VALUE! | P39: =CHOOSE(Q39,$BB$1,$BB$2,$BB$3,$BB$4,$BB$5,$BB$6,$BB$7,$BB$8,$BB$9,$BB$10,$BB$11,$BB$12,$BB$13,$BB$14,$BB$15,$BB$16,$BB$17,$BB$18,$BB$19,$BB$20,$BB$21,$BB$22,$BB$23,$BB$24,$BB$25,$BB$26,$BB$27,$BB$28,$BB$29,$BB$30,$BB$31,$BB$32,$BB$33) -> #VALUE! | Q39: =MAXA(R39:AX39) -> 0 | R39: {=IF($N39<=INDIRECT("BD"&R$1),IF($N39>=INDIRECT("BC"&R$1),R$1,0),0)} -> 0 | S39: {=IF($N39<=INDIRECT("BD"&S$1),IF($N39>=INDIRECT("BC"&S$1),S$1,0),0)} -> 0 | T39: {=IF($N39<=INDIRECT("BD"&T$1),IF($N39>=INDIRECT("BC"&T$1),T$1,0),0)} -> 0 | U39: {=IF($N39<=INDIRECT("BD"&U$1),IF($N39>=INDIRECT("BC"&U$1),U$1,0),0)} -> 0 | V39: {=IF($N39<=INDIRECT("BD"&V$1),IF($N39>=INDIRECT("BC"&V$1),V$1,0),0)} -> 0 | W39: {=IF($N39<=INDIRECT("BD"&W$1),IF($N39>=INDIRECT("BC"&W$1),W$1,0),0)} -> 0 | X39: {=IF($N39<=INDIRECT("BD"&X$1),IF($N39>=INDIRECT("BC"&X$1),X$1,0),0)} -> 0 | Y39: {=IF($N39<=INDIRECT("BD"&Y$1),IF($N39>=INDIRECT("BC"&Y$1),Y$1,0),0)} -> 0 | ... AW39: {=IF($N39<=INDIRECT("BD"&AW$1),IF($N39>=INDIRECT("BC"&AW$1),AW$1,0),0)} -> 0
D40: 39 | E40: =IFERROR(VLOOKUP(N41,INDIRECT(P41),1),"") | F40: =IFERROR(VLOOKUP(N41,$N$3:$O$151,2),"") | G40: =IFERROR(VLOOKUP(N41,INDIRECT(P41),2, FALSE),"") | H40: =IFERROR(VLOOKUP(N41,INDIRECT(P41),3, FALSE),"") | I40: =IFERROR(VLOOKUP(N41,INDIRECT(P41),4, FALSE),"") | J40: =IFERROR(VLOOKUP(N41,INDIRECT(P41),5, FALSE),"") | K40: =IFERROR(VLOOKUP(N41,INDIRECT(P41),6, FALSE),"") | L40: =IFERROR(VLOOKUP(N41,INDIRECT(P41),7, FALSE),"") | M40: . | N40: 38 | O40: =CHOOSE(Q40,$BA$1,$BA$2,$BA$3,$BA$4,$BA$5,$BA$6,$BA$7,$BA$8,$BA$9,$BA$10,$BA$11,$BA$12,$BA$13,$BA$14,$BA$15,$BA$16,$BA$17,$BA$18,$BA$19,$BA$20,$BA$21,$BA$22,$BA$23,$BA$24,$BA$25,$BA$26,$BA$27,$BA$28,$BA$29,$BA$30,$BA$31,$BA$32,$BA$33) -> #VALUE! | P40: =CHOOSE(Q40,$BB$1,$BB$2,$BB$3,$BB$4,$BB$5,$BB$6,$BB$7,$BB$8,$BB$9,$BB$10,$BB$11,$BB$12,$BB$13,$BB$14,$BB$15,$BB$16,$BB$17,$BB$18,$BB$19,$BB$20,$BB$21,$BB$22,$BB$23,$BB$24,$BB$25,$BB$26,$BB$27,$BB$28,$BB$29,$BB$30,$BB$31,$BB$32,$BB$33) -> #VALUE! | Q40: =MAXA(R40:AX40) -> 0 | R40: {=IF($N40<=INDIRECT("BD"&R$1),IF($N40>=INDIRECT("BC"&R$1),R$1,0),0)} -> 0 | S40: {=IF($N40<=INDIRECT("BD"&S$1),IF($N40>=INDIRECT("BC"&S$1),S$1,0),0)} -> 0 | T40: {=IF($N40<=INDIRECT("BD"&T$1),IF($N40>=INDIRECT("BC"&T$1),T$1,0),0)} -> 0 | U40: {=IF($N40<=INDIRECT("BD"&U$1),IF($N40>=INDIRECT("BC"&U$1),U$1,0),0)} -> 0 | V40: {=IF($N40<=INDIRECT("BD"&V$1),IF($N40>=INDIRECT("BC"&V$1),V$1,0),0)} -> 0 | W40: {=IF($N40<=INDIRECT("BD"&W$1),IF($N40>=INDIRECT("BC"&W$1),W$1,0),0)} -> 0 | X40: {=IF($N40<=INDIRECT("BD"&X$1),IF($N40>=INDIRECT("BC"&X$1),X$1,0),0)} -> 0 | Y40: {=IF($N40<=INDIRECT("BD"&Y$1),IF($N40>=INDIRECT("BC"&Y$1),Y$1,0),0)} -> 0 | ... AW40: {=IF($N40<=INDIRECT("BD"&AW$1),IF($N40>=INDIRECT("BC"&AW$1),AW$1,0),0)} -> 0
D41: 40 | E41: =IFERROR(VLOOKUP(N42,INDIRECT(P42),1),"") | F41: =IFERROR(VLOOKUP(N42,$N$3:$O$151,2),"") | G41: =IFERROR(VLOOKUP(N42,INDIRECT(P42),2, FALSE),"") | H41: =IFERROR(VLOOKUP(N42,INDIRECT(P42),3, FALSE),"") | I41: =IFERROR(VLOOKUP(N42,INDIRECT(P42),4, FALSE),"") | J41: =IFERROR(VLOOKUP(N42,INDIRECT(P42),5, FALSE),"") | K41: =IFERROR(VLOOKUP(N42,INDIRECT(P42),6, FALSE),"") | L41: =IFERROR(VLOOKUP(N42,INDIRECT(P42),7, FALSE),"") | M41: . | N41: 39 | O41: =CHOOSE(Q41,$BA$1,$BA$2,$BA$3,$BA$4,$BA$5,$BA$6,$BA$7,$BA$8,$BA$9,$BA$10,$BA$11,$BA$12,$BA$13,$BA$14,$BA$15,$BA$16,$BA$17,$BA$18,$BA$19,$BA$20,$BA$21,$BA$22,$BA$23,$BA$24,$BA$25,$BA$26,$BA$27,$BA$28,$BA$29,$BA$30,$BA$31,$BA$32,$BA$33) -> #VALUE! | P41: =CHOOSE(Q41,$BB$1,$BB$2,$BB$3,$BB$4,$BB$5,$BB$6,$BB$7,$BB$8,$BB$9,$BB$10,$BB$11,$BB$12,$BB$13,$BB$14,$BB$15,$BB$16,$BB$17,$BB$18,$BB$19,$BB$20,$BB$21,$BB$22,$BB$23,$BB$24,$BB$25,$BB$26,$BB$27,$BB$28,$BB$29,$BB$30,$BB$31,$BB$32,$BB$33) -> #VALUE! | Q41: =MAXA(R41:AX41) -> 0 | R41: {=IF($N41<=INDIRECT("BD"&R$1),IF($N41>=INDIRECT("BC"&R$1),R$1,0),0)} -> 0 | S41: {=IF($N41<=INDIRECT("BD"&S$1),IF($N41>=INDIRECT("BC"&S$1),S$1,0),0)} -> 0 | T41: {=IF($N41<=INDIRECT("BD"&T$1),IF($N41>=INDIRECT("BC"&T$1),T$1,0),0)} -> 0 | U41: {=IF($N41<=INDIRECT("BD"&U$1),IF($N41>=INDIRECT("BC"&U$1),U$1,0),0)} -> 0 | V41: {=IF($N41<=INDIRECT("BD"&V$1),IF($N41>=INDIRECT("BC"&V$1),V$1,0),0)} -> 0 | W41: {=IF($N41<=INDIRECT("BD"&W$1),IF($N41>=INDIRECT("BC"&W$1),W$1,0),0)} -> 0 | X41: {=IF($N41<=INDIRECT("BD"&X$1),IF($N41>=INDIRECT("BC"&X$1),X$1,0),0)} -> 0 | Y41: {=IF($N41<=INDIRECT("BD"&Y$1),IF($N41>=INDIRECT("BC"&Y$1),Y$1,0),0)} -> 0 | ... AW41: {=IF($N41<=INDIRECT("BD"&AW$1),IF($N41>=INDIRECT("BC"&AW$1),AW$1,0),0)} -> 0
D42: 41 | E42: =IFERROR(VLOOKUP(N43,INDIRECT(P43),1),"") | F42: =IFERROR(VLOOKUP(N43,$N$3:$O$151,2),"") | G42: =IFERROR(VLOOKUP(N43,INDIRECT(P43),2, FALSE),"") | H42: =IFERROR(VLOOKUP(N43,INDIRECT(P43),3, FALSE),"") | I42: =IFERROR(VLOOKUP(N43,INDIRECT(P43),4, FALSE),"") | J42: =IFERROR(VLOOKUP(N43,INDIRECT(P43),5, FALSE),"") | K42: =IFERROR(VLOOKUP(N43,INDIRECT(P43),6, FALSE),"") | L42: =IFERROR(VLOOKUP(N43,INDIRECT(P43),7, FALSE),"") | M42: . | N42: 40 | O42: =CHOOSE(Q42,$BA$1,$BA$2,$BA$3,$BA$4,$BA$5,$BA$6,$BA$7,$BA$8,$BA$9,$BA$10,$BA$11,$BA$12,$BA$13,$BA$14,$BA$15,$BA$16,$BA$17,$BA$18,$BA$19,$BA$20,$BA$21,$BA$22,$BA$23,$BA$24,$BA$25,$BA$26,$BA$27,$BA$28,$BA$29,$BA$30,$BA$31,$BA$32,$BA$33) -> #VALUE! | P42: =CHOOSE(Q42,$BB$1,$BB$2,$BB$3,$BB$4,$BB$5,$BB$6,$BB$7,$BB$8,$BB$9,$BB$10,$BB$11,$BB$12,$BB$13,$BB$14,$BB$15,$BB$16,$BB$17,$BB$18,$BB$19,$BB$20,$BB$21,$BB$22,$BB$23,$BB$24,$BB$25,$BB$26,$BB$27,$BB$28,$BB$29,$BB$30,$BB$31,$BB$32,$BB$33) -> #VALUE! | Q42: =MAXA(R42:AX42) -> 0 | R42: {=IF($N42<=INDIRECT("BD"&R$1),IF($N42>=INDIRECT("BC"&R$1),R$1,0),0)} -> 0 | S42: {=IF($N42<=INDIRECT("BD"&S$1),IF($N42>=INDIRECT("BC"&S$1),S$1,0),0)} -> 0 | T42: {=IF($N42<=INDIRECT("BD"&T$1),IF($N42>=INDIRECT("BC"&T$1),T$1,0),0)} -> 0 | U42: {=IF($N42<=INDIRECT("BD"&U$1),IF($N42>=INDIRECT("BC"&U$1),U$1,0),0)} -> 0 | V42: {=IF($N42<=INDIRECT("BD"&V$1),IF($N42>=INDIRECT("BC"&V$1),V$1,0),0)} -> 0 | W42: {=IF($N42<=INDIRECT("BD"&W$1),IF($N42>=INDIRECT("BC"&W$1),W$1,0),0)} -> 0 | X42: {=IF($N42<=INDIRECT("BD"&X$1),IF($N42>=INDIRECT("BC"&X$1),X$1,0),0)} -> 0 | Y42: {=IF($N42<=INDIRECT("BD"&Y$1),IF($N42>=INDIRECT("BC"&Y$1),Y$1,0),0)} -> 0 | ... AW42: {=IF($N42<=INDIRECT("BD"&AW$1),IF($N42>=INDIRECT("BC"&AW$1),AW$1,0),0)} -> 0
D43: 42 | E43: =IFERROR(VLOOKUP(N44,INDIRECT(P44),1),"") | F43: =IFERROR(VLOOKUP(N44,$N$3:$O$151,2),"") | G43: =IFERROR(VLOOKUP(N44,INDIRECT(P44),2, FALSE),"") | H43: =IFERROR(VLOOKUP(N44,INDIRECT(P44),3, FALSE),"") | I43: =IFERROR(VLOOKUP(N44,INDIRECT(P44),4, FALSE),"") | J43: =IFERROR(VLOOKUP(N44,INDIRECT(P44),5, FALSE),"") | K43: =IFERROR(VLOOKUP(N44,INDIRECT(P44),6, FALSE),"") | L43: =IFERROR(VLOOKUP(N44,INDIRECT(P44),7, FALSE),"") | M43: . | N43: 41 | O43: =CHOOSE(Q43,$BA$1,$BA$2,$BA$3,$BA$4,$BA$5,$BA$6,$BA$7,$BA$8,$BA$9,$BA$10,$BA$11,$BA$12,$BA$13,$BA$14,$BA$15,$BA$16,$BA$17,$BA$18,$BA$19,$BA$20,$BA$21,$BA$22,$BA$23,$BA$24,$BA$25,$BA$26,$BA$27,$BA$28,$BA$29,$BA$30,$BA$31,$BA$32,$BA$33) -> #VALUE! | P43: =CHOOSE(Q43,$BB$1,$BB$2,$BB$3,$BB$4,$BB$5,$BB$6,$BB$7,$BB$8,$BB$9,$BB$10,$BB$11,$BB$12,$BB$13,$BB$14,$BB$15,$BB$16,$BB$17,$BB$18,$BB$19,$BB$20,$BB$21,$BB$22,$BB$23,$BB$24,$BB$25,$BB$26,$BB$27,$BB$28,$BB$29,$BB$30,$BB$31,$BB$32,$BB$33) -> #VALUE! | Q43: =MAXA(R43:AX43) -> 0 | R43: {=IF($N43<=INDIRECT("BD"&R$1),IF($N43>=INDIRECT("BC"&R$1),R$1,0),0)} -> 0 | S43: {=IF($N43<=INDIRECT("BD"&S$1),IF($N43>=INDIRECT("BC"&S$1),S$1,0),0)} -> 0 | T43: {=IF($N43<=INDIRECT("BD"&T$1),IF($N43>=INDIRECT("BC"&T$1),T$1,0),0)} -> 0 | U43: {=IF($N43<=INDIRECT("BD"&U$1),IF($N43>=INDIRECT("BC"&U$1),U$1,0),0)} -> 0 | V43: {=IF($N43<=INDIRECT("BD"&V$1),IF($N43>=INDIRECT("BC"&V$1),V$1,0),0)} -> 0 | W43: {=IF($N43<=INDIRECT("BD"&W$1),IF($N43>=INDIRECT("BC"&W$1),W$1,0),0)} -> 0 | X43: {=IF($N43<=INDIRECT("BD"&X$1),IF($N43>=INDIRECT("BC"&X$1),X$1,0),0)} -> 0 | Y43: {=IF($N43<=INDIRECT("BD"&Y$1),IF($N43>=INDIRECT("BC"&Y$1),Y$1,0),0)} -> 0 | ... AW43: {=IF($N43<=INDIRECT("BD"&AW$1),IF($N43>=INDIRECT("BC"&AW$1),AW$1,0),0)} -> 0
D44: 43 | E44: =IFERROR(VLOOKUP(N45,INDIRECT(P45),1),"") | F44: =IFERROR(VLOOKUP(N45,$N$3:$O$151,2),"") | G44: =IFERROR(VLOOKUP(N45,INDIRECT(P45),2, FALSE),"") | H44: =IFERROR(VLOOKUP(N45,INDIRECT(P45),3, FALSE),"") | I44: =IFERROR(VLOOKUP(N45,INDIRECT(P45),4, FALSE),"") | J44: =IFERROR(VLOOKUP(N45,INDIRECT(P45),5, FALSE),"") | K44: =IFERROR(VLOOKUP(N45,INDIRECT(P45),6, FALSE),"") | L44: =IFERROR(VLOOKUP(N45,INDIRECT(P45),7, FALSE),"") | M44: . | N44: 42 | O44: =CHOOSE(Q44,$BA$1,$BA$2,$BA$3,$BA$4,$BA$5,$BA$6,$BA$7,$BA$8,$BA$9,$BA$10,$BA$11,$BA$12,$BA$13,$BA$14,$BA$15,$BA$16,$BA$17,$BA$18,$BA$19,$BA$20,$BA$21,$BA$22,$BA$23,$BA$24,$BA$25,$BA$26,$BA$27,$BA$28,$BA$29,$BA$30,$BA$31,$BA$32,$BA$33) -> #VALUE! | P44: =CHOOSE(Q44,$BB$1,$BB$2,$BB$3,$BB$4,$BB$5,$BB$6,$BB$7,$BB$8,$BB$9,$BB$10,$BB$11,$BB$12,$BB$13,$BB$14,$BB$15,$BB$16,$BB$17,$BB$18,$BB$19,$BB$20,$BB$21,$BB$22,$BB$23,$BB$24,$BB$25,$BB$26,$BB$27,$BB$28,$BB$29,$BB$30,$BB$31,$BB$32,$BB$33) -> #VALUE! | Q44: =MAXA(R44:AX44) -> 0 | R44: {=IF($N44<=INDIRECT("BD"&R$1),IF($N44>=INDIRECT("BC"&R$1),R$1,0),0)} -> 0 | S44: {=IF($N44<=INDIRECT("BD"&S$1),IF($N44>=INDIRECT("BC"&S$1),S$1,0),0)} -> 0 | T44: {=IF($N44<=INDIRECT("BD"&T$1),IF($N44>=INDIRECT("BC"&T$1),T$1,0),0)} -> 0 | U44: {=IF($N44<=INDIRECT("BD"&U$1),IF($N44>=INDIRECT("BC"&U$1),U$1,0),0)} -> 0 | V44: {=IF($N44<=INDIRECT("BD"&V$1),IF($N44>=INDIRECT("BC"&V$1),V$1,0),0)} -> 0 | W44: {=IF($N44<=INDIRECT("BD"&W$1),IF($N44>=INDIRECT("BC"&W$1),W$1,0),0)} -> 0 | X44: {=IF($N44<=INDIRECT("BD"&X$1),IF($N44>=INDIRECT("BC"&X$1),X$1,0),0)} -> 0 | Y44: {=IF($N44<=INDIRECT("BD"&Y$1),IF($N44>=INDIRECT("BC"&Y$1),Y$1,0),0)} -> 0 | ... AW44: {=IF($N44<=INDIRECT("BD"&AW$1),IF($N44>=INDIRECT("BC"&AW$1),AW$1,0),0)} -> 0
D45: 44 | E45: =IFERROR(VLOOKUP(N46,INDIRECT(P46),1),"") | F45: =IFERROR(VLOOKUP(N46,$N$3:$O$151,2),"") | G45: =IFERROR(VLOOKUP(N46,INDIRECT(P46),2, FALSE),"") | H45: =IFERROR(VLOOKUP(N46,INDIRECT(P46),3, FALSE),"") | I45: =IFERROR(VLOOKUP(N46,INDIRECT(P46),4, FALSE),"") | J45: =IFERROR(VLOOKUP(N46,INDIRECT(P46),5, FALSE),"") | K45: =IFERROR(VLOOKUP(N46,INDIRECT(P46),6, FALSE),"") | L45: =IFERROR(VLOOKUP(N46,INDIRECT(P46),7, FALSE),"") | M45: . | N45: 43 | O45: =CHOOSE(Q45,$BA$1,$BA$2,$BA$3,$BA$4,$BA$5,$BA$6,$BA$7,$BA$8,$BA$9,$BA$10,$BA$11,$BA$12,$BA$13,$BA$14,$BA$15,$BA$16,$BA$17,$BA$18,$BA$19,$BA$20,$BA$21,$BA$22,$BA$23,$BA$24,$BA$25,$BA$26,$BA$27,$BA$28,$BA$29,$BA$30,$BA$31,$BA$32,$BA$33) -> #VALUE! | P45: =CHOOSE(Q45,$BB$1,$BB$2,$BB$3,$BB$4,$BB$5,$BB$6,$BB$7,$BB$8,$BB$9,$BB$10,$BB$11,$BB$12,$BB$13,$BB$14,$BB$15,$BB$16,$BB$17,$BB$18,$BB$19,$BB$20,$BB$21,$BB$22,$BB$23,$BB$24,$BB$25,$BB$26,$BB$27,$BB$28,$BB$29,$BB$30,$BB$31,$BB$32,$BB$33) -> #VALUE! | Q45: =MAXA(R45:AX45) -> 0 | R45: {=IF($N45<=INDIRECT("BD"&R$1),IF($N45>=INDIRECT("BC"&R$1),R$1,0),0)} -> 0 | S45: {=IF($N45<=INDIRECT("BD"&S$1),IF($N45>=INDIRECT("BC"&S$1),S$1,0),0)} -> 0 | T45: {=IF($N45<=INDIRECT("BD"&T$1),IF($N45>=INDIRECT("BC"&T$1),T$1,0),0)} -> 0 | U45: {=IF($N45<=INDIRECT("BD"&U$1),IF($N45>=INDIRECT("BC"&U$1),U$1,0),0)} -> 0 | V45: {=IF($N45<=INDIRECT("BD"&V$1),IF($N45>=INDIRECT("BC"&V$1),V$1,0),0)} -> 0 | W45: {=IF($N45<=INDIRECT("BD"&W$1),IF($N45>=INDIRECT("BC"&W$1),W$1,0),0)} -> 0 | X45: {=IF($N45<=INDIRECT("BD"&X$1),IF($N45>=INDIRECT("BC"&X$1),X$1,0),0)} -> 0 | Y45: {=IF($N45<=INDIRECT("BD"&Y$1),IF($N45>=INDIRECT("BC"&Y$1),Y$1,0),0)} -> 0 | ... AW45: {=IF($N45<=INDIRECT("BD"&AW$1),IF($N45>=INDIRECT("BC"&AW$1),AW$1,0),0)} -> 0
... D51: 50 | E51: =IFERROR(VLOOKUP(N52,INDIRECT(P52),1),"") | F51: =IFERROR(VLOOKUP(N52,$N$3:$O$151,2),"") | G51: =IFERROR(VLOOKUP(N52,INDIRECT(P52),2, FALSE),"") | H51: =IFERROR(VLOOKUP(N52,INDIRECT(P52),3, FALSE),"") | I51: =IFERROR(VLOOKUP(N52,INDIRECT(P52),4, FALSE),"") | J51: =IFERROR(VLOOKUP(N52,INDIRECT(P52),5, FALSE),"") | K51: =IFERROR(VLOOKUP(N52,INDIRECT(P52),6, FALSE),"") | L51: =IFERROR(VLOOKUP(N52,INDIRECT(P52),7, FALSE),"") | M51: . | N51: 49 | O51: =CHOOSE(Q51,$BA$1,$BA$2,$BA$3,$BA$4,$BA$5,$BA$6,$BA$7,$BA$8,$BA$9,$BA$10,$BA$11,$BA$12,$BA$13,$BA$14,$BA$15,$BA$16,$BA$17,$BA$18,$BA$19,$BA$20,$BA$21,$BA$22,$BA$23,$BA$24,$BA$25,$BA$26,$BA$27,$BA$28,$BA$29,$BA$30,$BA$31,$BA$32,$BA$33) -> #VALUE! | P51: =CHOOSE(Q51,$BB$1,$BB$2,$BB$3,$BB$4,$BB$5,$BB$6,$BB$7,$BB$8,$BB$9,$BB$10,$BB$11,$BB$12,$BB$13,$BB$14,$BB$15,$BB$16,$BB$17,$BB$18,$BB$19,$BB$20,$BB$21,$BB$22,$BB$23,$BB$24,$BB$25,$BB$26,$BB$27,$BB$28,$BB$29,$BB$30,$BB$31,$BB$32,$BB$33) -> #VALUE! | Q51: =MAXA(R51:AX51) -> 0 | R51: {=IF($N51<=INDIRECT("BD"&R$1),IF($N51>=INDIRECT("BC"&R$1),R$1,0),0)} -> 0 | S51: {=IF($N51<=INDIRECT("BD"&S$1),IF($N51>=INDIRECT("BC"&S$1),S$1,0),0)} -> 0 | T51: {=IF($N51<=INDIRECT("BD"&T$1),IF($N51>=INDIRECT("BC"&T$1),T$1,0),0)} -> 0 | U51: {=IF($N51<=INDIRECT("BD"&U$1),IF($N51>=INDIRECT("BC"&U$1),U$1,0),0)} -> 0 | V51: {=IF($N51<=INDIRECT("BD"&V$1),IF($N51>=INDIRECT("BC"&V$1),V$1,0),0)} -> 0 | W51: {=IF($N51<=INDIRECT("BD"&W$1),IF($N51>=INDIRECT("BC"&W$1),W$1,0),0)} -> 0 | X51: {=IF($N51<=INDIRECT("BD"&X$1),IF($N51>=INDIRECT("BC"&X$1),X$1,0),0)} -> 0 | Y51: {=IF($N51<=INDIRECT("BD"&Y$1),IF($N51>=INDIRECT("BC"&Y$1),Y$1,0),0)} -> 0 | ... AW51: {=IF($N51<=INDIRECT("BD"&AW$1),IF($N51>=INDIRECT("BC"&AW$1),AW$1,0),0)} -> 0
M52: . | N52: 50 | O52: =CHOOSE(Q52,$BA$1,$BA$2,$BA$3,$BA$4,$BA$5,$BA$6,$BA$7,$BA$8,$BA$9,$BA$10,$BA$11,$BA$12,$BA$13,$BA$14,$BA$15,$BA$16,$BA$17,$BA$18,$BA$19,$BA$20,$BA$21,$BA$22,$BA$23,$BA$24,$BA$25,$BA$26,$BA$27,$BA$28,$BA$29,$BA$30,$BA$31,$BA$32,$BA$33) -> #VALUE! | P52: =CHOOSE(Q52,$BB$1,$BB$2,$BB$3,$BB$4,$BB$5,$BB$6,$BB$7,$BB$8,$BB$9,$BB$10,$BB$11,$BB$12,$BB$13,$BB$14,$BB$15,$BB$16,$BB$17,$BB$18,$BB$19,$BB$20,$BB$21,$BB$22,$BB$23,$BB$24,$BB$25,$BB$26,$BB$27,$BB$28,$BB$29,$BB$30,$BB$31,$BB$32,$BB$33) -> #VALUE! | Q52: =MAXA(R52:AX52) -> 0 | R52: {=IF($N52<=INDIRECT("BD"&R$1),IF($N52>=INDIRECT("BC"&R$1),R$1,0),0)} -> 0 | S52: {=IF($N52<=INDIRECT("BD"&S$1),IF($N52>=INDIRECT("BC"&S$1),S$1,0),0)} -> 0 | T52: {=IF($N52<=INDIRECT("BD"&T$1),IF($N52>=INDIRECT("BC"&T$1),T$1,0),0)} -> 0 | U52: {=IF($N52<=INDIRECT("BD"&U$1),IF($N52>=INDIRECT("BC"&U$1),U$1,0),0)} -> 0 | V52: {=IF($N52<=INDIRECT("BD"&V$1),IF($N52>=INDIRECT("BC"&V$1),V$1,0),0)} -> 0 | W52: {=IF($N52<=INDIRECT("BD"&W$1),IF($N52>=INDIRECT("BC"&W$1),W$1,0),0)} -> 0 | X52: {=IF($N52<=INDIRECT("BD"&X$1),IF($N52>=INDIRECT("BC"&X$1),X$1,0),0)} -> 0 | Y52: {=IF($N52<=INDIRECT("BD"&Y$1),IF($N52>=INDIRECT("BC"&Y$1),Y$1,0),0)} -> 0 | ... AW52: {=IF($N52<=INDIRECT("BD"&AW$1),IF($N52>=INDIRECT("BC"&AW$1),AW$1,0),0)} -> 0
M53: .
M54: .
M55: .
M56: .
M57: .
M58: .
M59: .
M60: .
M61: .
M62: .
M63: .
M64: .
... M150: .

Sheet sayfa2
A1: =MAXA(A2:A150) -> 6 | I1: . | R1: 1 | S1: 2 | T1: 3 | U1: 4 | V1: 5 | W1: 6 | X1: 7 | Y1: 8 | Z1: 9 | AA1: 10 | AB1: 11 | AC1: 12 | AD1: 13 | AE1: 14 | AF1: 15 | AG1: 16 | AH1: 17 | AI1: 18 | AJ1: 19 | AK1: 20 | AL1: 21 | AM1: 22 | AN1: 23 | AO1: 24 | AP1: 25 | AQ1: 26 | AR1: 27 | AS1: 28 | AT1: 29 | AU1: 30 | AV1: 31 | AW1: 32 | AX1: 33 | BA1: DOKUZPINAR | BB1: sayfa3!J2:K150 | BC1: =MIN(INDIRECT(BE1)) -> 0 | BD1: =MAXA(INDIRECT(BE1)) -> 0 | BE1: sayfa3!J$2:J$150
A2: =IFERROR(VLOOKUP(N3,INDIRECT(P3),1),"") -> 1 | B2: =IFERROR(VLOOKUP(N3,$N$3:$O$151,2),"") -> ANA DEPOLAR | C2: =IFERROR(VLOOKUP(N3,INDIRECT(P3),2, FALSE),"") -> TAVLUSUN KOOPERATİF SONDAJ | I2: . | R2: DOKUZPINAR | S2: ERCİYES | T2: ANA DEPOLAR 1 | U2: ANA DEPOLAR 2 | V2: ANA DEPOLAR 3 | W2: HACILAR | X2: MELİKGAZİ 1 | Y2: MELİKGAZİ 2 | Z2: KOCASİNAN (YEM) | AA2: KOCASİNAN 1 | AB2: KOCASİNAN 2 | AC2: TALAS | AD2: AKKIŞLA | AE2: BÜNYAN | AF2: DEVELİ 1 | AG2: DEVELİ 2 | AH2: FELAHİYE | AI2: İNCESU | AJ2: ÖZVATAN | AK2: PINARBAŞI 1 | AL2: PINARBAŞI 2 | AM2: DADALOĞLU | AN2: SARIOĞLAN | AO2: SARIZ | AP2: TOMARZA 1 | AQ2: TOMARZA 2 | AR2: YAHYALI | AS2: YEŞİLHİSAR | AT2: DMA | AU2: DMA | AV2: KANAL | AW2: ALTERNATİF | BA2: ERCİYES | BB2: sayfa3!AI2:AJ150 | BC2: =MIN(INDIRECT(BE2)) -> 0 | BD2: =MAXA(INDIRECT(BE2)) -> 0 | BE2: sayfa3!AI$2:AI$150
A3: =IFERROR(VLOOKUP(N4,INDIRECT(P4),1),"") -> 2 | B3: =IFERROR(VLOOKUP(N4,$N$3:$O$151,2),"") -> PINARBAŞI | C3: =IFERROR(VLOOKUP(N4,INDIRECT(P4),2, FALSE),"") -> KÖMARMUT SONDAJ | I3: . | N3: 1 | O3: =CHOOSE(Q3,$BA$1,$BA$2,$BA$3,$BA$4,$BA$5,$BA$6,$BA$7,$BA$8,$BA$9,$BA$10,$BA$11,$BA$12,$BA$13,$BA$14,$BA$15,$BA$16,$BA$17,$BA$18,$BA$19,$BA$20,$BA$21,$BA$22,$BA$23,$BA$24,$BA$25,$BA$26,$BA$27,$BA$28,$BA$29,$BA$30,$BA$31,$BA$32,$BA$33) -> ANA DEPOLAR | P3: =CHOOSE(Q3,$BB$1,$BB$2,$BB$3,$BB$4,$BB$5,$BB$6,$BB$7,$BB$8,$BB$9,$BB$10,$BB$11,$BB$12,$BB$13,$BB$14,$BB$15,$BB$16,$BB$17,$BB$18,$BB$19,$BB$20,$BB$21,$BB$22,$BB$23,$BB$24,$BB$25,$BB$26,$BB$27,$BB$28,$BB$29,$BB$30,$BB$31,$BB$32,$BB$33) -> sayfa3!BI2:BJ150 | Q3: =MAXA(R3:AX3) -> 3 | R3: {=IF($N3<=INDIRECT("BD"&R$1),IF($N3>=INDIRECT("BC"&R$1),R$1,0),0)} -> 0 | S3: {=IF($N3<=INDIRECT("BD"&S$1),IF($N3>=INDIRECT("BC"&S$1),S$1,0),0)} -> 0 | T3: {=IF($N3<=INDIRECT("BD"&T$1),IF($N3>=INDIRECT("BC"&T$1),T$1,0),0)} -> 3 | U3: {=IF($N3<=INDIRECT("BD"&U$1),IF($N3>=INDIRECT("BC"&U$1),U$1,0),0)} -> 0 | V3: {=IF($N3<=INDIRECT("BD"&V$1),IF($N3>=INDIRECT("BC"&V$1),V$1,0),0)} -> 0 | W3: {=IF($N3<=INDIRECT("BD"&W$1),IF($N3>=INDIRECT("BC"&W$1),W$1,0),0)} -> 0 | X3: {=IF($N3<=INDIRECT("BD"&X$1),IF($N3>=INDIRECT("BC"&X$1),X$1,0),0)} -> 0 | Y3: {=IF($N3<=INDIRECT("BD"&Y$1),IF($N3>=INDIRECT("BC"&Y$1),Y$1,0),0)} -> 0 | ... AW3: {=IF($N3<=INDIRECT("BD"&AW$1),IF($N3>=INDIRECT("BC"&AW$1),AW$1,0),0)} -> 0 | BA3: ANA DEPOLAR | BB3: sayfa3!BI2:BJ150 | BC3: =MIN(INDIRECT(BE3)) -> 1 | BD3: =MAXA(INDIRECT(BE3)) -> 1 | BE3: sayfa3!BI$2:BI$150
A4: =IFERROR(VLOOKUP(N5,INDIRECT(P5),1),"") -> 3 | B4: =IFERROR(VLOOKUP(N5,$N$3:$O$151,2),"") -> PINARBAŞI | C4: =IFERROR(VLOOKUP(N5,INDIRECT(P5),2, FALSE),"") -> KÖMARMUT DEPO | I4: . | N4: 2 | O4: =CHOOSE(Q4,$BA$1,$BA$2,$BA$3,$BA$4,$BA$5,$BA$6,$BA$7,$BA$8,$BA$9,$BA$10,$BA$11,$BA$12,$BA$13,$BA$14,$BA$15,$BA$16,$BA$17,$BA$18,$BA$19,$BA$20,$BA$21,$BA$22,$BA$23,$BA$24,$BA$25,$BA$26,$BA$27,$BA$28,$BA$29,$BA$30,$BA$31,$BA$32,$BA$33) -> PINARBAŞI | P4: =CHOOSE(Q4,$BB$1,$BB$2,$BB$3,$BB$4,$BB$5,$BB$6,$BB$7,$BB$8,$BB$9,$BB$10,$BB$11,$BB$12,$BB$13,$BB$14,$BB$15,$BB$16,$BB$17,$BB$18,$BB$19,$BB$20,$BB$21,$BB$22,$BB$23,$BB$24,$BB$25,$BB$26,$BB$27,$BB$28,$BB$29,$BB$30,$BB$31,$BB$32,$BB$33) -> sayfa3!SI2:SJ150 | Q4: =MAXA(R4:AX4) -> 20 | R4: {=IF($N4<=INDIRECT("BD"&R$1),IF($N4>=INDIRECT("BC"&R$1),R$1,0),0)} -> 0 | S4: {=IF($N4<=INDIRECT("BD"&S$1),IF($N4>=INDIRECT("BC"&S$1),S$1,0),0)} -> 0 | T4: {=IF($N4<=INDIRECT("BD"&T$1),IF($N4>=INDIRECT("BC"&T$1),T$1,0),0)} -> 0 | U4: {=IF($N4<=INDIRECT("BD"&U$1),IF($N4>=INDIRECT("BC"&U$1),U$1,0),0)} -> 0 | V4: {=IF($N4<=INDIRECT("BD"&V$1),IF($N4>=INDIRECT("BC"&V$1),V$1,0),0)} -> 0 | W4: {=IF($N4<=INDIRECT("BD"&W$1),IF($N4>=INDIRECT("BC"&W$1),W$1,0),0)} -> 0 | X4: {=IF($N4<=INDIRECT("BD"&X$1),IF($N4>=INDIRECT("BC"&X$1),X$1,0),0)} -> 0 | Y4: {=IF($N4<=INDIRECT("BD"&Y$1),IF($N4>=INDIRECT("BC"&Y$1),Y$1,0),0)} -> 0 | ... AW4: {=IF($N4<=INDIRECT("BD"&AW$1),IF($N4>=INDIRECT("BC"&AW$1),AW$1,0),0)} -> 0 | BA4: ANA DEPOLAR | BB4: sayfa3!CI2:CJ150 | BC4: =MIN(INDIRECT(BE4)) -> 0 | BD4: =MAXA(INDIRECT(BE4)) -> 0 | BE4: sayfa3!CI$2:CI$150
A5: =IFERROR(VLOOKUP(N6,INDIRECT(P6),1),"") -> 4 | B5: =IFERROR(VLOOKUP(N6,$N$3:$O$151,2),"") -> DADALOĞLU | C5: =IFERROR(VLOOKUP(N6,INDIRECT(P6),2, FALSE),"") -> HAN DEPO | I5: . | N5: 3 | O5: =CHOOSE(Q5,$BA$1,$BA$2,$BA$3,$BA$4,$BA$5,$BA$6,$BA$7,$BA$8,$BA$9,$BA$10,$BA$11,$BA$12,$BA$13,$BA$14,$BA$15,$BA$16,$BA$17,$BA$18,$BA$19,$BA$20,$BA$21,$BA$22,$BA$23,$BA$24,$BA$25,$BA$26,$BA$27,$BA$28,$BA$29,$BA$30,$BA$31,$BA$32,$BA$33) -> PINARBAŞI | P5: =CHOOSE(Q5,$BB$1,$BB$2,$BB$3,$BB$4,$BB$5,$BB$6,$BB$7,$BB$8,$BB$9,$BB$10,$BB$11,$BB$12,$BB$13,$BB$14,$BB$15,$BB$16,$BB$17,$BB$18,$BB$19,$BB$20,$BB$21,$BB$22,$BB$23,$BB$24,$BB$25,$BB$26,$BB$27,$BB$28,$BB$29,$BB$30,$BB$31,$BB$32,$BB$33) -> sayfa3!SI2:SJ150 | Q5: =MAXA(R5:AX5) -> 20 | R5: {=IF($N5<=INDIRECT("BD"&R$1),IF($N5>=INDIRECT("BC"&R$1),R$1,0),0)} -> 0 | S5: {=IF($N5<=INDIRECT("BD"&S$1),IF($N5>=INDIRECT("BC"&S$1),S$1,0),0)} -> 0 | T5: {=IF($N5<=INDIRECT("BD"&T$1),IF($N5>=INDIRECT("BC"&T$1),T$1,0),0)} -> 0 | U5: {=IF($N5<=INDIRECT("BD"&U$1),IF($N5>=INDIRECT("BC"&U$1),U$1,0),0)} -> 0 | V5: {=IF($N5<=INDIRECT("BD"&V$1),IF($N5>=INDIRECT("BC"&V$1),V$1,0),0)} -> 0 | W5: {=IF($N5<=INDIRECT("BD"&W$1),IF($N5>=INDIRECT("BC"&W$1),W$1,0),0)} -> 0 | X5: {=IF($N5<=INDIRECT("BD"&X$1),IF($N5>=INDIRECT("BC"&X$1),X$1,0),0)} -> 0 | Y5: {=IF($N5<=INDIRECT("BD"&Y$1),IF($N5>=INDIRECT("BC"&Y$1),Y$1,0),0)} -> 0 | ... AW5: {=IF($N5<=INDIRECT("BD"&AW$1),IF($N5>=INDIRECT("BC"&AW$1),AW$1,0),0)} -> 0 | BA5: ANA DEPOLAR | BB5: sayfa3!DI2:DJ150 | BC5: =MIN(INDIRECT(BE5)) -> 0 | BD5: =MAXA(INDIRECT(BE5)) -> 0 | BE5: sayfa3!DI$2:DI$150
A6: =IFERROR(VLOOKUP(N7,INDIRECT(P7),1),"") -> 5 | B6: =IFERROR(VLOOKUP(N7,$N$3:$O$151,2),"") -> DADALOĞLU | C6: =IFERROR(VLOOKUP(N7,INDIRECT(P7),2, FALSE),"") -> PINARBAŞI KAYABAŞI DEPO | I6: . | N6: 4 | O6: =CHOOSE(Q6,$BA$1,$BA$2,$BA$3,$BA$4,$BA$5,$BA$6,$BA$7,$BA$8,$BA$9,$BA$10,$BA$11,$BA$12,$BA$13,$BA$14,$BA$15,$BA$16,$BA$17,$BA$18,$BA$19,$BA$20,$BA$21,$BA$22,$BA$23,$BA$24,$BA$25,$BA$26,$BA$27,$BA$28,$BA$29,$BA$30,$BA$31,$BA$32,$BA$33) -> DADALOĞLU | P6: =CHOOSE(Q6,$BB$1,$BB$2,$BB$3,$BB$4,$BB$5,$BB$6,$BB$7,$BB$8,$BB$9,$BB$10,$BB$11,$BB$12,$BB$13,$BB$14,$BB$15,$BB$16,$BB$17,$BB$18,$BB$19,$BB$20,$BB$21,$BB$22,$BB$23,$BB$24,$BB$25,$BB$26,$BB$27,$BB$28,$BB$29,$BB$30,$BB$31,$BB$32,$BB$33) -> sayfa3!UI2:UJ150 | Q6: =MAXA(R6:AX6) -> 22 | R6: {=IF($N6<=INDIRECT("BD"&R$1),IF($N6>=INDIRECT("BC"&R$1),R$1,0),0)} -> 0 | S6: {=IF($N6<=INDIRECT("BD"&S$1),IF($N6>=INDIRECT("BC"&S$1),S$1,0),0)} -> 0 | T6: {=IF($N6<=INDIRECT("BD"&T$1),IF($N6>=INDIRECT("BC"&T$1),T$1,0),0)} -> 0 | U6: {=IF($N6<=INDIRECT("BD"&U$1),IF($N6>=INDIRECT("BC"&U$1),U$1,0),0)} -> 0 | V6: {=IF($N6<=INDIRECT("BD"&V$1),IF($N6>=INDIRECT("BC"&V$1),V$1,0),0)} -> 0 | W6: {=IF($N6<=INDIRECT("BD"&W$1),IF($N6>=INDIRECT("BC"&W$1),W$1,0),0)} -> 0 | X6: {=IF($N6<=INDIRECT("BD"&X$1),IF($N6>=INDIRECT("BC"&X$1),X$1,0),0)} -> 0 | Y6: {=IF($N6<=INDIRECT("BD"&Y$1),IF($N6>=INDIRECT("BC"&Y$1),Y$1,0),0)} -> 0 | ... AW6: {=IF($N6<=INDIRECT("BD"&AW$1),IF($N6>=INDIRECT("BC"&AW$1),AW$1,0),0)} -> 0 | BA6: HACILAR | BB6: sayfa3!EI2:EJ150 | BC6: =MIN(INDIRECT(BE6)) -> 0 | BD6: =MAXA(INDIRECT(BE6)) -> 0 | BE6: sayfa3!EI$2:EI$150
A7: =IFERROR(VLOOKUP(N8,INDIRECT(P8),1),"") -> 6 | B7: =IFERROR(VLOOKUP(N8,$N$3:$O$151,2),"") -> SARIOĞLAN | C7: =IFERROR(VLOOKUP(N8,INDIRECT(P8),2, FALSE),"") -> GAZİLER SONDAJ | I7: . | N7: 5 | O7: =CHOOSE(Q7,$BA$1,$BA$2,$BA$3,$BA$4,$BA$5,$BA$6,$BA$7,$BA$8,$BA$9,$BA$10,$BA$11,$BA$12,$BA$13,$BA$14,$BA$15,$BA$16,$BA$17,$BA$18,$BA$19,$BA$20,$BA$21,$BA$22,$BA$23,$BA$24,$BA$25,$BA$26,$BA$27,$BA$28,$BA$29,$BA$30,$BA$31,$BA$32,$BA$33) -> DADALOĞLU | P7: =CHOOSE(Q7,$BB$1,$BB$2,$BB$3,$BB$4,$BB$5,$BB$6,$BB$7,$BB$8,$BB$9,$BB$10,$BB$11,$BB$12,$BB$13,$BB$14,$BB$15,$BB$16,$BB$17,$BB$18,$BB$19,$BB$20,$BB$21,$BB$22,$BB$23,$BB$24,$BB$25,$BB$26,$BB$27,$BB$28,$BB$29,$BB$30,$BB$31,$BB$32,$BB$33) -> sayfa3!UI2:UJ150 | Q7: =MAXA(R7:AX7) -> 22 | R7: {=IF($N7<=INDIRECT("BD"&R$1),IF($N7>=INDIRECT("BC"&R$1),R$1,0),0)} -> 0 | S7: {=IF($N7<=INDIRECT("BD"&S$1),IF($N7>=INDIRECT("BC"&S$1),S$1,0),0)} -> 0 | T7: {=IF($N7<=INDIRECT("BD"&T$1),IF($N7>=INDIRECT("BC"&T$1),T$1,0),0)} -> 0 | U7: {=IF($N7<=INDIRECT("BD"&U$1),IF($N7>=INDIRECT("BC"&U$1),U$1,0),0)} -> 0 | V7: {=IF($N7<=INDIRECT("BD"&V$1),IF($N7>=INDIRECT("BC"&V$1),V$1,0),0)} -> 0 | W7: {=IF($N7<=INDIRECT("BD"&W$1),IF($N7>=INDIRECT("BC"&W$1),W$1,0),0)} -> 0 | X7: {=IF($N7<=INDIRECT("BD"&X$1),IF($N7>=INDIRECT("BC"&X$1),X$1,0),0)} -> 0 | Y7: {=IF($N7<=INDIRECT("BD"&Y$1),IF($N7>=INDIRECT("BC"&Y$1),Y$1,0),0)} -> 0 | ... AW7: {=IF($N7<=INDIRECT("BD"&AW$1),IF($N7>=INDIRECT("BC"&AW$1),AW$1,0),0)} -> 0 | BA7: MELİKGAZİ | BB7: sayfa3!FI2:FJ150 | BC7: =MIN(INDIRECT(BE7)) -> 0 | BD7: =MAXA(INDIRECT(BE7)) -> 0 | BE7: sayfa3!FI$2:FI$150
A8: =IFERROR(VLOOKUP(N9,INDIRECT(P9),1),"") | B8: =IFERROR(VLOOKUP(N9,$N$3:$O$151,2),"") | C8: =IFERROR(VLOOKUP(N9,INDIRECT(P9),2, FALSE),"") | I8: . | N8: 6 | O8: =CHOOSE(Q8,$BA$1,$BA$2,$BA$3,$BA$4,$BA$5,$BA$6,$BA$7,$BA$8,$BA$9,$BA$10,$BA$11,$BA$12,$BA$13,$BA$14,$BA$15,$BA$16,$BA$17,$BA$18,$BA$19,$BA$20,$BA$21,$BA$22,$BA$23,$BA$24,$BA$25,$BA$26,$BA$27,$BA$28,$BA$29,$BA$30,$BA$31,$BA$32,$BA$33) -> SARIOĞLAN | P8: =CHOOSE(Q8,$BB$1,$BB$2,$BB$3,$BB$4,$BB$5,$BB$6,$BB$7,$BB$8,$BB$9,$BB$10,$BB$11,$BB$12,$BB$13,$BB$14,$BB$15,$BB$16,$BB$17,$BB$18,$BB$19,$BB$20,$BB$21,$BB$22,$BB$23,$BB$24,$BB$25,$BB$26,$BB$27,$BB$28,$BB$29,$BB$30,$BB$31,$BB$32,$BB$33) -> sayfa3!VI2:VJ150 | Q8: =MAXA(R8:AX8) -> 23 | R8: {=IF($N8<=INDIRECT("BD"&R$1),IF($N8>=INDIRECT("BC"&R$1),R$1,0),0)} -> 0 | S8: {=IF($N8<=INDIRECT("BD"&S$1),IF($N8>=INDIRECT("BC"&S$1),S$1,0),0)} -> 0 | T8: {=IF($N8<=INDIRECT("BD"&T$1),IF($N8>=INDIRECT("BC"&T$1),T$1,0),0)} -> 0 | U8: {=IF($N8<=INDIRECT("BD"&U$1),IF($N8>=INDIRECT("BC"&U$1),U$1,0),0)} -> 0 | V8: {=IF($N8<=INDIRECT("BD"&V$1),IF($N8>=INDIRECT("BC"&V$1),V$1,0),0)} -> 0 | W8: {=IF($N8<=INDIRECT("BD"&W$1),IF($N8>=INDIRECT("BC"&W$1),W$1,0),0)} -> 0 | X8: {=IF($N8<=INDIRECT("BD"&X$1),IF($N8>=INDIRECT("BC"&X$1),X$1,0),0)} -> 0 | Y8: {=IF($N8<=INDIRECT("BD"&Y$1),IF($N8>=INDIRECT("BC"&Y$1),Y$1,0),0)} -> 0 | ... AW8: {=IF($N8<=INDIRECT("BD"&AW$1),IF($N8>=INDIRECT("BC"&AW$1),AW$1,0),0)} -> 0 | BA8: MELİKGAZİ | BB8: sayfa3!GI2:GJ150 | BC8: =MIN(INDIRECT(BE8)) -> 0 | BD8: =MAXA(INDIRECT(BE8)) -> 0 | BE8: sayfa3!GI$2:GI$150
A9: =IFERROR(VLOOKUP(N10,INDIRECT(P10),1),"") | B9: =IFERROR(VLOOKUP(N10,$N$3:$O$151,2),"") | C9: =IFERROR(VLOOKUP(N10,INDIRECT(P10),2, FALSE),"") | I9: . | N9: 7 | O9: =CHOOSE(Q9,$BA$1,$BA$2,$BA$3,$BA$4,$BA$5,$BA$6,$BA$7,$BA$8,$BA$9,$BA$10,$BA$11,$BA$12,$BA$13,$BA$14,$BA$15,$BA$16,$BA$17,$BA$18,$BA$19,$BA$20,$BA$21,$BA$22,$BA$23,$BA$24,$BA$25,$BA$26,$BA$27,$BA$28,$BA$29,$BA$30,$BA$31,$BA$32,$BA$33) -> #VALUE! | P9: =CHOOSE(Q9,$BB$1,$BB$2,$BB$3,$BB$4,$BB$5,$BB$6,$BB$7,$BB$8,$BB$9,$BB$10,$BB$11,$BB$12,$BB$13,$BB$14,$BB$15,$BB$16,$BB$17,$BB$18,$BB$19,$BB$20,$BB$21,$BB$22,$BB$23,$BB$24,$BB$25,$BB$26,$BB$27,$BB$28,$BB$29,$BB$30,$BB$31,$BB$32,$BB$33) -> #VALUE! | Q9: =MAXA(R9:AX9) -> 0 | R9: {=IF($N9<=INDIRECT("BD"&R$1),IF($N9>=INDIRECT("BC"&R$1),R$1,0),0)} -> 0 | S9: {=IF($N9<=INDIRECT("BD"&S$1),IF($N9>=INDIRECT("BC"&S$1),S$1,0),0)} -> 0 | T9: {=IF($N9<=INDIRECT("BD"&T$1),IF($N9>=INDIRECT("BC"&T$1),T$1,0),0)} -> 0 | U9: {=IF($N9<=INDIRECT("BD"&U$1),IF($N9>=INDIRECT("BC"&U$1),U$1,0),0)} -> 0 | V9: {=IF($N9<=INDIRECT("BD"&V$1),IF($N9>=INDIRECT("BC"&V$1),V$1,0),0)} -> 0 | W9: {=IF($N9<=INDIRECT("BD"&W$1),IF($N9>=INDIRECT("BC"&W$1),W$1,0),0)} -> 0 | X9: {=IF($N9<=INDIRECT("BD"&X$1),IF($N9>=INDIRECT("BC"&X$1),X$1,0),0)} -> 0 | Y9: {=IF($N9<=INDIRECT("BD"&Y$1),IF($N9>=INDIRECT("BC"&Y$1),Y$1,0),0)} -> 0 | ... AW9: {=IF($N9<=INDIRECT("BD"&AW$1),IF($N9>=INDIRECT("BC"&AW$1),AW$1,0),0)} -> 0 | BA9: KOCASİNAN (Yemliha) | BB9: sayfa3!HI2:HJ150 | BC9: =MIN(INDIRECT(BE9)) -> 0 | BD9: =MAXA(INDIRECT(BE9)) -> 0 | BE9: sayfa3!HI$2:HI$150
A10: =IFERROR(VLOOKUP(N11,INDIRECT(P11),1),"") | B10: =IFERROR(VLOOKUP(N11,$N$3:$O$151,2),"") | C10: =IFERROR(VLOOKUP(N11,INDIRECT(P11),2, FALSE),"") | I10: . | N10: 8 | O10: =CHOOSE(Q10,$BA$1,$BA$2,$BA$3,$BA$4,$BA$5,$BA$6,$BA$7,$BA$8,$BA$9,$BA$10,$BA$11,$BA$12,$BA$13,$BA$14,$BA$15,$BA$16,$BA$17,$BA$18,$BA$19,$BA$20,$BA$21,$BA$22,$BA$23,$BA$24,$BA$25,$BA$26,$BA$27,$BA$28,$BA$29,$BA$30,$BA$31,$BA$32,$BA$33) -> #VALUE! | P10: =CHOOSE(Q10,$BB$1,$BB$2,$BB$3,$BB$4,$BB$5,$BB$6,$BB$7,$BB$8,$BB$9,$BB$10,$BB$11,$BB$12,$BB$13,$BB$14,$BB$15,$BB$16,$BB$17,$BB$18,$BB$19,$BB$20,$BB$21,$BB$22,$BB$23,$BB$24,$BB$25,$BB$26,$BB$27,$BB$28,$BB$29,$BB$30,$BB$31,$BB$32,$BB$33) -> #VALUE! | Q10: =MAXA(R10:AX10) -> 0 | R10: {=IF($N10<=INDIRECT("BD"&R$1),IF($N10>=INDIRECT("BC"&R$1),R$1,0),0)} -> 0 | S10: {=IF($N10<=INDIRECT("BD"&S$1),IF($N10>=INDIRECT("BC"&S$1),S$1,0),0)} -> 0 | T10: {=IF($N10<=INDIRECT("BD"&T$1),IF($N10>=INDIRECT("BC"&T$1),T$1,0),0)} -> 0 | U10: {=IF($N10<=INDIRECT("BD"&U$1),IF($N10>=INDIRECT("BC"&U$1),U$1,0),0)} -> 0 | V10: {=IF($N10<=INDIRECT("BD"&V$1),IF($N10>=INDIRECT("BC"&V$1),V$1,0),0)} -> 0 | W10: {=IF($N10<=INDIRECT("BD"&W$1),IF($N10>=INDIRECT("BC"&W$1),W$1,0),0)} -> 0 | X10: {=IF($N10<=INDIRECT("BD"&X$1),IF($N10>=INDIRECT("BC"&X$1),X$1,0),0)} -> 0 | Y10: {=IF($N10<=INDIRECT("BD"&Y$1),IF($N10>=INDIRECT("BC"&Y$1),Y$1,0),0)} -> 0 | ... AW10: {=IF($N10<=INDIRECT("BD"&AW$1),IF($N10>=INDIRECT("BC"&AW$1),AW$1,0),0)} -> 0 | BA10: KOCASİNAN | BB10: sayfa3!II2:IJ150 | BC10: =MIN(INDIRECT(BE10)) -> 0 | BD10: =MAXA(INDIRECT(BE10)) -> 0 | BE10: sayfa3!II$2:II$150
A11: =IFERROR(VLOOKUP(N12,INDIRECT(P12),1),"") | B11: =IFERROR(VLOOKUP(N12,$N$3:$O$151,2),"") | C11: =IFERROR(VLOOKUP(N12,INDIRECT(P12),2, FALSE),"") | I11: . | N11: 9 | O11: =CHOOSE(Q11,$BA$1,$BA$2,$BA$3,$BA$4,$BA$5,$BA$6,$BA$7,$BA$8,$BA$9,$BA$10,$BA$11,$BA$12,$BA$13,$BA$14,$BA$15,$BA$16,$BA$17,$BA$18,$BA$19,$BA$20,$BA$21,$BA$22,$BA$23,$BA$24,$BA$25,$BA$26,$BA$27,$BA$28,$BA$29,$BA$30,$BA$31,$BA$32,$BA$33) -> #VALUE! | P11: =CHOOSE(Q11,$BB$1,$BB$2,$BB$3,$BB$4,$BB$5,$BB$6,$BB$7,$BB$8,$BB$9,$BB$10,$BB$11,$BB$12,$BB$13,$BB$14,$BB$15,$BB$16,$BB$17,$BB$18,$BB$19,$BB$20,$BB$21,$BB$22,$BB$23,$BB$24,$BB$25,$BB$26,$BB$27,$BB$28,$BB$29,$BB$30,$BB$31,$BB$32,$BB$33) -> #VALUE! | Q11: =MAXA(R11:AX11) -> 0 | R11: {=IF($N11<=INDIRECT("BD"&R$1),IF($N11>=INDIRECT("BC"&R$1),R$1,0),0)} -> 0 | S11: {=IF($N11<=INDIRECT("BD"&S$1),IF($N11>=INDIRECT("BC"&S$1),S$1,0),0)} -> 0 | T11: {=IF($N11<=INDIRECT("BD"&T$1),IF($N11>=INDIRECT("BC"&T$1),T$1,0),0)} -> 0 | U11: {=IF($N11<=INDIRECT("BD"&U$1),IF($N11>=INDIRECT("BC"&U$1),U$1,0),0)} -> 0 | V11: {=IF($N11<=INDIRECT("BD"&V$1),IF($N11>=INDIRECT("BC"&V$1),V$1,0),0)} -> 0 | W11: {=IF($N11<=INDIRECT("BD"&W$1),IF($N11>=INDIRECT("BC"&W$1),W$1,0),0)} -> 0 | X11: {=IF($N11<=INDIRECT("BD"&X$1),IF($N11>=INDIRECT("BC"&X$1),X$1,0),0)} -> 0 | Y11: {=IF($N11<=INDIRECT("BD"&Y$1),IF($N11>=INDIRECT("BC"&Y$1),Y$1,0),0)} -> 0 | ... AW11: {=IF($N11<=INDIRECT("BD"&AW$1),IF($N11>=INDIRECT("BC"&AW$1),AW$1,0),0)} -> 0 | BA11: KOCASİNAN | BB11: sayfa3!JI2:JJ150 | BC11: =MIN(INDIRECT(BE11)) -> 0 | BD11: =MAXA(INDIRECT(BE11)) -> 0 | BE11: sayfa3!JI$2:JI$150
A12: =IFERROR(VLOOKUP(N13,INDIRECT(P13),1),"") | B12: =IFERROR(VLOOKUP(N13,$N$3:$O$151,2),"") | C12: =IFERROR(VLOOKUP(N13,INDIRECT(P13),2, FALSE),"") | I12: . | N12: 10 | O12: =CHOOSE(Q12,$BA$1,$BA$2,$BA$3,$BA$4,$BA$5,$BA$6,$BA$7,$BA$8,$BA$9,$BA$10,$BA$11,$BA$12,$BA$13,$BA$14,$BA$15,$BA$16,$BA$17,$BA$18,$BA$19,$BA$20,$BA$21,$BA$22,$BA$23,$BA$24,$BA$25,$BA$26,$BA$27,$BA$28,$BA$29,$BA$30,$BA$31,$BA$32,$BA$33) -> #VALUE! | P12: =CHOOSE(Q12,$BB$1,$BB$2,$BB$3,$BB$4,$BB$5,$BB$6,$BB$7,$BB$8,$BB$9,$BB$10,$BB$11,$BB$12,$BB$13,$BB$14,$BB$15,$BB$16,$BB$17,$BB$18,$BB$19,$BB$20,$BB$21,$BB$22,$BB$23,$BB$24,$BB$25,$BB$26,$BB$27,$BB$28,$BB$29,$BB$30,$BB$31,$BB$32,$BB$33) -> #VALUE! | Q12: =MAXA(R12:AX12) -> 0 | R12: {=IF($N12<=INDIRECT("BD"&R$1),IF($N12>=INDIRECT("BC"&R$1),R$1,0),0)} -> 0 | S12: {=IF($N12<=INDIRECT("BD"&S$1),IF($N12>=INDIRECT("BC"&S$1),S$1,0),0)} -> 0 | T12: {=IF($N12<=INDIRECT("BD"&T$1),IF($N12>=INDIRECT("BC"&T$1),T$1,0),0)} -> 0 | U12: {=IF($N12<=INDIRECT("BD"&U$1),IF($N12>=INDIRECT("BC"&U$1),U$1,0),0)} -> 0 | V12: {=IF($N12<=INDIRECT("BD"&V$1),IF($N12>=INDIRECT("BC"&V$1),V$1,0),0)} -> 0 | W12: {=IF($N12<=INDIRECT("BD"&W$1),IF($N12>=INDIRECT("BC"&W$1),W$1,0),0)} -> 0 | X12: {=IF($N12<=INDIRECT("BD"&X$1),IF($N12>=INDIRECT("BC"&X$1),X$1,0),0)} -> 0 | Y12: {=IF($N12<=INDIRECT("BD"&Y$1),IF($N12>=INDIRECT("BC"&Y$1),Y$1,0),0)} -> 0 | ... AW12: {=IF($N12<=INDIRECT("BD"&AW$1),IF($N12>=INDIRECT("BC"&AW$1),AW$1,0),0)} -> 0 | BA12: TALAS | BB12: sayfa3!KI2:KJ150 | BC12: =MIN(INDIRECT(BE12)) -> 0 | BD12: =MAXA(INDIRECT(BE12)) -> 0 | BE12: sayfa3!KI$2:KI$150
A13: =IFERROR(VLOOKUP(N14,INDIRECT(P14),1),"") | B13: =IFERROR(VLOOKUP(N14,$N$3:$O$151,2),"") | C13: =IFERROR(VLOOKUP(N14,INDIRECT(P14),2, FALSE),"") | I13: . | N13: 11 | O13: =CHOOSE(Q13,$BA$1,$BA$2,$BA$3,$BA$4,$BA$5,$BA$6,$BA$7,$BA$8,$BA$9,$BA$10,$BA$11,$BA$12,$BA$13,$BA$14,$BA$15,$BA$16,$BA$17,$BA$18,$BA$19,$BA$20,$BA$21,$BA$22,$BA$23,$BA$24,$BA$25,$BA$26,$BA$27,$BA$28,$BA$29,$BA$30,$BA$31,$BA$32,$BA$33) -> #VALUE! | P13: =CHOOSE(Q13,$BB$1,$BB$2,$BB$3,$BB$4,$BB$5,$BB$6,$BB$7,$BB$8,$BB$9,$BB$10,$BB$11,$BB$12,$BB$13,$BB$14,$BB$15,$BB$16,$BB$17,$BB$18,$BB$19,$BB$20,$BB$21,$BB$22,$BB$23,$BB$24,$BB$25,$BB$26,$BB$27,$BB$28,$BB$29,$BB$30,$BB$31,$BB$32,$BB$33) -> #VALUE! | Q13: =MAXA(R13:AX13) -> 0 | R13: {=IF($N13<=INDIRECT("BD"&R$1),IF($N13>=INDIRECT("BC"&R$1),R$1,0),0)} -> 0 | S13: {=IF($N13<=INDIRECT("BD"&S$1),IF($N13>=INDIRECT("BC"&S$1),S$1,0),0)} -> 0 | T13: {=IF($N13<=INDIRECT("BD"&T$1),IF($N13>=INDIRECT("BC"&T$1),T$1,0),0)} -> 0 | U13: {=IF($N13<=INDIRECT("BD"&U$1),IF($N13>=INDIRECT("BC"&U$1),U$1,0),0)} -> 0 | V13: {=IF($N13<=INDIRECT("BD"&V$1),IF($N13>=INDIRECT("BC"&V$1),V$1,0),0)} -> 0 | W13: {=IF($N13<=INDIRECT("BD"&W$1),IF($N13>=INDIRECT("BC"&W$1),W$1,0),0)} -> 0 | X13: {=IF($N13<=INDIRECT("BD"&X$1),IF($N13>=INDIRECT("BC"&X$1),X$1,0),0)} -> 0 | Y13: {=IF($N13<=INDIRECT("BD"&Y$1),IF($N13>=INDIRECT("BC"&Y$1),Y$1,0),0)} -> 0 | ... AW13: {=IF($N13<=INDIRECT("BD"&AW$1),IF($N13>=INDIRECT("BC"&AW$1),AW$1,0),0)} -> 0 | BA13: AKKIŞLA | BB13: sayfa3!LI2:LJ150 | BC13: =MIN(INDIRECT(BE13)) -> 0 | BD13: =MAXA(INDIRECT(BE13)) -> 0 | BE13: sayfa3!LI$2:LI$150
A14: =IFERROR(VLOOKUP(N15,INDIRECT(P15),1),"") | B14: =IFERROR(VLOOKUP(N15,$N$3:$O$151,2),"") | C14: =IFERROR(VLOOKUP(N15,INDIRECT(P15),2, FALSE),"") | I14: . | N14: 12 | O14: =CHOOSE(Q14,$BA$1,$BA$2,$BA$3,$BA$4,$BA$5,$BA$6,$BA$7,$BA$8,$BA$9,$BA$10,$BA$11,$BA$12,$BA$13,$BA$14,$BA$15,$BA$16,$BA$17,$BA$18,$BA$19,$BA$20,$BA$21,$BA$22,$BA$23,$BA$24,$BA$25,$BA$26,$BA$27,$BA$28,$BA$29,$BA$30,$BA$31,$BA$32,$BA$33) -> #VALUE! | P14: =CHOOSE(Q14,$BB$1,$BB$2,$BB$3,$BB$4,$BB$5,$BB$6,$BB$7,$BB$8,$BB$9,$BB$10,$BB$11,$BB$12,$BB$13,$BB$14,$BB$15,$BB$16,$BB$17,$BB$18,$BB$19,$BB$20,$BB$21,$BB$22,$BB$23,$BB$24,$BB$25,$BB$26,$BB$27,$BB$28,$BB$29,$BB$30,$BB$31,$BB$32,$BB$33) -> #VALUE! | Q14: =MAXA(R14:AX14) -> 0 | R14: {=IF($N14<=INDIRECT("BD"&R$1),IF($N14>=INDIRECT("BC"&R$1),R$1,0),0)} -> 0 | S14: {=IF($N14<=INDIRECT("BD"&S$1),IF($N14>=INDIRECT("BC"&S$1),S$1,0),0)} -> 0 | T14: {=IF($N14<=INDIRECT("BD"&T$1),IF($N14>=INDIRECT("BC"&T$1),T$1,0),0)} -> 0 | U14: {=IF($N14<=INDIRECT("BD"&U$1),IF($N14>=INDIRECT("BC"&U$1),U$1,0),0)} -> 0 | V14: {=IF($N14<=INDIRECT("BD"&V$1),IF($N14>=INDIRECT("BC"&V$1),V$1,0),0)} -> 0 | W14: {=IF($N14<=INDIRECT("BD"&W$1),IF($N14>=INDIRECT("BC"&W$1),W$1,0),0)} -> 0 | X14: {=IF($N14<=INDIRECT("BD"&X$1),IF($N14>=INDIRECT("BC"&X$1),X$1,0),0)} -> 0 | Y14: {=IF($N14<=INDIRECT("BD"&Y$1),IF($N14>=INDIRECT("BC"&Y$1),Y$1,0),0)} -> 0 | ... AW14: {=IF($N14<=INDIRECT("BD"&AW$1),IF($N14>=INDIRECT("BC"&AW$1),AW$1,0),0)} -> 0 | BA14: BÜNYAN | BB14: sayfa3!MI2:MJ150 | BC14: =MIN(INDIRECT(BE14)) -> 0 | BD14: =MAXA(INDIRECT(BE14)) -> 0 | BE14: sayfa3!MI$2:MI$150
... A32: =IFERROR(VLOOKUP(N33,INDIRECT(P33),1),"") | B32: =IFERROR(VLOOKUP(N33,$N$3:$O$151,2),"") | C32: =IFERROR(VLOOKUP(N33,INDIRECT(P33),2, FALSE),"") | I32: . | N32: 30 | O32: =CHOOSE(Q32,$BA$1,$BA$2,$BA$3,$BA$4,$BA$5,$BA$6,$BA$7,$BA$8,$BA$9,$BA$10,$BA$11,$BA$12,$BA$13,$BA$14,$BA$15,$BA$16,$BA$17,$BA$18,$BA$19,$BA$20,$BA$21,$BA$22,$BA$23,$BA$24,$BA$25,$BA$26,$BA$27,$BA$28,$BA$29,$BA$30,$BA$31,$BA$32,$BA$33) -> #VALUE! | P32: =CHOOSE(Q32,$BB$1,$BB$2,$BB$3,$BB$4,$BB$5,$BB$6,$BB$7,$BB$8,$BB$9,$BB$10,$BB$11,$BB$12,$BB$13,$BB$14,$BB$15,$BB$16,$BB$17,$BB$18,$BB$19,$BB$20,$BB$21,$BB$22,$BB$23,$BB$24,$BB$25,$BB$26,$BB$27,$BB$28,$BB$29,$BB$30,$BB$31,$BB$32,$BB$33) -> #VALUE! | Q32: =MAXA(R32:AX32) -> 0 | R32: {=IF($N32<=INDIRECT("BD"&R$1),IF($N32>=INDIRECT("BC"&R$1),R$1,0),0)} -> 0 | S32: {=IF($N32<=INDIRECT("BD"&S$1),IF($N32>=INDIRECT("BC"&S$1),S$1,0),0)} -> 0 | T32: {=IF($N32<=INDIRECT("BD"&T$1),IF($N32>=INDIRECT("BC"&T$1),T$1,0),0)} -> 0 | U32: {=IF($N32<=INDIRECT("BD"&U$1),IF($N32>=INDIRECT("BC"&U$1),U$1,0),0)} -> 0 | V32: {=IF($N32<=INDIRECT("BD"&V$1),IF($N32>=INDIRECT("BC"&V$1),V$1,0),0)} -> 0 | W32: {=IF($N32<=INDIRECT("BD"&W$1),IF($N32>=INDIRECT("BC"&W$1),W$1,0),0)} -> 0 | X32: {=IF($N32<=INDIRECT("BD"&X$1),IF($N32>=INDIRECT("BC"&X$1),X$1,0),0)} -> 0 | Y32: {=IF($N32<=INDIRECT("BD"&Y$1),IF($N32>=INDIRECT("BC"&Y$1),Y$1,0),0)} -> 0 | ... AW32: {=IF($N32<=INDIRECT("BD"&AW$1),IF($N32>=INDIRECT("BC"&AW$1),AW$1,0),0)} -> 0 | BA32: ALTERNATİF | BB32: sayfa3!AEI2:AEJ150 | BC32: =MIN(INDIRECT(BE32)) -> 0 | BD32: =MAXA(INDIRECT(BE32)) -> 0 | BE32: sayfa3!AEI$2:AEI$150
A33: =IFERROR(VLOOKUP(N34,INDIRECT(P34),1),"") | B33: =IFERROR(VLOOKUP(N34,$N$3:$O$151,2),"") | C33: =IFERROR(VLOOKUP(N34,INDIRECT(P34),2, FALSE),"") | I33: . | N33: 31 | O33: =CHOOSE(Q33,$BA$1,$BA$2,$BA$3,$BA$4,$BA$5,$BA$6,$BA$7,$BA$8,$BA$9,$BA$10,$BA$11,$BA$12,$BA$13,$BA$14,$BA$15,$BA$16,$BA$17,$BA$18,$BA$19,$BA$20,$BA$21,$BA$22,$BA$23,$BA$24,$BA$25,$BA$26,$BA$27,$BA$28,$BA$29,$BA$30,$BA$31,$BA$32,$BA$33) -> #VALUE! | P33: =CHOOSE(Q33,$BB$1,$BB$2,$BB$3,$BB$4,$BB$5,$BB$6,$BB$7,$BB$8,$BB$9,$BB$10,$BB$11,$BB$12,$BB$13,$BB$14,$BB$15,$BB$16,$BB$17,$BB$18,$BB$19,$BB$20,$BB$21,$BB$22,$BB$23,$BB$24,$BB$25,$BB$26,$BB$27,$BB$28,$BB$29,$BB$30,$BB$31,$BB$32,$BB$33) -> #VALUE! | Q33: =MAXA(R33:AX33) -> 0 | R33: {=IF($N33<=INDIRECT("BD"&R$1),IF($N33>=INDIRECT("BC"&R$1),R$1,0),0)} -> 0 | S33: {=IF($N33<=INDIRECT("BD"&S$1),IF($N33>=INDIRECT("BC"&S$1),S$1,0),0)} -> 0 | T33: {=IF($N33<=INDIRECT("BD"&T$1),IF($N33>=INDIRECT("BC"&T$1),T$1,0),0)} -> 0 | U33: {=IF($N33<=INDIRECT("BD"&U$1),IF($N33>=INDIRECT("BC"&U$1),U$1,0),0)} -> 0 | V33: {=IF($N33<=INDIRECT("BD"&V$1),IF($N33>=INDIRECT("BC"&V$1),V$1,0),0)} -> 0 | W33: {=IF($N33<=INDIRECT("BD"&W$1),IF($N33>=INDIRECT("BC"&W$1),W$1,0),0)} -> 0 | X33: {=IF($N33<=INDIRECT("BD"&X$1),IF($N33>=INDIRECT("BC"&X$1),X$1,0),0)} -> 0 | Y33: {=IF($N33<=INDIRECT("BD"&Y$1),IF($N33>=INDIRECT("BC"&Y$1),Y$1,0),0)} -> 0 | ... AW33: {=IF($N33<=INDIRECT("BD"&AW$1),IF($N33>=INDIRECT("BC"&AW$1),AW$1,0),0)} -> 0 | BB33: sayfa3!AFI2:AFJ150 | BC33: =MIN(INDIRECT(BE33)) -> 0 | BD33: =MAXA(INDIRECT(BE33)) -> 0 | BE33: sayfa3!AFI$2:AFI$150
A34: =IFERROR(VLOOKUP(N35,INDIRECT(P35),1),"") | B34: =IFERROR(VLOOKUP(N35,$N$3:$O$151,2),"") | C34: =IFERROR(VLOOKUP(N35,INDIRECT(P35),2, FALSE),"") | I34: . | N34: 32 | O34: =CHOOSE(Q34,$BA$1,$BA$2,$BA$3,$BA$4,$BA$5,$BA$6,$BA$7,$BA$8,$BA$9,$BA$10,$BA$11,$BA$12,$BA$13,$BA$14,$BA$15,$BA$16,$BA$17,$BA$18,$BA$19,$BA$20,$BA$21,$BA$22,$BA$23,$BA$24,$BA$25,$BA$26,$BA$27,$BA$28,$BA$29,$BA$30,$BA$31,$BA$32,$BA$33) -> #VALUE! | P34: =CHOOSE(Q34,$BB$1,$BB$2,$BB$3,$BB$4,$BB$5,$BB$6,$BB$7,$BB$8,$BB$9,$BB$10,$BB$11,$BB$12,$BB$13,$BB$14,$BB$15,$BB$16,$BB$17,$BB$18,$BB$19,$BB$20,$BB$21,$BB$22,$BB$23,$BB$24,$BB$25,$BB$26,$BB$27,$BB$28,$BB$29,$BB$30,$BB$31,$BB$32,$BB$33) -> #VALUE! | Q34: =MAXA(R34:AX34) -> 0 | R34: {=IF($N34<=INDIRECT("BD"&R$1),IF($N34>=INDIRECT("BC"&R$1),R$1,0),0)} -> 0 | S34: {=IF($N34<=INDIRECT("BD"&S$1),IF($N34>=INDIRECT("BC"&S$1),S$1,0),0)} -> 0 | T34: {=IF($N34<=INDIRECT("BD"&T$1),IF($N34>=INDIRECT("BC"&T$1),T$1,0),0)} -> 0 | U34: {=IF($N34<=INDIRECT("BD"&U$1),IF($N34>=INDIRECT("BC"&U$1),U$1,0),0)} -> 0 | V34: {=IF($N34<=INDIRECT("BD"&V$1),IF($N34>=INDIRECT("BC"&V$1),V$1,0),0)} -> 0 | W34: {=IF($N34<=INDIRECT("BD"&W$1),IF($N34>=INDIRECT("BC"&W$1),W$1,0),0)} -> 0 | X34: {=IF($N34<=INDIRECT("BD"&X$1),IF($N34>=INDIRECT("BC"&X$1),X$1,0),0)} -> 0 | Y34: {=IF($N34<=INDIRECT("BD"&Y$1),IF($N34>=INDIRECT("BC"&Y$1),Y$1,0),0)} -> 0 | ... AW34: {=IF($N34<=INDIRECT("BD"&AW$1),IF($N34>=INDIRECT("BC"&AW$1),AW$1,0),0)} -> 0
A35: =IFERROR(VLOOKUP(N36,INDIRECT(P36),1),"") | B35: =IFERROR(VLOOKUP(N36,$N$3:$O$151,2),"") | C35: =IFERROR(VLOOKUP(N36,INDIRECT(P36),2, FALSE),"") | I35: . | N35: 33 | O35: =CHOOSE(Q35,$BA$1,$BA$2,$BA$3,$BA$4,$BA$5,$BA$6,$BA$7,$BA$8,$BA$9,$BA$10,$BA$11,$BA$12,$BA$13,$BA$14,$BA$15,$BA$16,$BA$17,$BA$18,$BA$19,$BA$20,$BA$21,$BA$22,$BA$23,$BA$24,$BA$25,$BA$26,$BA$27,$BA$28,$BA$29,$BA$30,$BA$31,$BA$32,$BA$33) -> #VALUE! | P35: =CHOOSE(Q35,$BB$1,$BB$2,$BB$3,$BB$4,$BB$5,$BB$6,$BB$7,$BB$8,$BB$9,$BB$10,$BB$11,$BB$12,$BB$13,$BB$14,$BB$15,$BB$16,$BB$17,$BB$18,$BB$19,$BB$20,$BB$21,$BB$22,$BB$23,$BB$24,$BB$25,$BB$26,$BB$27,$BB$28,$BB$29,$BB$30,$BB$31,$BB$32,$BB$33) -> #VALUE! | Q35: =MAXA(R35:AX35) -> 0 | R35: {=IF($N35<=INDIRECT("BD"&R$1),IF($N35>=INDIRECT("BC"&R$1),R$1,0),0)} -> 0 | S35: {=IF($N35<=INDIRECT("BD"&S$1),IF($N35>=INDIRECT("BC"&S$1),S$1,0),0)} -> 0 | T35: {=IF($N35<=INDIRECT("BD"&T$1),IF($N35>=INDIRECT("BC"&T$1),T$1,0),0)} -> 0 | U35: {=IF($N35<=INDIRECT("BD"&U$1),IF($N35>=INDIRECT("BC"&U$1),U$1,0),0)} -> 0 | V35: {=IF($N35<=INDIRECT("BD"&V$1),IF($N35>=INDIRECT("BC"&V$1),V$1,0),0)} -> 0 | W35: {=IF($N35<=INDIRECT("BD"&W$1),IF($N35>=INDIRECT("BC"&W$1),W$1,0),0)} -> 0 | X35: {=IF($N35<=INDIRECT("BD"&X$1),IF($N35>=INDIRECT("BC"&X$1),X$1,0),0)} -> 0 | Y35: {=IF($N35<=INDIRECT("BD"&Y$1),IF($N35>=INDIRECT("BC"&Y$1),Y$1,0),0)} -> 0 | ... AW35: {=IF($N35<=INDIRECT("BD"&AW$1),IF($N35>=INDIRECT("BC"&AW$1),AW$1,0),0)} -> 0
A36: =IFERROR(VLOOKUP(N37,INDIRECT(P37),1),"") | B36: =IFERROR(VLOOKUP(N37,$N$3:$O$151,2),"") | C36: =IFERROR(VLOOKUP(N37,INDIRECT(P37),2, FALSE),"") | I36: . | N36: 34 | O36: =CHOOSE(Q36,$BA$1,$BA$2,$BA$3,$BA$4,$BA$5,$BA$6,$BA$7,$BA$8,$BA$9,$BA$10,$BA$11,$BA$12,$BA$13,$BA$14,$BA$15,$BA$16,$BA$17,$BA$18,$BA$19,$BA$20,$BA$21,$BA$22,$BA$23,$BA$24,$BA$25,$BA$26,$BA$27,$BA$28,$BA$29,$BA$30,$BA$31,$BA$32,$BA$33) -> #VALUE! | P36: =CHOOSE(Q36,$BB$1,$BB$2,$BB$3,$BB$4,$BB$5,$BB$6,$BB$7,$BB$8,$BB$9,$BB$10,$BB$11,$BB$12,$BB$13,$BB$14,$BB$15,$BB$16,$BB$17,$BB$18,$BB$19,$BB$20,$BB$21,$BB$22,$BB$23,$BB$24,$BB$25,$BB$26,$BB$27,$BB$28,$BB$29,$BB$30,$BB$31,$BB$32,$BB$33) -> #VALUE! | Q36: =MAXA(R36:AX36) -> 0 | R36: {=IF($N36<=INDIRECT("BD"&R$1),IF($N36>=INDIRECT("BC"&R$1),R$1,0),0)} -> 0 | S36: {=IF($N36<=INDIRECT("BD"&S$1),IF($N36>=INDIRECT("BC"&S$1),S$1,0),0)} -> 0 | T36: {=IF($N36<=INDIRECT("BD"&T$1),IF($N36>=INDIRECT("BC"&T$1),T$1,0),0)} -> 0 | U36: {=IF($N36<=INDIRECT("BD"&U$1),IF($N36>=INDIRECT("BC"&U$1),U$1,0),0)} -> 0 | V36: {=IF($N36<=INDIRECT("BD"&V$1),IF($N36>=INDIRECT("BC"&V$1),V$1,0),0)} -> 0 | W36: {=IF($N36<=INDIRECT("BD"&W$1),IF($N36>=INDIRECT("BC"&W$1),W$1,0),0)} -> 0 | X36: {=IF($N36<=INDIRECT("BD"&X$1),IF($N36>=INDIRECT("BC"&X$1),X$1,0),0)} -> 0 | Y36: {=IF($N36<=INDIRECT("BD"&Y$1),IF($N36>=INDIRECT("BC"&Y$1),Y$1,0),0)} -> 0 | ... AW36: {=IF($N36<=INDIRECT("BD"&AW$1),IF($N36>=INDIRECT("BC"&AW$1),AW$1,0),0)} -> 0
A37: =IFERROR(VLOOKUP(N38,INDIRECT(P38),1),"") | B37: =IFERROR(VLOOKUP(N38,$N$3:$O$151,2),"") | C37: =IFERROR(VLOOKUP(N38,INDIRECT(P38),2, FALSE),"") | I37: . | N37: 35 | O37: =CHOOSE(Q37,$BA$1,$BA$2,$BA$3,$BA$4,$BA$5,$BA$6,$BA$7,$BA$8,$BA$9,$BA$10,$BA$11,$BA$12,$BA$13,$BA$14,$BA$15,$BA$16,$BA$17,$BA$18,$BA$19,$BA$20,$BA$21,$BA$22,$BA$23,$BA$24,$BA$25,$BA$26,$BA$27,$BA$28,$BA$29,$BA$30,$BA$31,$BA$32,$BA$33) -> #VALUE! | P37: =CHOOSE(Q37,$BB$1,$BB$2,$BB$3,$BB$4,$BB$5,$BB$6,$BB$7,$BB$8,$BB$9,$BB$10,$BB$11,$BB$12,$BB$13,$BB$14,$BB$15,$BB$16,$BB$17,$BB$18,$BB$19,$BB$20,$BB$21,$BB$22,$BB$23,$BB$24,$BB$25,$BB$26,$BB$27,$BB$28,$BB$29,$BB$30,$BB$31,$BB$32,$BB$33) -> #VALUE! | Q37: =MAXA(R37:AX37) -> 0 | R37: {=IF($N37<=INDIRECT("BD"&R$1),IF($N37>=INDIRECT("BC"&R$1),R$1,0),0)} -> 0 | S37: {=IF($N37<=INDIRECT("BD"&S$1),IF($N37>=INDIRECT("BC"&S$1),S$1,0),0)} -> 0 | T37: {=IF($N37<=INDIRECT("BD"&T$1),IF($N37>=INDIRECT("BC"&T$1),T$1,0),0)} -> 0 | U37: {=IF($N37<=INDIRECT("BD"&U$1),IF($N37>=INDIRECT("BC"&U$1),U$1,0),0)} -> 0 | V37: {=IF($N37<=INDIRECT("BD"&V$1),IF($N37>=INDIRECT("BC"&V$1),V$1,0),0)} -> 0 | W37: {=IF($N37<=INDIRECT("BD"&W$1),IF($N37>=INDIRECT("BC"&W$1),W$1,0),0)} -> 0 | X37: {=IF($N37<=INDIRECT("BD"&X$1),IF($N37>=INDIRECT("BC"&X$1),X$1,0),0)} -> 0 | Y37: {=IF($N37<=INDIRECT("BD"&Y$1),IF($N37>=INDIRECT("BC"&Y$1),Y$1,0),0)} -> 0 | ... AW37: {=IF($N37<=INDIRECT("BD"&AW$1),IF($N37>=INDIRECT("BC"&AW$1),AW$1,0),0)} -> 0
A38: =IFERROR(VLOOKUP(N39,INDIRECT(P39),1),"") | B38: =IFERROR(VLOOKUP(N39,$N$3:$O$151,2),"") | C38: =IFERROR(VLOOKUP(N39,INDIRECT(P39),2, FALSE),"") | I38: . | N38: 36 | O38: =CHOOSE(Q38,$BA$1,$BA$2,$BA$3,$BA$4,$BA$5,$BA$6,$BA$7,$BA$8,$BA$9,$BA$10,$BA$11,$BA$12,$BA$13,$BA$14,$BA$15,$BA$16,$BA$17,$BA$18,$BA$19,$BA$20,$BA$21,$BA$22,$BA$23,$BA$24,$BA$25,$BA$26,$BA$27,$BA$28,$BA$29,$BA$30,$BA$31,$BA$32,$BA$33) -> #VALUE! | P38: =CHOOSE(Q38,$BB$1,$BB$2,$BB$3,$BB$4,$BB$5,$BB$6,$BB$7,$BB$8,$BB$9,$BB$10,$BB$11,$BB$12,$BB$13,$BB$14,$BB$15,$BB$16,$BB$17,$BB$18,$BB$19,$BB$20,$BB$21,$BB$22,$BB$23,$BB$24,$BB$25,$BB$26,$BB$27,$BB$28,$BB$29,$BB$30,$BB$31,$BB$32,$BB$33) -> #VALUE! | Q38: =MAXA(R38:AX38) -> 0 | R38: {=IF($N38<=INDIRECT("BD"&R$1),IF($N38>=INDIRECT("BC"&R$1),R$1,0),0)} -> 0 | S38: {=IF($N38<=INDIRECT("BD"&S$1),IF($N38>=INDIRECT("BC"&S$1),S$1,0),0)} -> 0 | T38: {=IF($N38<=INDIRECT("BD"&T$1),IF($N38>=INDIRECT("BC"&T$1),T$1,0),0)} -> 0 | U38: {=IF($N38<=INDIRECT("BD"&U$1),IF($N38>=INDIRECT("BC"&U$1),U$1,0),0)} -> 0 | V38: {=IF($N38<=INDIRECT("BD"&V$1),IF($N38>=INDIRECT("BC"&V$1),V$1,0),0)} -> 0 | W38: {=IF($N38<=INDIRECT("BD"&W$1),IF($N38>=INDIRECT("BC"&W$1),W$1,0),0)} -> 0 | X38: {=IF($N38<=INDIRECT("BD"&X$1),IF($N38>=INDIRECT("BC"&X$1),X$1,0),0)} -> 0 | Y38: {=IF($N38<=INDIRECT("BD"&Y$1),IF($N38>=INDIRECT("BC"&Y$1),Y$1,0),0)} -> 0 | ... AW38: {=IF($N38<=INDIRECT("BD"&AW$1),IF($N38>=INDIRECT("BC"&AW$1),AW$1,0),0)} -> 0
A39: =IFERROR(VLOOKUP(N40,INDIRECT(P40),1),"") | B39: =IFERROR(VLOOKUP(N40,$N$3:$O$151,2),"") | C39: =IFERROR(VLOOKUP(N40,INDIRECT(P40),2, FALSE),"") | I39: . | N39: 37 | O39: =CHOOSE(Q39,$BA$1,$BA$2,$BA$3,$BA$4,$BA$5,$BA$6,$BA$7,$BA$8,$BA$9,$BA$10,$BA$11,$BA$12,$BA$13,$BA$14,$BA$15,$BA$16,$BA$17,$BA$18,$BA$19,$BA$20,$BA$21,$BA$22,$BA$23,$BA$24,$BA$25,$BA$26,$BA$27,$BA$28,$BA$29,$BA$30,$BA$31,$BA$32,$BA$33) -> #VALUE! | P39: =CHOOSE(Q39,$BB$1,$BB$2,$BB$3,$BB$4,$BB$5,$BB$6,$BB$7,$BB$8,$BB$9,$BB$10,$BB$11,$BB$12,$BB$13,$BB$14,$BB$15,$BB$16,$BB$17,$BB$18,$BB$19,$BB$20,$BB$21,$BB$22,$BB$23,$BB$24,$BB$25,$BB$26,$BB$27,$BB$28,$BB$29,$BB$30,$BB$31,$BB$32,$BB$33) -> #VALUE! | Q39: =MAXA(R39:AX39) -> 0 | R39: {=IF($N39<=INDIRECT("BD"&R$1),IF($N39>=INDIRECT("BC"&R$1),R$1,0),0)} -> 0 | S39: {=IF($N39<=INDIRECT("BD"&S$1),IF($N39>=INDIRECT("BC"&S$1),S$1,0),0)} -> 0 | T39: {=IF($N39<=INDIRECT("BD"&T$1),IF($N39>=INDIRECT("BC"&T$1),T$1,0),0)} -> 0 | U39: {=IF($N39<=INDIRECT("BD"&U$1),IF($N39>=INDIRECT("BC"&U$1),U$1,0),0)} -> 0 | V39: {=IF($N39<=INDIRECT("BD"&V$1),IF($N39>=INDIRECT("BC"&V$1),V$1,0),0)} -> 0 | W39: {=IF($N39<=INDIRECT("BD"&W$1),IF($N39>=INDIRECT("BC"&W$1),W$1,0),0)} -> 0 | X39: {=IF($N39<=INDIRECT("BD"&X$1),IF($N39>=INDIRECT("BC"&X$1),X$1,0),0)} -> 0 | Y39: {=IF($N39<=INDIRECT("BD"&Y$1),IF($N39>=INDIRECT("BC"&Y$1),Y$1,0),0)} -> 0 | ... AW39: {=IF($N39<=INDIRECT("BD"&AW$1),IF($N39>=INDIRECT("BC"&AW$1),AW$1,0),0)} -> 0
A40: =IFERROR(VLOOKUP(N41,INDIRECT(P41),1),"") | B40: =IFERROR(VLOOKUP(N41,$N$3:$O$151,2),"") | C40: =IFERROR(VLOOKUP(N41,INDIRECT(P41),2, FALSE),"") | I40: . | N40: 38 | O40: =CHOOSE(Q40,$BA$1,$BA$2,$BA$3,$BA$4,$BA$5,$BA$6,$BA$7,$BA$8,$BA$9,$BA$10,$BA$11,$BA$12,$BA$13,$BA$14,$BA$15,$BA$16,$BA$17,$BA$18,$BA$19,$BA$20,$BA$21,$BA$22,$BA$23,$BA$24,$BA$25,$BA$26,$BA$27,$BA$28,$BA$29,$BA$30,$BA$31,$BA$32,$BA$33) -> #VALUE! | P40: =CHOOSE(Q40,$BB$1,$BB$2,$BB$3,$BB$4,$BB$5,$BB$6,$BB$7,$BB$8,$BB$9,$BB$10,$BB$11,$BB$12,$BB$13,$BB$14,$BB$15,$BB$16,$BB$17,$BB$18,$BB$19,$BB$20,$BB$21,$BB$22,$BB$23,$BB$24,$BB$25,$BB$26,$BB$27,$BB$28,$BB$29,$BB$30,$BB$31,$BB$32,$BB$33) -> #VALUE! | Q40: =MAXA(R40:AX40) -> 0 | R40: {=IF($N40<=INDIRECT("BD"&R$1),IF($N40>=INDIRECT("BC"&R$1),R$1,0),0)} -> 0 | S40: {=IF($N40<=INDIRECT("BD"&S$1),IF($N40>=INDIRECT("BC"&S$1),S$1,0),0)} -> 0 | T40: {=IF($N40<=INDIRECT("BD"&T$1),IF($N40>=INDIRECT("BC"&T$1),T$1,0),0)} -> 0 | U40: {=IF($N40<=INDIRECT("BD"&U$1),IF($N40>=INDIRECT("BC"&U$1),U$1,0),0)} -> 0 | V40: {=IF($N40<=INDIRECT("BD"&V$1),IF($N40>=INDIRECT("BC"&V$1),V$1,0),0)} -> 0 | W40: {=IF($N40<=INDIRECT("BD"&W$1),IF($N40>=INDIRECT("BC"&W$1),W$1,0),0)} -> 0 | X40: {=IF($N40<=INDIRECT("BD"&X$1),IF($N40>=INDIRECT("BC"&X$1),X$1,0),0)} -> 0 | Y40: {=IF($N40<=INDIRECT("BD"&Y$1),IF($N40>=INDIRECT("BC"&Y$1),Y$1,0),0)} -> 0 | ... AW40: {=IF($N40<=INDIRECT("BD"&AW$1),IF($N40>=INDIRECT("BC"&AW$1),AW$1,0),0)} -> 0
A41: =IFERROR(VLOOKUP(N42,INDIRECT(P42),1),"") | B41: =IFERROR(VLOOKUP(N42,$N$3:$O$151,2),"") | C41: =IFERROR(VLOOKUP(N42,INDIRECT(P42),2, FALSE),"") | I41: . | N41: 39 | O41: =CHOOSE(Q41,$BA$1,$BA$2,$BA$3,$BA$4,$BA$5,$BA$6,$BA$7,$BA$8,$BA$9,$BA$10,$BA$11,$BA$12,$BA$13,$BA$14,$BA$15,$BA$16,$BA$17,$BA$18,$BA$19,$BA$20,$BA$21,$BA$22,$BA$23,$BA$24,$BA$25,$BA$26,$BA$27,$BA$28,$BA$29,$BA$30,$BA$31,$BA$32,$BA$33) -> #VALUE! | P41: =CHOOSE(Q41,$BB$1,$BB$2,$BB$3,$BB$4,$BB$5,$BB$6,$BB$7,$BB$8,$BB$9,$BB$10,$BB$11,$BB$12,$BB$13,$BB$14,$BB$15,$BB$16,$BB$17,$BB$18,$BB$19,$BB$20,$BB$21,$BB$22,$BB$23,$BB$24,$BB$25,$BB$26,$BB$27,$BB$28,$BB$29,$BB$30,$BB$31,$BB$32,$BB$33) -> #VALUE! | Q41: =MAXA(R41:AX41) -> 0 | R41: {=IF($N41<=INDIRECT("BD"&R$1),IF($N41>=INDIRECT("BC"&R$1),R$1,0),0)} -> 0 | S41: {=IF($N41<=INDIRECT("BD"&S$1),IF($N41>=INDIRECT("BC"&S$1),S$1,0),0)} -> 0 | T41: {=IF($N41<=INDIRECT("BD"&T$1),IF($N41>=INDIRECT("BC"&T$1),T$1,0),0)} -> 0 | U41: {=IF($N41<=INDIRECT("BD"&U$1),IF($N41>=INDIRECT("BC"&U$1),U$1,0),0)} -> 0 | V41: {=IF($N41<=INDIRECT("BD"&V$1),IF($N41>=INDIRECT("BC"&V$1),V$1,0),0)} -> 0 | W41: {=IF($N41<=INDIRECT("BD"&W$1),IF($N41>=INDIRECT("BC"&W$1),W$1,0),0)} -> 0 | X41: {=IF($N41<=INDIRECT("BD"&X$1),IF($N41>=INDIRECT("BC"&X$1),X$1,0),0)} -> 0 | Y41: {=IF($N41<=INDIRECT("BD"&Y$1),IF($N41>=INDIRECT("BC"&Y$1),Y$1,0),0)} -> 0 | ... AW41: {=IF($N41<=INDIRECT("BD"&AW$1),IF($N41>=INDIRECT("BC"&AW$1),AW$1,0),0)} -> 0
A42: =IFERROR(VLOOKUP(N43,INDIRECT(P43),1),"") | B42: =IFERROR(VLOOKUP(N43,$N$3:$O$151,2),"") | C42: =IFERROR(VLOOKUP(N43,INDIRECT(P43),2, FALSE),"") | I42: . | N42: 40 | O42: =CHOOSE(Q42,$BA$1,$BA$2,$BA$3,$BA$4,$BA$5,$BA$6,$BA$7,$BA$8,$BA$9,$BA$10,$BA$11,$BA$12,$BA$13,$BA$14,$BA$15,$BA$16,$BA$17,$BA$18,$BA$19,$BA$20,$BA$21,$BA$22,$BA$23,$BA$24,$BA$25,$BA$26,$BA$27,$BA$28,$BA$29,$BA$30,$BA$31,$BA$32,$BA$33) -> #VALUE! | P42: =CHOOSE(Q42,$BB$1,$BB$2,$BB$3,$BB$4,$BB$5,$BB$6,$BB$7,$BB$8,$BB$9,$BB$10,$BB$11,$BB$12,$BB$13,$BB$14,$BB$15,$BB$16,$BB$17,$BB$18,$BB$19,$BB$20,$BB$21,$BB$22,$BB$23,$BB$24,$BB$25,$BB$26,$BB$27,$BB$28,$BB$29,$BB$30,$BB$31,$BB$32,$BB$33) -> #VALUE! | Q42: =MAXA(R42:AX42) -> 0 | R42: {=IF($N42<=INDIRECT("BD"&R$1),IF($N42>=INDIRECT("BC"&R$1),R$1,0),0)} -> 0 | S42: {=IF($N42<=INDIRECT("BD"&S$1),IF($N42>=INDIRECT("BC"&S$1),S$1,0),0)} -> 0 | T42: {=IF($N42<=INDIRECT("BD"&T$1),IF($N42>=INDIRECT("BC"&T$1),T$1,0),0)} -> 0 | U42: {=IF($N42<=INDIRECT("BD"&U$1),IF($N42>=INDIRECT("BC"&U$1),U$1,0),0)} -> 0 | V42: {=IF($N42<=INDIRECT("BD"&V$1),IF($N42>=INDIRECT("BC"&V$1),V$1,0),0)} -> 0 | W42: {=IF($N42<=INDIRECT("BD"&W$1),IF($N42>=INDIRECT("BC"&W$1),W$1,0),0)} -> 0 | X42: {=IF($N42<=INDIRECT("BD"&X$1),IF($N42>=INDIRECT("BC"&X$1),X$1,0),0)} -> 0 | Y42: {=IF($N42<=INDIRECT("BD"&Y$1),IF($N42>=INDIRECT("BC"&Y$1),Y$1,0),0)} -> 0 | ... AW42: {=IF($N42<=INDIRECT("BD"&AW$1),IF($N42>=INDIRECT("BC"&AW$1),AW$1,0),0)} -> 0
A43: =IFERROR(VLOOKUP(N44,INDIRECT(P44),1),"") | B43: =IFERROR(VLOOKUP(N44,$N$3:$O$151,2),"") | C43: =IFERROR(VLOOKUP(N44,INDIRECT(P44),2, FALSE),"") | I43: . | N43: 41 | O43: =CHOOSE(Q43,$BA$1,$BA$2,$BA$3,$BA$4,$BA$5,$BA$6,$BA$7,$BA$8,$BA$9,$BA$10,$BA$11,$BA$12,$BA$13,$BA$14,$BA$15,$BA$16,$BA$17,$BA$18,$BA$19,$BA$20,$BA$21,$BA$22,$BA$23,$BA$24,$BA$25,$BA$26,$BA$27,$BA$28,$BA$29,$BA$30,$BA$31,$BA$32,$BA$33) -> #VALUE! | P43: =CHOOSE(Q43,$BB$1,$BB$2,$BB$3,$BB$4,$BB$5,$BB$6,$BB$7,$BB$8,$BB$9,$BB$10,$BB$11,$BB$12,$BB$13,$BB$14,$BB$15,$BB$16,$BB$17,$BB$18,$BB$19,$BB$20,$BB$21,$BB$22,$BB$23,$BB$24,$BB$25,$BB$26,$BB$27,$BB$28,$BB$29,$BB$30,$BB$31,$BB$32,$BB$33) -> #VALUE! | Q43: =MAXA(R43:AX43) -> 0 | R43: {=IF($N43<=INDIRECT("BD"&R$1),IF($N43>=INDIRECT("BC"&R$1),R$1,0),0)} -> 0 | S43: {=IF($N43<=INDIRECT("BD"&S$1),IF($N43>=INDIRECT("BC"&S$1),S$1,0),0)} -> 0 | T43: {=IF($N43<=INDIRECT("BD"&T$1),IF($N43>=INDIRECT("BC"&T$1),T$1,0),0)} -> 0 | U43: {=IF($N43<=INDIRECT("BD"&U$1),IF($N43>=INDIRECT("BC"&U$1),U$1,0),0)} -> 0 | V43: {=IF($N43<=INDIRECT("BD"&V$1),IF($N43>=INDIRECT("BC"&V$1),V$1,0),0)} -> 0 | W43: {=IF($N43<=INDIRECT("BD"&W$1),IF($N43>=INDIRECT("BC"&W$1),W$1,0),0)} -> 0 | X43: {=IF($N43<=INDIRECT("BD"&X$1),IF($N43>=INDIRECT("BC"&X$1),X$1,0),0)} -> 0 | Y43: {=IF($N43<=INDIRECT("BD"&Y$1),IF($N43>=INDIRECT("BC"&Y$1),Y$1,0),0)} -> 0 | ... AW43: {=IF($N43<=INDIRECT("BD"&AW$1),IF($N43>=INDIRECT("BC"&AW$1),AW$1,0),0)} -> 0
A44: =IFERROR(VLOOKUP(N45,INDIRECT(P45),1),"") | B44: =IFERROR(VLOOKUP(N45,$N$3:$O$151,2),"") | C44: =IFERROR(VLOOKUP(N45,INDIRECT(P45),2, FALSE),"") | I44: . | N44: 42 | O44: =CHOOSE(Q44,$BA$1,$BA$2,$BA$3,$BA$4,$BA$5,$BA$6,$BA$7,$BA$8,$BA$9,$BA$10,$BA$11,$BA$12,$BA$13,$BA$14,$BA$15,$BA$16,$BA$17,$BA$18,$BA$19,$BA$20,$BA$21,$BA$22,$BA$23,$BA$24,$BA$25,$BA$26,$BA$27,$BA$28,$BA$29,$BA$30,$BA$31,$BA$32,$BA$33) -> #VALUE! | P44: =CHOOSE(Q44,$BB$1,$BB$2,$BB$3,$BB$4,$BB$5,$BB$6,$BB$7,$BB$8,$BB$9,$BB$10,$BB$11,$BB$12,$BB$13,$BB$14,$BB$15,$BB$16,$BB$17,$BB$18,$BB$19,$BB$20,$BB$21,$BB$22,$BB$23,$BB$24,$BB$25,$BB$26,$BB$27,$BB$28,$BB$29,$BB$30,$BB$31,$BB$32,$BB$33) -> #VALUE! | Q44: =MAXA(R44:AX44) -> 0 | R44: {=IF($N44<=INDIRECT("BD"&R$1),IF($N44>=INDIRECT("BC"&R$1),R$1,0),0)} -> 0 | S44: {=IF($N44<=INDIRECT("BD"&S$1),IF($N44>=INDIRECT("BC"&S$1),S$1,0),0)} -> 0 | T44: {=IF($N44<=INDIRECT("BD"&T$1),IF($N44>=INDIRECT("BC"&T$1),T$1,0),0)} -> 0 | U44: {=IF($N44<=INDIRECT("BD"&U$1),IF($N44>=INDIRECT("BC"&U$1),U$1,0),0)} -> 0 | V44: {=IF($N44<=INDIRECT("BD"&V$1),IF($N44>=INDIRECT("BC"&V$1),V$1,0),0)} -> 0 | W44: {=IF($N44<=INDIRECT("BD"&W$1),IF($N44>=INDIRECT("BC"&W$1),W$1,0),0)} -> 0 | X44: {=IF($N44<=INDIRECT("BD"&X$1),IF($N44>=INDIRECT("BC"&X$1),X$1,0),0)} -> 0 | Y44: {=IF($N44<=INDIRECT("BD"&Y$1),IF($N44>=INDIRECT("BC"&Y$1),Y$1,0),0)} -> 0 | ... AW44: {=IF($N44<=INDIRECT("BD"&AW$1),IF($N44>=INDIRECT("BC"&AW$1),AW$1,0),0)} -> 0
A45: =IFERROR(VLOOKUP(N46,INDIRECT(P46),1),"") | B45: =IFERROR(VLOOKUP(N46,$N$3:$O$151,2),"") | C45: =IFERROR(VLOOKUP(N46,INDIRECT(P46),2, FALSE),"") | I45: . | N45: 43 | O45: =CHOOSE(Q45,$BA$1,$BA$2,$BA$3,$BA$4,$BA$5,$BA$6,$BA$7,$BA$8,$BA$9,$BA$10,$BA$11,$BA$12,$BA$13,$BA$14,$BA$15,$BA$16,$BA$17,$BA$18,$BA$19,$BA$20,$BA$21,$BA$22,$BA$23,$BA$24,$BA$25,$BA$26,$BA$27,$BA$28,$BA$29,$BA$30,$BA$31,$BA$32,$BA$33) -> #VALUE! | P45: =CHOOSE(Q45,$BB$1,$BB$2,$BB$3,$BB$4,$BB$5,$BB$6,$BB$7,$BB$8,$BB$9,$BB$10,$BB$11,$BB$12,$BB$13,$BB$14,$BB$15,$BB$16,$BB$17,$BB$18,$BB$19,$BB$20,$BB$21,$BB$22,$BB$23,$BB$24,$BB$25,$BB$26,$BB$27,$BB$28,$BB$29,$BB$30,$BB$31,$BB$32,$BB$33) -> #VALUE! | Q45: =MAXA(R45:AX45) -> 0 | R45: {=IF($N45<=INDIRECT("BD"&R$1),IF($N45>=INDIRECT("BC"&R$1),R$1,0),0)} -> 0 | S45: {=IF($N45<=INDIRECT("BD"&S$1),IF($N45>=INDIRECT("BC"&S$1),S$1,0),0)} -> 0 | T45: {=IF($N45<=INDIRECT("BD"&T$1),IF($N45>=INDIRECT("BC"&T$1),T$1,0),0)} -> 0 | U45: {=IF($N45<=INDIRECT("BD"&U$1),IF($N45>=INDIRECT("BC"&U$1),U$1,0),0)} -> 0 | V45: {=IF($N45<=INDIRECT("BD"&V$1),IF($N45>=INDIRECT("BC"&V$1),V$1,0),0)} -> 0 | W45: {=IF($N45<=INDIRECT("BD"&W$1),IF($N45>=INDIRECT("BC"&W$1),W$1,0),0)} -> 0 | X45: {=IF($N45<=INDIRECT("BD"&X$1),IF($N45>=INDIRECT("BC"&X$1),X$1,0),0)} -> 0 | Y45: {=IF($N45<=INDIRECT("BD"&Y$1),IF($N45>=INDIRECT("BC"&Y$1),Y$1,0),0)} -> 0 | ... AW45: {=IF($N45<=INDIRECT("BD"&AW$1),IF($N45>=INDIRECT("BC"&AW$1),AW$1,0),0)} -> 0
... A51: =IFERROR(VLOOKUP(N52,INDIRECT(P52),1),"") | B51: =IFERROR(VLOOKUP(N52,$N$3:$O$151,2),"") | C51: =IFERROR(VLOOKUP(N52,INDIRECT(P52),2, FALSE),"") | I51: . | N51: 49 | O51: =CHOOSE(Q51,$BA$1,$BA$2,$BA$3,$BA$4,$BA$5,$BA$6,$BA$7,$BA$8,$BA$9,$BA$10,$BA$11,$BA$12,$BA$13,$BA$14,$BA$15,$BA$16,$BA$17,$BA$18,$BA$19,$BA$20,$BA$21,$BA$22,$BA$23,$BA$24,$BA$25,$BA$26,$BA$27,$BA$28,$BA$29,$BA$30,$BA$31,$BA$32,$BA$33) -> #VALUE! | P51: =CHOOSE(Q51,$BB$1,$BB$2,$BB$3,$BB$4,$BB$5,$BB$6,$BB$7,$BB$8,$BB$9,$BB$10,$BB$11,$BB$12,$BB$13,$BB$14,$BB$15,$BB$16,$BB$17,$BB$18,$BB$19,$BB$20,$BB$21,$BB$22,$BB$23,$BB$24,$BB$25,$BB$26,$BB$27,$BB$28,$BB$29,$BB$30,$BB$31,$BB$32,$BB$33) -> #VALUE! | Q51: =MAXA(R51:AX51) -> 0 | R51: {=IF($N51<=INDIRECT("BD"&R$1),IF($N51>=INDIRECT("BC"&R$1),R$1,0),0)} -> 0 | S51: {=IF($N51<=INDIRECT("BD"&S$1),IF($N51>=INDIRECT("BC"&S$1),S$1,0),0)} -> 0 | T51: {=IF($N51<=INDIRECT("BD"&T$1),IF($N51>=INDIRECT("BC"&T$1),T$1,0),0)} -> 0 | U51: {=IF($N51<=INDIRECT("BD"&U$1),IF($N51>=INDIRECT("BC"&U$1),U$1,0),0)} -> 0 | V51: {=IF($N51<=INDIRECT("BD"&V$1),IF($N51>=INDIRECT("BC"&V$1),V$1,0),0)} -> 0 | W51: {=IF($N51<=INDIRECT("BD"&W$1),IF($N51>=INDIRECT("BC"&W$1),W$1,0),0)} -> 0 | X51: {=IF($N51<=INDIRECT("BD"&X$1),IF($N51>=INDIRECT("BC"&X$1),X$1,0),0)} -> 0 | Y51: {=IF($N51<=INDIRECT("BD"&Y$1),IF($N51>=INDIRECT("BC"&Y$1),Y$1,0),0)} -> 0 | ... AW51: {=IF($N51<=INDIRECT("BD"&AW$1),IF($N51>=INDIRECT("BC"&AW$1),AW$1,0),0)} -> 0
I52: . | N52: 50 | O52: =CHOOSE(Q52,$BA$1,$BA$2,$BA$3,$BA$4,$BA$5,$BA$6,$BA$7,$BA$8,$BA$9,$BA$10,$BA$11,$BA$12,$BA$13,$BA$14,$BA$15,$BA$16,$BA$17,$BA$18,$BA$19,$BA$20,$BA$21,$BA$22,$BA$23,$BA$24,$BA$25,$BA$26,$BA$27,$BA$28,$BA$29,$BA$30,$BA$31,$BA$32,$BA$33) -> #VALUE! | P52: =CHOOSE(Q52,$BB$1,$BB$2,$BB$3,$BB$4,$BB$5,$BB$6,$BB$7,$BB$8,$BB$9,$BB$10,$BB$11,$BB$12,$BB$13,$BB$14,$BB$15,$BB$16,$BB$17,$BB$18,$BB$19,$BB$20,$BB$21,$BB$22,$BB$23,$BB$24,$BB$25,$BB$26,$BB$27,$BB$28,$BB$29,$BB$30,$BB$31,$BB$32,$BB$33) -> #VALUE! | Q52: =MAXA(R52:AX52) -> 0 | R52: {=IF($N52<=INDIRECT("BD"&R$1),IF($N52>=INDIRECT("BC"&R$1),R$1,0),0)} -> 0 | S52: {=IF($N52<=INDIRECT("BD"&S$1),IF($N52>=INDIRECT("BC"&S$1),S$1,0),0)} -> 0 | T52: {=IF($N52<=INDIRECT("BD"&T$1),IF($N52>=INDIRECT("BC"&T$1),T$1,0),0)} -> 0 | U52: {=IF($N52<=INDIRECT("BD"&U$1),IF($N52>=INDIRECT("BC"&U$1),U$1,0),0)} -> 0 | V52: {=IF($N52<=INDIRECT("BD"&V$1),IF($N52>=INDIRECT("BC"&V$1),V$1,0),0)} -> 0 | W52: {=IF($N52<=INDIRECT("BD"&W$1),IF($N52>=INDIRECT("BC"&W$1),W$1,0),0)} -> 0 | X52: {=IF($N52<=INDIRECT("BD"&X$1),IF($N52>=INDIRECT("BC"&X$1),X$1,0),0)} -> 0 | Y52: {=IF($N52<=INDIRECT("BD"&Y$1),IF($N52>=INDIRECT("BC"&Y$1),Y$1,0),0)} -> 0 | ... AW52: {=IF($N52<=INDIRECT("BD"&AW$1),IF($N52>=INDIRECT("BC"&AW$1),AW$1,0),0)} -> 0
I53: .
I54: .
I55: .
I56: .
I57: .
I58: .
I59: .
I60: .
I61: .
I62: .
I63: .
I64: .
... I150: .

Sheet sayfa3
C1: DOKUZPINAR | D1: {=MAX(ROW(C2:C150)*(C2:C150<>""))} -> 7 | O1: =sayfa1!$A$2 -> anayurt | P1: C1:C150 | Q1: . | Y1: . | Z1: . | AB1: ERCİYES | AC1: {=MAX(ROW(AB2:AB150)*(AB2:AB150<>""))} -> 21 | AI1: =MAXA(J1:J150) -> 0 | AM1: =MAXA(N1:N150) -> 0 | AN1: =sayfa1!$A$2 -> anayurt | AO1: AB1:AB150 | AP1: . | AQ1: . | AX1: . | AY1: . | AZ1: . | BB1: ANA DEPOLAR 1 | BC1: {=MAX(ROW(BB2:BB153)*(BB2:BB153<>""))} -> 106 | BI1: =MAXA(AI1:AI150) -> 0 | BM1: =MAXA(AM1:AM150) -> 0 | BN1: =sayfa1!$A$2 -> anayurt | BO1: BB1:BB150 | BP1: . | BQ1: . | BW1: . | BX1: . | CB1: ANA DEPOLAR 2 | CC1: {=MAX(ROW(CB2:CB150)*(CB2:CB150<>""))} -> 87 | CI1: =MAXA(BI1:BI150) -> 1 | CM1: =MAXA(BM1:BM150) -> 6 | CN1: =sayfa1!$A$2 -> anayurt | CO1: CB1:CB150 | CZ1: . | DB1: ANA DEPOLAR 3 | DC1: {=MAX(ROW(DB2:DB150)*(DB2:DB150<>""))} -> 0 | DI1: =MAXA(CI1:CI150) -> 1 | DM1: =MAXA(CM1:CM150) -> 6 | DN1: =sayfa1!$A$2 -> anayurt | DO1: DB1:DB150 | DZ1: . | EB1: HACILAR | EC1: {=MAX(ROW(EB2:EB153)*(EB2:EB153<>""))} -> 42 | EI1: =MAXA(DI1:DI150) -> 1 | EM1: =MAXA(DM1:DM150) -> 6 | EN1: =sayfa1!$A$2 -> anayurt | EO1: EB1:EB150 | FB1: MELİKGAZİ | FC1: {=MAX(ROW(FB2:FB150)*(FB2:FB150<>""))} -> 95 | FI1: =MAXA(EI1:EI150) -> 1 | FM1: =MAXA(EM1:EM150) -> 6 | FN1: =sayfa1!$A$2 -> anayurt | FO1: FB1:FB150 | FP1: . | FQ1: . | FR1: . | FS1: . | GB1: MELİKGAZİ 2 | GC1: {=MAX(ROW(GB2:GB150)*(GB2:GB150<>""))} -> 0 | GI1: =MAXA(FI1:FI150) -> 1 | GM1: =MAXA(FM1:FM150) -> 6 | GN1: =sayfa1!$A$2 -> anayurt | GO1: GB1:GB150 | GP1: . | GQ1: . | GR1: . | GS1: . | HB1: KOCASİNAN (YEMLİHA) | HC1: {=MAX(ROW(HB2:HB151)*(HB2:HB151<>""))} -> 62 | HI1: =MAXA(GI1:GI150) -> 1 | HM1: =MAXA(GM1:GM150) -> 6 | HN1: =sayfa1!$A$2 -> anayurt | HO1: HB1:HB150 | IB1: KOCASİNAN 1 | IC1: {=MAX(ROW(IB2:IB151)*(IB2:IB151<>""))} -> 123 | II1: =MAXA(HI1:HI150) -> 1 | IM1: =MAXA(HM1:HM150) -> 6 | IN1: =sayfa1!$A$2 -> anayurt | IO1: IB1:IB150 | IP1: . | IQ1: . | IX1: . | IY1: . | IZ1: . | JB1: KOCASİNAN 2 | JC1: {=MAX(ROW(JB2:JB150)*(JB2:JB150<>""))} -> 0 | JI1: =MAXA(II1:II150) -> 1 | JM1: =MAXA(IM1:IM150) -> 6 | JN1: =sayfa1!$A$2 -> anayurt | JO1: JB1:JB150 | JP1: . | JQ1: . | JX1: . | JY1: . | JZ1: . | KB1: TALAS | KC1: {=MAX(ROW(KB2:KB151)*(KB2:KB151<>""))} -> 84 | KI1: =MAXA(JI1:JI150) -> 1 | KM1: =MAXA(JM1:JM150) -> 6 | KN1: =sayfa1!$A$2 -> anayurt | KO1: KB1:KB150 | KP1: . | KQ1: . | KY1: . | KZ1: . | LB1: AKKIŞLA | LC1: {=MAX(ROW(LB2:LB150)*(LB2:LB150<>""))} -> 23 | LI1: =MAXA(KI1:KI150) -> 1 | LM1: =MAXA(KM1:KM150) -> 6 | LN1: =sayfa1!$A$2 -> anayurt | LO1: LB1:LB150 | LP1: . | LQ1: . | LR1: . | LY1: . | LZ1: . | MB1: BÜNYAN | MC1: {=MAX(ROW(MB2:MB151)*(MB2:MB151<>""))} -> 94 | MI1: =MAXA(LI1:LI150) -> 1 | MM1: =MAXA(LM1:LM150) -> 6 | MN1: =sayfa1!$A$2 -> anayurt | MO1: MB1:MB150 | MP1: . | MQ1: . | MW1: . | MY1: . | MZ1: . | NB1: DEVELİ | NC1: {=MAX(ROW(NB2:NB151)*(NB2:NB151<>""))} -> 52 | NI1: =MAXA(MI1:MI150) -> 1 | NM1: =MAXA(MM1:MM150) -> 6 | NN1: =sayfa1!$A$2 -> anayurt | NO1: NB1:NB150 | NP1: . | NQ1: . | NX1: . | NY1: . | OB1: DEVELİ 2 | OC1: {=MAX(ROW(OB2:OB152)*(OB2:OB152<>""))} -> 119 | OI1: =MAXA(NI1:NI150) -> 1 | OM1: =MAXA(NM1:NM150) -> 6 | ON1: =sayfa1!$A$2 -> anayurt | OO1: OB1:OB160 | OZ1: . | PB1: FELAHİYE | PC1: {=MAX(ROW(PB2:PB152)*(PB2:PB152<>""))} -> 53 | PI1: =MAXA(OI1:OI150) -> 1 | PM1: =MAXA(OM1:OM150) -> 6 | PN1: =sayfa1!$A$2 -> anayurt | PO1: PB1:PB150 | PP1: . | PQ1: . | PR1: . | PY1: . | PZ1: . | QB1: İNCESU | QC1: {=MAX(ROW(QB2:QB150)*(QB2:QB150<>""))} -> 83 | QI1: =MAXA(PI1:PI150) -> 1 | QM1: =MAXA(PM1:PM150) -> 6 | QN1: =sayfa1!$A$2 -> anayurt | QO1: QB1:QB150 | QP1: . | QQ1: . | QR1: . | QY1: . | QZ1: . | RB1: ÖZVATAN | RC1: {=MAX(ROW(RB2:RB150)*(RB2:RB150<>""))} -> 18 | RI1: =MAXA(QI1:QI150) -> 1 | RM1: =MAXA(QM1:QM150) -> 6 | RN1: =sayfa1!$A$2 -> anayurt | RO1: RB1:RB150 | RP1: . | RQ1: . | RY1: . | RZ1: . | SB1: PINARBAŞI 1 | SC1: {=MAX(ROW(SB2:SB159)*(SB2:SB159<>""))} -> 115 | SI1: =MAXA(RI1:RI150) -> 1 | SK1: . | SM1: =MAXA(RM1:RM150) -> 6 | SN1: =sayfa1!$A$2 -> anayurt | SP1: . | SQ1: . | SY1: . | SZ1: . | TB1: PINARBAŞI 2 | TC1: {=MAX(ROW(TB2:TB150)*(TB2:TB150<>""))} -> 0 | TI1: =MAXA(SI1:SI150) -> 3 | TK1: . | TM1: =MAXA(SM1:SM150) -> 6 | TN1: =sayfa1!$A$2 -> anayurt | TO1: TB1:TB150 | TP1: . | TQ1: . | TY1: . | TZ1: . | UB1: DADALOĞLU | UC1: {=MAX(ROW(UB2:UB150)*(UB2:UB150<>""))} -> 79 | UI1: =MAXA(TI1:TI150) -> 3 | UK1: . | UM1: =MAXA(TM1:TM150) -> 6 | UN1: =sayfa1!$A$2 -> anayurt | UO1: UB1:UB150 | UP1: . | UQ1: . | UY1: . | UZ1: . | VB1: SARIOĞLAN | VC1: {=MAX(ROW(VB2:VB153)*(VB2:VB153<>""))} -> 86 | VI1: =MAXA(UI1:UI150) -> 5 | VK1: . | VM1: =MAXA(UM1:UM150) -> 6 | VN1: =sayfa1!$A$2 -> anayurt | VO1: VB1:VB150 | VP1: . | VQ1: . | VY1: . | VZ1: . | WB1: SARIZ | WC1: {=MAX(ROW(WB2:WB150)*(WB2:WB150<>""))} -> 47 | WI1: =MAXA(VI1:VI150) -> 6 | WK1: . | WM1: =MAXA(VM1:VM150) -> 6 | WN1: =sayfa1!$A$2 -> anayurt | WO1: WB1:WB150 | WP1: . | WQ1: . | WR1: . | WV1: . | WZ1: . | XB1: TOMARZA 1 | XC1: {=MAX(ROW(XB2:XB150)*(XB2:XB150<>""))} -> 98 | XI1: =MAXA(WI1:WI150) -> 6 | XK1: . | XM1: =MAXA(WM1:WM150) -> 6 | XN1: =sayfa1!$A$2 -> anayurt | XO1: XB1:XB150 | XP1: . | XQ1: . | XR1: . | XY1: . | XZ1: . | YB1: TOMARZA 2 | YC1: {=MAX(ROW(YB2:YB150)*(YB2:YB150<>""))} -> 0 | YI1: =MAXA(XI1:XI150) -> 6 | YK1: . | YM1: =MAXA(XM1:XM150) -> 6 | YN1: =sayfa1!$A$2 -> anayurt | YO1: YB1:YB150 | YP1: . | YQ1: . | YR1: . | YY1: . | YZ1: . | ZB1: YAHYALI | ZC1: {=MAX(ROW(ZB2:ZB153)*(ZB2:ZB153<>""))} -> 84 | ZI1: =MAXA(YI1:YI150) -> 6 | ZK1: . | ZM1: =MAXA(YM1:YM150) -> 6 | ZN1: =sayfa1!$A$2 -> anayurt | ZO1: ZB1:ZB150 | ZP1: . | ZQ1: . | ZR1: . | ZZ1: . | AAB1: YEŞİLHİSAR | AAC1: {=MAX(ROW(AAB2:AAB150)*(AAB2:AAB150<>""))} -> 87 | AAI1: =MAXA(ZI1:ZI150) -> 6 | AAK1: . | AAM1: =MAXA(ZM1:ZM150) -> 6 | AAN1: =sayfa1!$A$2 -> anayurt | AAO1: AAB1:AAB150 | AAP1: . | AAQ1: . | AAR1: . | AAS1: . | AAZ1: . | ABB1: DMA 1 | ABC1: {=MAX(ROW(ABB2:ABB150)*(ABB2:ABB150<>""))} -> 104 | ABI1: =MAXA(AAI1:AAI150) -> 6 | ABK1: . | ABM1: =MAXA(AAM1:AAM150) -> 6 | ABN1: =sayfa1!$A$2 -> anayurt | ABO1: ABB1:ABB150 | ABP1: . | ABQ1: . | ABZ1: . | ACB1: DMA 2 | ACC1: {=MAX(ROW(ACB2:ACB150)*(ACB2:ACB150<>""))} -> 0 | ACI1: =MAXA(ABI1:ABI150) -> 6 | ACK1: . | ACM1: =MAXA(ABM1:ABM150) -> 6 | ACN1: =sayfa1!$A$2 -> anayurt | ACO1: ACB1:ACB150 | ACP1: . | ACQ1: . | ACZ1: . | ADB1: KANAL | ADC1: {=MAX(ROW(ADB2:ADB150)*(ADB2:ADB150<>""))} -> 39 | ADI1: =MAXA(ACI1:ACI150) -> 6 | ADK1: . | ADM1: =MAXA(ACM1:ACM150) -> 6 | ADN1: =sayfa1!$A$2 -> anayurt | ADO1: ADB1:ADB150 | ADP1: . | ADQ1: . | ADR1: . | ADS1: . | ADZ1: . | AEB1: ALTERNATİF | AEC1: {=MAX(ROW(AEB2:AEB150)*(AEB2:AEB150<>""))} -> 41 | AEI1: =MAXA(ADI1:ADI150) -> 6 | AEK1: . | AEM1: =MAXA(ADM1:ADM150) -> 6 | AEN1: =sayfa1!$A$2 -> anayurt | AEO1: AEB1:AEB150 | AEP1: . | AEQ1: . | AER1: . | AES1: . | AET1: . | AEU1: . | AEV1: . | AEW1: =COLUMN() -> 829
A2: =CONCATENATE(D1," Dokuzpınar") -> 7 Dokuzpınar | B2: =N2 | D2: DOKUZPINAR KUYULAR | I2: {=IF(INDIRECT(ADDRESS(ROW(),COLUMN()-6))="","X",IF(INDIRECT(ADDRESS(ROW(),COLUMN()-5))="",0,"OK"))} -> X | J2: =IF(K2="","",SUM(1+MAXA(J$1:J1))) | K2: {=IF(I2=0,INDIRECT(ADDRESS(ROW(),COLUMN()-8)),"")} | M2: =ADDRESS(ROW(),COLUMN()-10) -> $C$2 | N2: =IF(O2="","",SUM(1+MAXA(N$1:N1))) | O2: {=IF(ISNUMBER(SEARCH(O$1,INDEX(INDIRECT($P$1),ROW(M2),1)))=TRUE,INDIRECT(M2),"")} | P2: . | Q2: . | Y2: . | Z2: . | AA2: =AM2 | AC2: ERCİYES MASTER | AH2: {=IF(INDIRECT(ADDRESS(ROW(),COLUMN()-6))="","X",IF(INDIRECT(ADDRESS(ROW(),COLUMN()-5))="",0,"OK"))} -> X | AI2: =IF(AJ2="","",SUM(1+MAXA(AI$1:AI1))) | AJ2: {=IF(AH2=0,INDIRECT(ADDRESS(ROW(),COLUMN()-8)),"")} | AL2: =ADDRESS(ROW(),COLUMN()-10) -> $AB$2 | AM2: =IF(AN2="","",SUM(1+MAXA(AM$1:AM1))) | AN2: {=IF(ISNUMBER(SEARCH(AN$1,INDEX(INDIRECT($AO$1),ROW(AL2),1)))=TRUE,INDIRECT(AL2),"")} | AO2: . | AP2: . | AQ2: . | AX2: . | AY2: . | AZ2: . | BA2: =BM2 | BC2: ANAYURT | BH2: {=IF(INDIRECT(ADDRESS(ROW(),COLUMN()-6))="","X",IF(INDIRECT(ADDRESS(ROW(),COLUMN()-5))="",0,"OK"))} -> X | BI2: =IF(BJ2="","",SUM(1+MAXA(BI$1:BI1))) | BJ2: {=IF(BH2=0,INDIRECT(ADDRESS(ROW(),COLUMN()-8)),"")} | BL2: =ADDRESS(ROW(),COLUMN()-10) -> $BB$2 | BM2: =IF(BN2="","",SUM(1+MAXA(BM$1:BM1))) | BN2: {=IF(ISNUMBER(SEARCH(BN$1,INDEX(INDIRECT(BO$1),ROW(BL2),1)))=TRUE,INDIRECT(BL2),"")} | BO2: . | BP2: . | BQ2: . | BW2: . | BX2: . | CA2: =CM2 | CC2: GERMİRALTI | CG2: Açıklama: | CH2: {=IF(INDIRECT(ADDRESS(ROW(),COLUMN()-6))="","X",IF(INDIRECT(ADDRESS(ROW(),COLUMN()-5))="",0,"OK"))} -> X | CI2: =IF(CJ2="","",SUM(1+MAXA(CI$1:CI1))) | CJ2: {=IF(CH2=0,INDIRECT(ADDRESS(ROW(),COLUMN()-8)),"")} | CL2: =ADDRESS(ROW(),COLUMN()-10) -> $CB$2 | CM2: =IF(CN2="","",SUM(1+MAXA(CM$1:CM1))) | CN2: {=IF(ISNUMBER(SEARCH(CN$1,INDEX(INDIRECT(CO$1),ROW(CL2),1)))=TRUE,INDIRECT(CL2),"")} | CO2: . | CZ2: . | DA2: =DM2 | DH2: {=IF(INDIRECT(ADDRESS(ROW(),COLUMN()-6))="","X",IF(INDIRECT(ADDRESS(ROW(),COLUMN()-5))="",0,"OK"))} -> X | DI2: =IF(DJ2="","",SUM(1+MAXA(DI$1:DI1))) | DJ2: {=IF(DH2=0,INDIRECT(ADDRESS(ROW(),COLUMN()-8)),"")} | DL2: =ADDRESS(ROW(),COLUMN()-10) -> $DB$2 | DM2: =IF(DN2="","",SUM(1+MAXA(DM$1:DM1))) | DN2: {=IF(ISNUMBER(SEARCH(DN$1,INDEX(INDIRECT(DO$1),ROW(DL2),1)))=TRUE,INDIRECT(DL2),"")} | DO2: . | DZ2: . | EA2: =EM2 | EC2: HACILAR | EH2: {=IF(INDIRECT(ADDRESS(ROW(),COLUMN()-6))="","X",IF(INDIRECT(ADDRESS(ROW(),COLUMN()-5))="",0,"OK"))} -> X | EI2: =IF(EJ2="","",SUM(1+MAXA(EI$1:EI1))) | EJ2: {=IF(EH2=0,INDIRECT(ADDRESS(ROW(),COLUMN()-8)),"")} | EL2: =ADDRESS(ROW(),COLUMN()-10) -> $EB$2 | EM2: =IF(EN2="","",SUM(1+MAXA(EM$1:EM1))) | EN2: {=IF(ISNUMBER(SEARCH(EN$1,INDEX(INDIRECT(EO$1),ROW(EL2),1)))=TRUE,INDIRECT(EL2),"")} | EO2: . | FA2: =FM2 | FC2: AĞIRNAS | FH2: {=IF(INDIRECT(ADDRESS(ROW(),COLUMN()-6))="","X",IF(INDIRECT(ADDRESS(ROW(),COLUMN()-5))="",0,"OK"))} -> X | FI2: =IF(FJ2="","",SUM(1+MAXA(FI$1:FI1))) | FJ2: {=IF(FH2=0,INDIRECT(ADDRESS(ROW(),COLUMN()-8)),"")} | FL2: =ADDRESS(ROW(),COLUMN()-10) -> $FB$2 | FM2: =IF(FN2="","",SUM(1+MAXA(FM$1:FM1))) | FN2: {=IF(ISNUMBER(SEARCH(FN$1,INDEX(INDIRECT(FO$1),ROW(FL2),1)))=TRUE,INDIRECT(FL2),"")} | FO2: . | FP2: . | FQ2: . | FR2: . | FS2: . | GA2: =GM2 | GH2: {=IF(INDIRECT(ADDRESS(ROW(),COLUMN()-6))="","X",IF(INDIRECT(ADDRESS(ROW(),COLUMN()-5))="",0,"OK"))} -> X | GI2: =IF(GJ2="","",SUM(1+MAXA(GI$1:GI1))) | GJ2: {=IF(GH2=0,INDIRECT(ADDRESS(ROW(),COLUMN()-8)),"")} | GL2: =ADDRESS(ROW(),COLUMN()-10) -> $GB$2 | GM2: =IF(GN2="","",SUM(1+MAXA(GM$1:GM1))) | GN2: {=IF(ISNUMBER(SEARCH(GN$1,INDEX(INDIRECT(GO$1),ROW(GL2),1)))=TRUE,INDIRECT(GL2),"")} | GO2: . | GP2: . | GQ2: . | GR2: . | GS2: . | HA2: =HM2 | HC2: BAYRAMHACI | HH2: {=IF(INDIRECT(ADDRESS(ROW(),COLUMN()-6))="","X",IF(INDIRECT(ADDRESS(ROW(),COLUMN()-5))="",0,"OK"))} -> X | HI2: =IF(HJ2="","",SUM(1+MAXA(HI$1:HI1))) | HJ2: {=IF(HH2=0,INDIRECT(ADDRESS(ROW(),COLUMN()-8)),"")} | HL2: =ADDRESS(ROW(),COLUMN()-10) -> $HB$2 | HM2: =IF(HN2="","",SUM(1+MAXA(HM$1:HM1))) | HN2: {=IF(ISNUMBER(SEARCH(HN$1,INDEX(INDIRECT(HO$1),ROW(HL2),1)))=TRUE,INDIRECT(HL2),"")} | HO2: . | HP2: . | HQ2: . | HY2: . | HZ2: . | IA2: =IM2 | IC2: AMARAT | IH2: {=IF(INDIRECT(ADDRESS(ROW(),COLUMN()-6))="","X",IF(INDIRECT(ADDRESS(ROW(),COLUMN()-5))="",0,"OK"))} -> X | II2: =IF(IJ2="","",SUM(1+MAXA(II$1:II1))) | IJ2: {=IF(IH2=0,INDIRECT(ADDRESS(ROW(),COLUMN()-8)),"")} | IL2: =ADDRESS(ROW(),COLUMN()-10) -> $IB$2 | IM2: =IF(IN2="","",SUM(1+MAXA(IM$1:IM1))) | IN2: {=IF(ISNUMBER(SEARCH(IN$1,INDEX(INDIRECT(IO$1),ROW(IL2),1)))=TRUE,INDIRECT(IL2),"")} | IO2: . | IP2: . | IQ2: . | IX2: . | IY2: . | IZ2: . | JA2: =JM2 | JH2: {=IF(INDIRECT(ADDRESS(ROW(),COLUMN()-6))="","X",IF(INDIRECT(ADDRESS(ROW(),COLUMN()-5))="",0,"OK"))} -> X | JI2: =IF(JJ2="","",SUM(1+MAXA(JI$1:JI1))) | JJ2: {=IF(JH2=0,INDIRECT(ADDRESS(ROW(),COLUMN()-8)),"")} | JL2: =ADDRESS(ROW(),COLUMN()-10) -> $JB$2 | JM2: =IF(JN2="","",SUM(1+MAXA(JM$1:JM1))) | JN2: {=IF(ISNUMBER(SEARCH(JN$1,INDEX(INDIRECT(JO$1),ROW(JL2),1)))=TRUE,INDIRECT(JL2),"")} | JO2: . | JP2: . | JQ2: . | JX2: . | JY2: . | JZ2: . | KA2: =KM2 | KC2: AKÇAKAYA | KH2: {=IF(INDIRECT(ADDRESS(ROW(),COLUMN()-6))="","X",IF(INDIRECT(ADDRESS(ROW(),COLUMN()-5))="",0,"OK"))} -> X | KI2: =IF(KJ2="","",SUM(1+MAXA(KI$1:KI1))) | KJ2: {=IF(KH2=0,INDIRECT(ADDRESS(ROW(),COLUMN()-8)),"")} | KL2: =ADDRESS(ROW(),COLUMN()-10) -> $KB$2 | KM2: =IF(KN2="","",SUM(1+MAXA(KM$1:KM1))) | KN2: {=IF(ISNUMBER(SEARCH(KN$1,INDEX(INDIRECT(KO$1),ROW(KL2),1)))=TRUE,INDIRECT(KL2),"")} | KO2: . | KP2: . | KQ2: . | KY2: . | KZ2: . | LA2: =LM2 | LC2: AKKIŞLA | LH2: {=IF(INDIRECT(ADDRESS(ROW(),COLUMN()-6))="","X",IF(INDIRECT(ADDRESS(ROW(),COLUMN()-5))="",0,"OK"))} -> X | LI2: =IF(LJ2="","",SUM(1+MAXA(LI$1:LI1))) | LJ2: {=IF(LH2=0,INDIRECT(ADDRESS(ROW(),COLUMN()-8)),"")} | LL2: =ADDRESS(ROW(),COLUMN()-10) -> $LB$2 | LM2: =IF(LN2="","",SUM(1+MAXA(LM$1:LM1))) | LN2: {=IF(ISNUMBER(SEARCH(LN$1,INDEX(INDIRECT(LO$1),ROW(LL2),1)))=TRUE,INDIRECT(LL2),"")} | LO2: . | LP2: . | LQ2: . | LR2: . | LY2: . | LZ2: . | MA2: =MM2 | MC2: BÜNYAN | MH2: {=IF(INDIRECT(ADDRESS(ROW(),COLUMN()-6))="","X",IF(INDIRECT(ADDRESS(ROW(),COLUMN()-5))="",0,"OK"))} -> X | MI2: =IF(MJ2="","",SUM(1+MAXA(MI$1:MI1))) | MJ2: {=IF(MH2=0,INDIRECT(ADDRESS(ROW(),COLUMN()-8)),"")} | ML2: =ADDRESS(ROW(),COLUMN()-10) -> $MB$2 | MM2: =IF(MN2="","",SUM(1+MAXA(MM$1:MM1))) | MN2: {=IF(ISNUMBER(SEARCH(MN$1,INDEX(INDIRECT(MO$1),ROW(ML2),1)))=TRUE,INDIRECT(ML2),"")} | MO2: . | MP2: . | MQ2: . | MW2: . | MY2: . | MZ2: . | NA2: =NM2 | NC2: DEVELİ MERKEZ | NH2: {=IF(INDIRECT(ADDRESS(ROW(),COLUMN()-6))="","X",IF(INDIRECT(ADDRESS(ROW(),COLUMN()-5))="",0,"OK"))} -> X | NI2: =IF(NJ2="","",SUM(1+MAXA(NI$1:NI1))) | NJ2: {=IF(NH2=0,INDIRECT(ADDRESS(ROW(),COLUMN()-8)),"")} | NL2: =ADDRESS(ROW(),COLUMN()-10) -> $NB$2 | NM2: =IF(NN2="","",SUM(1+MAXA(NM$1:NM1))) | NN2: {=IF(ISNUMBER(SEARCH(NN$1,INDEX(INDIRECT(NO$1),ROW(NL2),1)))=TRUE,INDIRECT(NL2),"")} | NO2: . | NP2: . | NQ2: . | NX2: . | NY2: . | OA2: =OM2 | OH2: {=IF(INDIRECT(ADDRESS(ROW(),COLUMN()-6))="","X",IF(INDIRECT(ADDRESS(ROW(),COLUMN()-5))="",0,"OK"))} -> X | OI2: =IF(OJ2="","",SUM(1+MAXA(OI$1:OI1))) | OJ2: {=IF(OH2=0,INDIRECT(ADDRESS(ROW(),COLUMN()-8)),"")} | OL2: =ADDRESS(ROW(),COLUMN()-10) -> $OB$2 | OM2: =IF(ON2="","",SUM(1+MAXA(OM$1:OM1))) | ON2: {=IF(ISNUMBER(SEARCH(ON$1,INDEX(INDIRECT(OO$1),ROW(OL2),1)))=TRUE,INDIRECT(OL2),"")} | OO2: . | OZ2: . | PA2: =PM2 | PC2: FELAHİYE MERKEZ | PH2: {=IF(INDIRECT(ADDRESS(ROW(),COLUMN()-6))="","X",IF(INDIRECT(ADDRESS(ROW(),COLUMN()-5))="",0,"OK"))} -> X | PI2: =IF(PJ2="","",SUM(1+MAXA(PI$1:PI1))) | PJ2: {=IF(PH2=0,INDIRECT(ADDRESS(ROW(),COLUMN()-8)),"")} | PL2: =ADDRESS(ROW(),COLUMN()-10) -> $PB$2 | PM2: =IF(PN2="","",SUM(1+MAXA(PM$1:PM1))) | PN2: {=IF(ISNUMBER(SEARCH(PN$1,INDEX(INDIRECT(PO$1),ROW(PL2),1)))=TRUE,INDIRECT(PL2),"")} | PO2: . | PP2: . | PQ2: . | PR2: . | PY2: . | PZ2: . | QA2: =QM2 | QC2: İNCESU MASTER | QH2: {=IF(INDIRECT(ADDRESS(ROW(),COLUMN()-6))="","X",IF(INDIRECT(ADDRESS(ROW(),COLUMN()-5))="",0,"OK"))} -> X | QI2: =IF(QJ2="","",SUM(1+MAXA(QI$1:QI1))) | QJ2: {=IF(QH2=0,INDIRECT(ADDRESS(ROW(),COLUMN()-8)),"")} | QL2: =ADDRESS(ROW(),COLUMN()-10) -> $QB$2 | QM2: =IF(QN2="","",SUM(1+MAXA(QM$1:QM1))) | QN2: {=IF(ISNUMBER(SEARCH(QN$1,INDEX(INDIRECT(QO$1),ROW(QL2),1)))=TRUE,INDIRECT(QL2),"")} | QO2: . | QP2: . | QQ2: . | QR2: . | QY2: . | QZ2: . | RA2: =RM2 | RC2: ÖZVATAN MERKEZ | RH2: {=IF(INDIRECT(ADDRESS(ROW(),COLUMN()-6))="","X",IF(INDIRECT(ADDRESS(ROW(),COLUMN()-5))="",0,"OK"))} -> X | RI2: =IF(RJ2="","",SUM(1+MAXA(RI$1:RI1))) | RJ2: {=IF(RH2=0,INDIRECT(ADDRESS(ROW(),COLUMN()-8)),"")} | RL2: =ADDRESS(ROW(),COLUMN()-10) -> $RB$2 | RM2: =IF(RN2="","",SUM(1+MAXA(RM$1:RM1))) | RN2: {=IF(ISNUMBER(SEARCH(RN$1,INDEX(INDIRECT(RO$1),ROW(RL2),1)))=TRUE,INDIRECT(RL2),"")} | RO2: . | RP2: . | RQ2: . | RY2: . | RZ2: . | SA2: =SM2 | SC2: PINARBAŞI MERKEZ | SH2: {=IF(INDIRECT(ADDRESS(ROW(),COLUMN()-6))="","X",IF(INDIRECT(ADDRESS(ROW(),COLUMN()-5))="",0,"OK"))} -> X | SI2: =IF(SJ2="","",SUM(1+MAXA(SI$1:SI1))) | SJ2: {=IF(SH2=0,INDIRECT(ADDRESS(ROW(),COLUMN()-8)),"")} | SK2: . | SL2: =ADDRESS(ROW(),COLUMN()-10) -> $SB$2 | SM2: =IF(SN2="","",SUM(1+MAXA(SM$1:SM1))) | SN2: {=IF(ISNUMBER(SEARCH(SN$1,INDEX(SB$1:SB$174,ROW(SL2),1)))=TRUE,INDIRECT(SL2),"")} | SO2: . | SP2: . | SQ2: . | SY2: . | SZ2: . | TA2: =TM2 | TH2: {=IF(INDIRECT(ADDRESS(ROW(),COLUMN()-6))="","X",IF(INDIRECT(ADDRESS(ROW(),COLUMN()-5))="",0,"OK"))} -> X | TI2: =IF(TJ2="","",SUM(1+MAXA(TI$1:TI1))) | TJ2: {=IF(TH2=0,INDIRECT(ADDRESS(ROW(),COLUMN()-8)),"")} | TK2: . | TL2: =ADDRESS(ROW(),COLUMN()-10) -> $TB$2 | TM2: =IF(TN2="","",SUM(1+MAXA(TM$1:TM1))) | TN2: {=IF(ISNUMBER(SEARCH(TN$1,INDEX(INDIRECT(TO$1),ROW(TL2),1)))=TRUE,INDIRECT(TL2),"")} | TO2: . | TP2: . | TQ2: . | TY2: . | TZ2: . | UA2: =UM2 | UH2: {=IF(INDIRECT(ADDRESS(ROW(),COLUMN()-6))="","X",IF(INDIRECT(ADDRESS(ROW(),COLUMN()-5))="",0,"OK"))} -> X | UI2: =IF(UJ2="","",SUM(1+MAXA(UI$1:UI1))) | UJ2: {=IF(UH2=0,INDIRECT(ADDRESS(ROW(),COLUMN()-8)),"")} | UK2: . | UL2: =ADDRESS(ROW(),COLUMN()-10) -> $UB$2 | UM2: =IF(UN2="","",SUM(1+MAXA(UM$1:UM1))) | UN2: {=IF(ISNUMBER(SEARCH(UN$1,INDEX(INDIRECT(UO$1),ROW(UL2),1)))=TRUE,INDIRECT(UL2),"")} | UO2: . | UP2: . | UQ2: . | UY2: . | UZ2: . | VA2: =VM2 | VC2: SARIOĞLAN MERKEZ | VH2: {=IF(INDIRECT(ADDRESS(ROW(),COLUMN()-6))="","X",IF(INDIRECT(ADDRESS(ROW(),COLUMN()-5))="",0,"OK"))} -> X | VI2: =IF(VJ2="","",SUM(1+MAXA(VI$1:VI1))) | VJ2: {=IF(VH2=0,INDIRECT(ADDRESS(ROW(),COLUMN()-8)),"")} | VK2: . | VL2: =ADDRESS(ROW(),COLUMN()-10) -> $VB$2 | VM2: =IF(VN2="","",SUM(1+MAXA(VM$1:VM1))) | VN2: {=IF(ISNUMBER(SEARCH(VN$1,INDEX(INDIRECT(VO$1),ROW(VL2),1)))=TRUE,INDIRECT(VL2),"")} | VO2: . | VP2: . | VQ2: . | VY2: . | VZ2: . | WA2: =WM2 | WC2: MERKEZ | WH2: {=IF(INDIRECT(ADDRESS(ROW(),COLUMN()-6))="","X",IF(INDIRECT(ADDRESS(ROW(),COLUMN()-5))="",0,"OK"))} -> X | WI2: =IF(WJ2="","",SUM(1+MAXA(WI$1:WI1))) | WJ2: {=IF(WH2=0,INDIRECT(ADDRESS(ROW(),COLUMN()-8)),"")} | WK2: . | WL2: =ADDRESS(ROW(),COLUMN()-10) -> $WB$2 | WM2: =IF(WN2="","",SUM(1+MAXA(WM$1:WM1))) | WN2: {=IF(ISNUMBER(SEARCH(WN$1,INDEX(INDIRECT(WO$1),ROW(WL2),1)))=TRUE,INDIRECT(WL2),"")} | WO2: . | WP2: . | WQ2: . | WR2: . | WV2: . | WZ2: . | XA2: =XM2 | XC2: TOMARZA MERKEZ | XH2: {=IF(INDIRECT(ADDRESS(ROW(),COLUMN()-6))="","X",IF(INDIRECT(ADDRESS(ROW(),COLUMN()-5))="",0,"OK"))} -> X | XI2: =IF(XJ2="","",SUM(1+MAXA(XI$1:XI1))) | XJ2: {=IF(XH2=0,INDIRECT(ADDRESS(ROW(),COLUMN()-8)),"")} | XK2: . | XL2: =ADDRESS(ROW(),COLUMN()-10) -> $XB$2 | XM2: =IF(XN2="","",SUM(1+MAXA(XM$1:XM1))) | XN2: {=IF(ISNUMBER(SEARCH(XN$1,INDEX(INDIRECT(XO$1),ROW(XL2),1)))=TRUE,INDIRECT(XL2),"")} | XO2: . | XP2: . | XQ2: . | XR2: . | XY2: . | XZ2: . | YA2: =YM2 | YH2: {=IF(INDIRECT(ADDRESS(ROW(),COLUMN()-6))="","X",IF(INDIRECT(ADDRESS(ROW(),COLUMN()-5))="",0,"OK"))} -> X | YI2: =IF(YJ2="","",SUM(1+MAXA(YI$1:YI1))) | YJ2: {=IF(YH2=0,INDIRECT(ADDRESS(ROW(),COLUMN()-8)),"")} | YK2: . | YL2: =ADDRESS(ROW(),COLUMN()-10) -> $YB$2 | YM2: =IF(YN2="","",SUM(1+MAXA(YM$1:YM1))) | YN2: {=IF(ISNUMBER(SEARCH(YN$1,INDEX(INDIRECT(YO$1),ROW(YL2),1)))=TRUE,INDIRECT(YL2),"")} | YO2: . | YP2: . | YQ2: . | YR2: . | YY2: . | YZ2: . | ZA2: =ZM2 | ZH2: {=IF(INDIRECT(ADDRESS(ROW(),COLUMN()-6))="","X",IF(INDIRECT(ADDRESS(ROW(),COLUMN()-5))="",0,"OK"))} -> X | ZI2: =IF(ZJ2="","",SUM(1+MAXA(ZI$1:ZI1))) | ZJ2: {=IF(ZH2=0,INDIRECT(ADDRESS(ROW(),COLUMN()-8)),"")} | ZK2: . | ZL2: =ADDRESS(ROW(),COLUMN()-10) -> $ZB$2 | ZM2: =IF(ZN2="","",SUM(1+MAXA(ZM$1:ZM1))) | ZN2: {=IF(ISNUMBER(SEARCH(ZN$1,INDEX(INDIRECT(ZO$1),ROW(ZL2),1)))=TRUE,INDIRECT(ZL2),"")} | ZO2: . | ZP2: . | ZQ2: . | ZR2: . | ZZ2: . | AAA2: =AAM2 | AAH2: {=IF(INDIRECT(ADDRESS(ROW(),COLUMN()-6))="","X",IF(INDIRECT(ADDRESS(ROW(),COLUMN()-5))="",0,"OK"))} -> X | AAI2: =IF(AAJ2="","",SUM(1+MAXA(AAI$1:AAI1))) | AAJ2: {=IF(AAH2=0,INDIRECT(ADDRESS(ROW(),COLUMN()-8)),"")} | AAK2: . | AAL2: =ADDRESS(ROW(),COLUMN()-10) -> $AAB$2 | AAM2: =IF(AAN2="","",SUM(1+MAXA(AAM$1:AAM1))) | AAN2: {=IF(ISNUMBER(SEARCH(AAN$1,INDEX(INDIRECT(AAO$1),ROW(AAL2),1)))=TRUE,INDIRECT(AAL2),"")} | AAO2: . | AAP2: . | AAQ2: . | AAR2: . | AAS2: . | AAZ2: . | ABA2: =ABM2 | ABC2: KEYKUBAT DAĞITIM DEPOSU (DMA) | ABH2: {=IF(INDIRECT(ADDRESS(ROW(),COLUMN()-6))="","X",IF(INDIRECT(ADDRESS(ROW(),COLUMN()-5))="",0,"OK"))} -> X | ABI2: =IF(ABJ2="","",SUM(1+MAXA(ABI$1:ABI1))) | ABJ2: {=IF(ABH2=0,INDIRECT(ADDRESS(ROW(),COLUMN()-8)),"")} | ABK2: . | ABL2: =ADDRESS(ROW(),COLUMN()-10) -> $ABB$2 | ABM2: =IF(ABN2="","",SUM(1+MAXA(ABM$1:ABM1))) | ABN2: {=IF(ISNUMBER(SEARCH(ABN$1,INDEX(INDIRECT(ABO$1),ROW(ABL2),1)))=TRUE,INDIRECT(ABL2),"")} | ABO2: . | ABP2: . | ABQ2: . | ABZ2: . | ACA2: =ACM2 | ACH2: {=IF(INDIRECT(ADDRESS(ROW(),COLUMN()-6))="","X",IF(INDIRECT(ADDRESS(ROW(),COLUMN()-5))="",0,"OK"))} -> X | ACI2: =IF(ACJ2="","",SUM(1+MAXA(ACI$1:ACI1))) | ACJ2: {=IF(ACH2=0,INDIRECT(ADDRESS(ROW(),COLUMN()-8)),"")} | ACK2: . | ACL2: =ADDRESS(ROW(),COLUMN()-10) -> $ACB$2 | ACM2: =IF(ACN2="","",SUM(1+MAXA(ACM$1:ACM1))) | ACN2: {=IF(ISNUMBER(SEARCH(ACN$1,INDEX(INDIRECT(ACO$1),ROW(ACL2),1)))=TRUE,INDIRECT(ACL2),"")} | ACO2: . | ACP2: . | ACQ2: . | ACZ2: . | ADA2: =ADM2 | ADC2: KANAL | ADH2: {=IF(INDIRECT(ADDRESS(ROW(),COLUMN()-6))="","X",IF(INDIRECT(ADDRESS(ROW(),COLUMN()-5))="",0,"OK"))} -> X | ADI2: =IF(ADJ2="","",SUM(1+MAXA(ADI$1:ADI1))) | ADJ2: {=IF(ADH2=0,INDIRECT(ADDRESS(ROW(),COLUMN()-8)),"")} | ADK2: . | ADL2: =ADDRESS(ROW(),COLUMN()-10) -> $ADB$2 | ADM2: =IF(ADN2="","",SUM(1+MAXA(ADM$1:ADM1))) | ADN2: {=IF(ISNUMBER(SEARCH(ADN$1,INDEX(INDIRECT(ADO$1),ROW(ADL2),1)))=TRUE,INDIRECT(ADL2),"")} | ADO2: . | ADP2: . | ADQ2: . | ADR2: . | ADS2: . | ADZ2: . | AEA2: =AEM2 | AEH2: {=IF(INDIRECT(ADDRESS(ROW(),COLUMN()-6))="","X",IF(INDIRECT(ADDRESS(ROW(),COLUMN()-5))="",0,"OK"))} -> X | AEI2: =IF(AEJ2="","",SUM(1+MAXA(AEI$1:AEI1))) | AEJ2: {=IF(AEH2=0,INDIRECT(ADDRESS(ROW(),COLUMN()-8)),"")} | AEK2: . | AEL2: =ADDRESS(ROW(),COLUMN()-10) -> $AEB$2 | AEM2: =IF(AEN2="","",SUM(1+MAXA(AEM$1:AEM1))) | AEN2: {=IF(ISNUMBER(SEARCH(AEN$1,INDEX(INDIRECT(AEO$1),ROW(AEL2),1)))=TRUE,INDIRECT(AEL2),"")} | AEO2: . | AEP2: . | AEQ2: . | AER2: . | AES2: . | AET2: . | AEU2: . | AEV2: .
A3: =CONCATENATE(AC1," Erciyes") -> 21 Erciyes | B3: =N3 | C3: KUYULAR BÖLGESİ 1 | D3: 38.684392 | E3: 35.353074 | F3: {=CONCATENATE($A$37,INDIRECT(ADDRESS(ROW(),COLUMN()-2)),"%20",INDIRECT(ADDRESS(ROW(),COLUMN()-1)),$A$39,INDIRECT(ADDRESS(ROW(),COLUMN()-2)),"%20",INDIRECT(ADDRESS(ROW(),COLUMN()-1)))} -> https://maps.yandex.ru/?ll=38.684392%2035.353074&z=16&text=38.684392%2035.353074 | G3: {=CONCATENATE($A$40,INDIRECT(ADDRESS(ROW(),COLUMN()-3)),"%2C",INDIRECT(ADDRESS(ROW(),COLUMN()-2)))} -> https://maps.google.com/maps?q=38.684392%2C35.353074 | H3: Açıklama: | I3: {=IF(INDIRECT(ADDRESS(ROW(),COLUMN()-6))="","X",IF(INDIRECT(ADDRESS(ROW(),COLUMN()-5))="",0,"OK"))} -> OK | J3: =IF(K3="","",SUM(1+MAXA(J$1:J2))) | K3: {=IF(I3=0,INDIRECT(ADDRESS(ROW(),COLUMN()-8)),"")} | M3: =ADDRESS(ROW(),COLUMN()-10) -> $C$3 | N3: =IF(O3="","",SUM(1+MAXA(N$1:N2))) | O3: {=IF(ISNUMBER(SEARCH(O$1,INDEX(INDIRECT($P$1),ROW(M3),1)))=TRUE,INDIRECT(M3),"")} | P3: . | Q3: . | Y3: . | Z3: . | AA3: =AM3 | AB3: EM KAYNAK | AC3: 38.556339 | AD3: 35.512644 | AE3: {=CONCATENATE($A$37,INDIRECT(ADDRESS(ROW(),COLUMN()-2)),"%20",INDIRECT(ADDRESS(ROW(),COLUMN()-1)),$A$39,INDIRECT(ADDRESS(ROW(),COLUMN()-2)),"%20",INDIRECT(ADDRESS(ROW(),COLUMN()-1)))} -> https://maps.yandex.ru/?ll=38.556339%2035.512644&z=16&text=38.556339%2035.512644 | AF3: {=CONCATENATE($A$40,INDIRECT(ADDRESS(ROW(),COLUMN()-3)),"%2C",INDIRECT(ADDRESS(ROW(),COLUMN()-2)))} -> https://maps.google.com/maps?q=38.556339%2C35.512644 | AG3: Açıklama: Eski sondaj | AH3: {=IF(INDIRECT(ADDRESS(ROW(),COLUMN()-6))="","X",IF(INDIRECT(ADDRESS(ROW(),COLUMN()-5))="",0,"OK"))} -> OK | AI3: =IF(AJ3="","",SUM(1+MAXA(AI$1:AI2))) | AJ3: {=IF(AH3=0,INDIRECT(ADDRESS(ROW(),COLUMN()-8)),"")} | AL3: =ADDRESS(ROW(),COLUMN()-10) -> $AB$3 | AM3: =IF(AN3="","",SUM(1+MAXA(AM$1:AM2))) | AN3: {=IF(ISNUMBER(SEARCH(AN$1,INDEX(INDIRECT($AO$1),ROW(AL3),1)))=TRUE,INDIRECT(AL3),"")} | AO3: . | AP3: . | AQ3: . | AX3: . | AY3: . | AZ3: . | BA3: =BM3 | BB3: TALAS MEVLANA SONDAJ | BC3: 38.700780 | BD3: 35.570634 | BE3: {=CONCATENATE($A$37,INDIRECT(ADDRESS(ROW(),COLUMN()-2)),"%20",INDIRECT(ADDRESS(ROW(),COLUMN()-1)),$A$39,INDIRECT(ADDRESS(ROW(),COLUMN()-2)),"%20",INDIRECT(ADDRESS(ROW(),COLUMN()-1)))} -> https://maps.yandex.ru/?ll=38.700780%2035.570634&z=16&text=38.700780%2035.570634 | BF3: {=CONCATENATE($A$40,INDIRECT(ADDRESS(ROW(),COLUMN()-3)),"%2C",INDIRECT(ADDRESS(ROW(),COLUMN()-2)))} -> https://maps.google.com/maps?q=38.700780%2C35.570634 | BG3: Açıklama: | BH3: {=IF(INDIRECT(ADDRESS(ROW(),COLUMN()-6))="","X",IF(INDIRECT(ADDRESS(ROW(),COLUMN()-5))="",0,"OK"))} -> OK | BI3: =IF(BJ3="","",SUM(1+MAXA(BI$1:BI2))) | BJ3: {=IF(BH3=0,INDIRECT(ADDRESS(ROW(),COLUMN()-8)),"")} | BL3: =ADDRESS(ROW(),COLUMN()-10) -> $BB$3 | BM3: =IF(BN3="","",SUM(1+MAXA(BM$1:BM2))) | BN3: {=IF(ISNUMBER(SEARCH(BN$1,INDEX(INDIRECT(BO$1),ROW(BL3),1)))=TRUE,INDIRECT(BL3),"")} | BO3: . | BP3: . | BQ3: . | BW3: . | BX3: . | CA3: =CM3 | CB3: GERMİRALTI SONDAJ 1 | CC3: 38.719693 | CD3: 35.555886 | CE3: {=CONCATENATE($A$37,INDIRECT(ADDRESS(ROW(),COLUMN()-2)),"%20",INDIRECT(ADDRESS(ROW(),COLUMN()-1)),$A$39,INDIRECT(ADDRESS(ROW(),COLUMN()-2)),"%20",INDIRECT(ADDRESS(ROW(),COLUMN()-1)))} -> https://maps.yandex.ru/?ll=38.719693%2035.555886&z=16&text=38.719693%2035.555886 | CF3: {=CONCATENATE($A$40,INDIRECT(ADDRESS(ROW(),COLUMN()-3)),"%2C",INDIRECT(ADDRESS(ROW(),COLUMN()-2)))} -> https://maps.google.com/maps?q=38.719693%2C35.555886 | CG3: Açıklama: | CH3: {=IF(INDIRECT(ADDRESS(ROW(),COLUMN()-6))="","X",IF(INDIRECT(ADDRESS(ROW(),COLUMN()-5))="",0,"OK"))} -> OK | CI3: =IF(CJ3="","",SUM(1+MAXA(CI$1:CI2))) | CJ3: {=IF(CH3=0,INDIRECT(ADDRESS(ROW(),COLUMN()-8)),"")} | CL3: =ADDRESS(ROW(),COLUMN()-10) -> $CB$3 | CM3: =IF(CN3="","",SUM(1+MAXA(CM$1:CM2))) | CN3: {=IF(ISNUMBER(SEARCH(CN$1,INDEX(INDIRECT(CO$1),ROW(CL3),1)))=TRUE,INDIRECT(CL3),"")} | CO3: . | CZ3: . | DH3: {=IF(INDIRECT(ADDRESS(ROW(),COLUMN()-6))="","X",IF(INDIRECT(ADDRESS(ROW(),COLUMN()-5))="",0,"OK"))} -> X | DI3: =IF(DJ3="","",SUM(1+MAXA(DI$1:DI2))) | DJ3: {=IF(DH3=0,INDIRECT(ADDRESS(ROW(),COLUMN()-8)),"")} | DL3: =ADDRESS(ROW(),COLUMN()-10) -> $DB$3 | DM3: =IF(DN3="","",SUM(1+MAXA(DM$1:DM2))) | DN3: {=IF(ISNUMBER(SEARCH(DN$1,INDEX(INDIRECT(DO$1),ROW(DL3),1)))=TRUE,INDIRECT(DL3),"")} | DO3: . | DZ3: . | EA3: =EM3 | EB3: HACILAR KAVAKLIK SONDAJ 1 | EC3: 38.696125 | ED3: 35.442971 | EE3: {=CONCATENATE($A$37,INDIRECT(ADDRESS(ROW(),COLUMN()-2)),"%20",INDIRECT(ADDRESS(ROW(),COLUMN()-1)),$A$39,INDIRECT(ADDRESS(ROW(),COLUMN()-2)),"%20",INDIRECT(ADDRESS(ROW(),COLUMN()-1)))} -> https://maps.yandex.ru/?ll=38.696125%2035.442971&z=16&text=38.696125%2035.442971 | EF3: {=CONCATENATE($A$40,INDIRECT(ADDRESS(ROW(),COLUMN()-3)),"%2C",INDIRECT(ADDRESS(ROW(),COLUMN()-2)))} -> https://maps.google.com/maps?q=38.696125%2C35.442971 | EG3: Açıklama: | EH3: {=IF(INDIRECT(ADDRESS(ROW(),COLUMN()-6))="","X",IF(INDIRECT(ADDRESS(ROW(),COLUMN()-5))="",0,"OK"))} -> OK | EI3: =IF(EJ3="","",SUM(1+MAXA(EI$1:EI2))) | EJ3: {=IF(EH3=0,INDIRECT(ADDRESS(ROW(),COLUMN()-8)),"")} | EL3: =ADDRESS(ROW(),COLUMN()-10) -> $EB$3 | EM3: =IF(EN3="","",SUM(1+MAXA(EM$1:EM2))) | EN3: {=IF(ISNUMBER(SEARCH(EN$1,INDEX(INDIRECT(EO$1),ROW(EL3),1)))=TRUE,INDIRECT(EL3),"")} | EO3: . | FA3: =FM3 | FB3: AĞIRNAS ÇAMLIK SONDAJ 1 | FC3: 38.845062 | FD3: 35.732251 | FE3: {=CONCATENATE($A$37,INDIRECT(ADDRESS(ROW(),COLUMN()-2)),"%20",INDIRECT(ADDRESS(ROW(),COLUMN()-1)),$A$39,INDIRECT(ADDRESS(ROW(),COLUMN()-2)),"%20",INDIRECT(ADDRESS(ROW(),COLUMN()-1)))} -> https://maps.yandex.ru/?ll=38.845062%2035.732251&z=16&text=38.845062%2035.732251 | FF3: {=CONCATENATE($A$40,INDIRECT(ADDRESS(ROW(),COLUMN()-3)),"%2C",INDIRECT(ADDRESS(ROW(),COLUMN()-2)))} -> https://maps.google.com/maps?q=38.845062%2C35.732251 | FG3: Açıklama: | FH3: {=IF(INDIRECT(ADDRESS(ROW(),COLUMN()-6))="","X",IF(INDIRECT(ADDRESS(ROW(),COLUMN()-5))="",0,"OK"))} -> OK | FI3: =IF(FJ3="","",SUM(1+MAXA(FI$1:FI2))) | FJ3: {=IF(FH3=0,INDIRECT(ADDRESS(ROW(),COLUMN()-8)),"")} | FL3: =ADDRESS(ROW(),COLUMN()-10) -> $FB$3 | FM3: =IF(FN3="","",SUM(1+MAXA(FM$1:FM2))) | FN3: {=IF(ISNUMBER(SEARCH(FN$1,INDEX(INDIRECT(FO$1),ROW(FL3),1)))=TRUE,INDIRECT(FL3),"")} | FO3: . | FP3: . | FQ3: . | FR3: . | FS3: . | GA3: =GM3 | GH3: {=IF(INDIRECT(ADDRESS(ROW(),COLUMN()-6))="","X",IF(INDIRECT(ADDRESS(ROW(),COLUMN()-5))="",0,"OK"))} -> X | GI3: =IF(GJ3="","",SUM(1+MAXA(GI$1:GI2))) | GJ3: {=IF(GH3=0,INDIRECT(ADDRESS(ROW(),COLUMN()-8)),"")} | GL3: =ADDRESS(ROW(),COLUMN()-10) -> $GB$3 | GM3: =IF(GN3="","",SUM(1+MAXA(GM$1:GM2))) | GN3: {=IF(ISNUMBER(SEARCH(GN$1,INDEX(INDIRECT(GO$1),ROW(GL3),1)))=TRUE,INDIRECT(GL3),"")} | GO3: . | GP3: . | GQ3: . | GR3: . | GS3: . | HA3: =HM3 | HB3: BAYRAMHACI KESON KUYU | HC3: 38.827620 | HD3: 34.963872 | HE3: {=CONCATENATE($A$37,INDIRECT(ADDRESS(ROW(),COLUMN()-2)),"%20",INDIRECT(ADDRESS(ROW(),COLUMN()-1)),$A$39,INDIRECT(ADDRESS(ROW(),COLUMN()-2)),"%20",INDIRECT(ADDRESS(ROW(),COLUMN()-1)))} -> https://maps.yandex.ru/?ll=38.827620%2034.963872&z=16&text=38.827620%2034.963872 | HF3: {=CONCATENATE($A$40,INDIRECT(ADDRESS(ROW(),COLUMN()-3)),"%2C",INDIRECT(ADDRESS(ROW(),COLUMN()-2)))} -> https://maps.google.com/maps?q=38.827620%2C34.963872 | HG3: Açıklama: | HH3: {=IF(INDIRECT(ADDRESS(ROW(),COLUMN()-6))="","X",IF(INDIRECT(ADDRESS(ROW(),COLUMN()-5))="",0,"OK"))} -> OK | HI3: =IF(HJ3="","",SUM(1+MAXA(HI$1:HI2))) | HJ3: {=IF(HH3=0,INDIRECT(ADDRESS(ROW(),COLUMN()-8)),"")} | HL3: =ADDRESS(ROW(),COLUMN()-10) -> $HB$3 | HM3: =IF(HN3="","",SUM(1+MAXA(HM$1:HM2))) | HN3: {=IF(ISNUMBER(SEARCH(HN$1,INDEX(INDIRECT(HO$1),ROW(HL3),1)))=TRUE,INDIRECT(HL3),"")} | HO3: . | HP3: . | HQ3: . | HY3: . | HZ3: . | IA3: =IM3 | IB3: AMARAT SONDAJ | IC3: 39.043179 | ID3: 35.678760 | IE3: {=CONCATENATE($A$37,INDIRECT(ADDRESS(ROW(),COLUMN()-2)),"%20",INDIRECT(ADDRESS(ROW(),COLUMN()-1)),$A$39,INDIRECT(ADDRESS(ROW(),COLUMN()-2)),"%20",INDIRECT(ADDRESS(ROW(),COLUMN()-1)))} -> https://maps.yandex.ru/?ll=39.043179%2035.678760&z=16&text=39.043179%2035.678760 | IF3: {=CONCATENATE($A$40,INDIRECT(ADDRESS(ROW(),COLUMN()-3)),"%2C",INDIRECT(ADDRESS(ROW(),COLUMN()-2)))} -> https://maps.google.com/maps?q=39.043179%2C35.678760 | IG3: Açıklama: | IH3: {=IF(INDIRECT(ADDRESS(ROW(),COLUMN()-6))="","X",IF(INDIRECT(ADDRESS(ROW(),COLUMN()-5))="",0,"OK"))} -> OK | II3: =IF(IJ3="","",SUM(1+MAXA(II$1:II2))) | IJ3: {=IF(IH3=0,INDIRECT(ADDRESS(ROW(),COLUMN()-8)),"")} | IL3: =ADDRESS(ROW(),COLUMN()-10) -> $IB$3 | IM3: =IF(IN3="","",SUM(1+MAXA(IM$1:IM2))) | IN3: {=IF(ISNUMBER(SEARCH(IN$1,INDEX(INDIRECT(IO$1),ROW(IL3),1)))=TRUE,INDIRECT(IL3),"")} | IO3: . | IP3: . | IQ3: . | IX3: . | IY3: . | IZ3: . | JA3: =JM3 | JH3: {=IF(INDIRECT(ADDRESS(ROW(),COLUMN()-6))="","X",IF(INDIRECT(ADDRESS(ROW(),COLUMN()-5))="",0,"OK"))} -> X | JI3: =IF(JJ3="","",SUM(1+MAXA(JI$1:JI2))) | JJ3: {=IF(JH3=0,INDIRECT(ADDRESS(ROW(),COLUMN()-8)),"")} | JL3: =ADDRESS(ROW(),COLUMN()-10) -> $JB$3 | JM3: =IF(JN3="","",SUM(1+MAXA(JM$1:JM2))) | JN3: {=IF(ISNUMBER(SEARCH(JN$1,INDEX(INDIRECT(JO$1),ROW(JL3),1)))=TRUE,INDIRECT(JL3),"")} | JO3: . | JP3: . | JQ3: . | JX3: . | JY3: . | JZ3: . | KA3: =KM3 | KB3: AKÇAKAYA SONDAJ 1 | KC3: 38.64766 | KD3: 35.569681 | KE3: {=CONCATENATE($A$37,INDIRECT(ADDRESS(ROW(),COLUMN()-2)),"%20",INDIRECT(ADDRESS(ROW(),COLUMN()-1)),$A$39,INDIRECT(ADDRESS(ROW(),COLUMN()-2)),"%20",INDIRECT(ADDRESS(ROW(),COLUMN()-1)))} -> https://maps.yandex.ru/?ll=38.64766%2035.569681&z=16&text=38.64766%2035.569681 | KF3: {=CONCATENATE($A$40,INDIRECT(ADDRESS(ROW(),COLUMN()-3)),"%2C",INDIRECT(ADDRESS(ROW(),COLUMN()-2)))} -> https://maps.google.com/maps?q=38.64766%2C35.569681 | KG3: Açıklama: | KH3: {=IF(INDIRECT(ADDRESS(ROW(),COLUMN()-6))="","X",IF(INDIRECT(ADDRESS(ROW(),COLUMN()-5))="",0,"OK"))} -> OK | KI3: =IF(KJ3="","",SUM(1+MAXA(KI$1:KI2))) | KJ3: {=IF(KH3=0,INDIRECT(ADDRESS(ROW(),COLUMN()-8)),"")} | KL3: =ADDRESS(ROW(),COLUMN()-10) -> $KB$3 | KM3: =IF(KN3="","",SUM(1+MAXA(KM$1:KM2))) | KN3: {=IF(ISNUMBER(SEARCH(KN$1,INDEX(INDIRECT(KO$1),ROW(KL3),1)))=TRUE,INDIRECT(KL3),"")} | KO3: . | KP3: . | KQ3: . | KY3: . | KZ3: . | LA3: =LM3 | LB3: KESDOĞAN KAYNAK | LC3: 38.973140 | LD3: 36.161627 | LE3: {=CONCATENATE($A$37,INDIRECT(ADDRESS(ROW(),COLUMN()-2)),"%20",INDIRECT(ADDRESS(ROW(),COLUMN()-1)),$A$39,INDIRECT(ADDRESS(ROW(),COLUMN()-2)),"%20",INDIRECT(ADDRESS(ROW(),COLUMN()-1)))} -> https://maps.yandex.ru/?ll=38.973140%2036.161627&z=16&text=38.973140%2036.161627 | LF3: {=CONCATENATE($A$40,INDIRECT(ADDRESS(ROW(),COLUMN()-3)),"%2C",INDIRECT(ADDRESS(ROW(),COLUMN()-2)))} -> https://maps.google.com/maps?q=38.973140%2C36.161627 | LG3: Açıklama: | LH3: {=IF(INDIRECT(ADDRESS(ROW(),COLUMN()-6))="","X",IF(INDIRECT(ADDRESS(ROW(),COLUMN()-5))="",0,"OK"))} -> OK | LI3: =IF(LJ3="","",SUM(1+MAXA(LI$1:LI2))) | LJ3: {=IF(LH3=0,INDIRECT(ADDRESS(ROW(),COLUMN()-8)),"")} | LL3: =ADDRESS(ROW(),COLUMN()-10) -> $LB$3 | LM3: =IF(LN3="","",SUM(1+MAXA(LM$1:LM2))) | LN3: {=IF(ISNUMBER(SEARCH(LN$1,INDEX(INDIRECT(LO$1),ROW(LL3),1)))=TRUE,INDIRECT(LL3),"")} | LO3: . | LP3: . | LQ3: . | LR3: . | LY3: . | LZ3: . | MA3: =MM3 | MB3: BÜNYAN TD1 | MC3: 38.837335 | MD3: 35.854213 | ME3: {=CONCATENATE($A$37,INDIRECT(ADDRESS(ROW(),COLUMN()-2)),"%20",INDIRECT(ADDRESS(ROW(),COLUMN()-1)),$A$39,INDIRECT(ADDRESS(ROW(),COLUMN()-2)),"%20",INDIRECT(ADDRESS(ROW(),COLUMN()-1)))} -> https://maps.yandex.ru/?ll=38.837335%2035.854213&z=16&text=38.837335%2035.854213 | MF3: {=CONCATENATE($A$40,INDIRECT(ADDRESS(ROW(),COLUMN()-3)),"%2C",INDIRECT(ADDRESS(ROW(),COLUMN()-2)))} -> https://maps.google.com/maps?q=38.837335%2C35.854213 | MG3: Açıklama: | MH3: {=IF(INDIRECT(ADDRESS(ROW(),COLUMN()-6))="","X",IF(INDIRECT(ADDRESS(ROW(),COLUMN()-5))="",0,"OK"))} -> OK | MI3: =IF(MJ3="","",SUM(1+MAXA(MI$1:MI2))) | MJ3: {=IF(MH3=0,INDIRECT(ADDRESS(ROW(),COLUMN()-8)),"")} | ML3: =ADDRESS(ROW(),COLUMN()-10) -> $MB$3 | MM3: =IF(MN3="","",SUM(1+MAXA(MM$1:MM2))) | MN3: {=IF(ISNUMBER(SEARCH(MN$1,INDEX(INDIRECT(MO$1),ROW(ML3),1)))=TRUE,INDIRECT(ML3),"")} | MO3: . | MP3: . | MQ3: . | MW3: . | MY3: . | MZ3: . | NA3: =NM3 | NB3: ÖKSÜT P1 | NC3: 38.243855 | ND3: 35.466143 | NE3: {=CONCATENATE($A$37,INDIRECT(ADDRESS(ROW(),COLUMN()-2)),"%20",INDIRECT(ADDRESS(ROW(),COLUMN()-1)),$A$39,INDIRECT(ADDRESS(ROW(),COLUMN()-2)),"%20",INDIRECT(ADDRESS(ROW(),COLUMN()-1)))} -> https://maps.yandex.ru/?ll=38.243855%2035.466143&z=16&text=38.243855%2035.466143 | NF3: {=CONCATENATE($A$40,INDIRECT(ADDRESS(ROW(),COLUMN()-3)),"%2C",INDIRECT(ADDRESS(ROW(),COLUMN()-2)))} -> https://maps.google.com/maps?q=38.243855%2C35.466143 | NG3: Açıklama: Öksüt terfi ortak modem | NH3: {=IF(INDIRECT(ADDRESS(ROW(),COLUMN()-6))="","X",IF(INDIRECT(ADDRESS(ROW(),COLUMN()-5))="",0,"OK"))} -> OK | NI3: =IF(NJ3="","",SUM(1+MAXA(NI$1:NI2))) | NJ3: {=IF(NH3=0,INDIRECT(ADDRESS(ROW(),COLUMN()-8)),"")} | NL3: =ADDRESS(ROW(),COLUMN()-10) -> $NB$3 | NM3: =IF(NN3="","",SUM(1+MAXA(NM$1:NM2))) | NN3: {=IF(ISNUMBER(SEARCH(NN$1,INDEX(INDIRECT(NO$1),ROW(NL3),1)))=TRUE,INDIRECT(NL3),"")} | NO3: . | NP3: . | NQ3: . | NX3: . | NY3: . | OA3: =OM3 | OC3: ÇADIRYERİ | OG3: Açıklama: | OH3: {=IF(INDIRECT(ADDRESS(ROW(),COLUMN()-6))="","X",IF(INDIRECT(ADDRESS(ROW(),COLUMN()-5))="",0,"OK"))} -> X | OI3: =IF(OJ3="","",SUM(1+MAXA(OI$1:OI2))) | OJ3: {=IF(OH3=0,INDIRECT(ADDRESS(ROW(),COLUMN()-8)),"")} | OL3: =ADDRESS(ROW(),COLUMN()-10) -> $OB$3 | OM3: =IF(ON3="","",SUM(1+MAXA(OM$1:OM2))) | ON3: {=IF(ISNUMBER(SEARCH(ON$1,INDEX(INDIRECT(OO$1),ROW(OL3),1)))=TRUE,INDIRECT(OL3),"")} | OO3: . | OZ3: . | PA3: =PM3 | PB3: FELAHİYE MERKEZ SONDAJ 1- 2 | PC3: 39.095544 | PD3: 35.586106 | PE3: {=CONCATENATE($A$37,INDIRECT(ADDRESS(ROW(),COLUMN()-2)),"%20",INDIRECT(ADDRESS(ROW(),COLUMN()-1)),$A$39,INDIRECT(ADDRESS(ROW(),COLUMN()-2)),"%20",INDIRECT(ADDRESS(ROW(),COLUMN()-1)))} -> https://maps.yandex.ru/?ll=39.095544%2035.586106&z=16&text=39.095544%2035.586106 | PF3: {=CONCATENATE($A$40,INDIRECT(ADDRESS(ROW(),COLUMN()-3)),"%2C",INDIRECT(ADDRESS(ROW(),COLUMN()-2)))} -> https://maps.google.com/maps?q=39.095544%2C35.586106 | PG3: Açıklama: | PH3: {=IF(INDIRECT(ADDRESS(ROW(),COLUMN()-6))="","X",IF(INDIRECT(ADDRESS(ROW(),COLUMN()-5))="",0,"OK"))} -> OK | PI3: =IF(PJ3="","",SUM(1+MAXA(PI$1:PI2))) | PJ3: {=IF(PH3=0,INDIRECT(ADDRESS(ROW(),COLUMN()-8)),"")} | PL3: =ADDRESS(ROW(),COLUMN()-10) -> $PB$3 | PM3: =IF(PN3="","",SUM(1+MAXA(PM$1:PM2))) | PN3: {=IF(ISNUMBER(SEARCH(PN$1,INDEX(INDIRECT(PO$1),ROW(PL3),1)))=TRUE,INDIRECT(PL3),"")} | PO3: . | PP3: . | PQ3: . | PR3: . | PY3: . | PZ3: . | QA3: =QM3 | QB3: İNCESU MASTER SONDAJ 1 | QC3: 38.646672 | QD3: 35.299917 | QE3: {=CONCATENATE($A$37,INDIRECT(ADDRESS(ROW(),COLUMN()-2)),"%20",INDIRECT(ADDRESS(ROW(),COLUMN()-1)),$A$39,INDIRECT(ADDRESS(ROW(),COLUMN()-2)),"%20",INDIRECT(ADDRESS(ROW(),COLUMN()-1)))} -> https://maps.yandex.ru/?ll=38.646672%2035.299917&z=16&text=38.646672%2035.299917 | QF3: {=CONCATENATE($A$40,INDIRECT(ADDRESS(ROW(),COLUMN()-3)),"%2C",INDIRECT(ADDRESS(ROW(),COLUMN()-2)))} -> https://maps.google.com/maps?q=38.646672%2C35.299917 | QG3: Açıklama: | QH3: {=IF(INDIRECT(ADDRESS(ROW(),COLUMN()-6))="","X",IF(INDIRECT(ADDRESS(ROW(),COLUMN()-5))="",0,"OK"))} -> OK | QI3: =IF(QJ3="","",SUM(1+MAXA(QI$1:QI2))) | QJ3: {=IF(QH3=0,INDIRECT(ADDRESS(ROW(),COLUMN()-8)),"")} | QL3: =ADDRESS(ROW(),COLUMN()-10) -> $QB$3 | QM3: =IF(QN3="","",SUM(1+MAXA(QM$1:QM2))) | QN3: {=IF(ISNUMBER(SEARCH(QN$1,INDEX(INDIRECT(QO$1),ROW(QL3),1)))=TRUE,INDIRECT(QL3),"")} | QO3: . | QP3: . | QQ3: . | QR3: . | QY3: . | QZ3: . | RA3: =RM3 | RB3: ÖZVATAN GÖKTAŞ DEPO | RC3: 39.113767 | RD3: 35.679436 | RE3: {=CONCATENATE($A$37,INDIRECT(ADDRESS(ROW(),COLUMN()-2)),"%20",INDIRECT(ADDRESS(ROW(),COLUMN()-1)),$A$39,INDIRECT(ADDRESS(ROW(),COLUMN()-2)),"%20",INDIRECT(ADDRESS(ROW(),COLUMN()-1)))} -> https://maps.yandex.ru/?ll=39.113767%2035.679436&z=16&text=39.113767%2035.679436 | RF3: {=CONCATENATE($A$40,INDIRECT(ADDRESS(ROW(),COLUMN()-3)),"%2C",INDIRECT(ADDRESS(ROW(),COLUMN()-2)))} -> https://maps.google.com/maps?q=39.113767%2C35.679436 | RG3: Açıklama: | RH3: {=IF(INDIRECT(ADDRESS(ROW(),COLUMN()-6))="","X",IF(INDIRECT(ADDRESS(ROW(),COLUMN()-5))="",0,"OK"))} -> OK | RI3: =IF(RJ3="","",SUM(1+MAXA(RI$1:RI2))) | RJ3: {=IF(RH3=0,INDIRECT(ADDRESS(ROW(),COLUMN()-8)),"")} | RL3: =ADDRESS(ROW(),COLUMN()-10) -> $RB$3 | RM3: =IF(RN3="","",SUM(1+MAXA(RM$1:RM2))) | RN3: {=IF(ISNUMBER(SEARCH(RN$1,INDEX(INDIRECT(RO$1),ROW(RL3),1)))=TRUE,INDIRECT(RL3),"")} | RO3: . | RP3: . | RQ3: . | RY3: . | RZ3: . | SA3: =SM3 | SB3: PINARBAŞI GÖZ MOTOREVİ | SC3: 38.717356 | SD3: 36.399283 | SE3: {=CONCATENATE($A$37,INDIRECT(ADDRESS(ROW(),COLUMN()-2)),"%20",INDIRECT(ADDRESS(ROW(),COLUMN()-1)),$A$39,INDIRECT(ADDRESS(ROW(),COLUMN()-2)),"%20",INDIRECT(ADDRESS(ROW(),COLUMN()-1)))} -> https://maps.yandex.ru/?ll=38.717356%2036.399283&z=16&text=38.717356%2036.399283 | SF3: {=CONCATENATE($A$40,INDIRECT(ADDRESS(ROW(),COLUMN()-3)),"%2C",INDIRECT(ADDRESS(ROW(),COLUMN()-2)))} -> https://maps.google.com/maps?q=38.717356%2C36.399283 | SG3: Açıklama: | SH3: {=IF(INDIRECT(ADDRESS(ROW(),COLUMN()-6))="","X",IF(INDIRECT(ADDRESS(ROW(),COLUMN()-5))="",0,"OK"))} -> OK | SI3: =IF(SJ3="","",SUM(1+MAXA(SI$1:SI2))) | SJ3: {=IF(SH3=0,INDIRECT(ADDRESS(ROW(),COLUMN()-8)),"")} | SK3: . | SL3: =ADDRESS(ROW(),COLUMN()-10) -> $SB$3 | SM3: =IF(SN3="","",SUM(1+MAXA(SM$1:SM2))) | SN3: {=IF(ISNUMBER(SEARCH(SN$1,INDEX(SB$1:SB$174,ROW(SL3),1)))=TRUE,INDIRECT(SL3),"")} | SO3: . | SP3: . | SQ3: . | SY3: . | SZ3: . | TA3: =TM3 | TH3: {=IF(INDIRECT(ADDRESS(ROW(),COLUMN()-6))="","X",IF(INDIRECT(ADDRESS(ROW(),COLUMN()-5))="",0,"OK"))} -> X | TI3: =IF(TJ3="","",SUM(1+MAXA(TI$1:TI2))) | TJ3: {=IF(TH3=0,INDIRECT(ADDRESS(ROW(),COLUMN()-8)),"")} | TK3: . | TL3: =ADDRESS(ROW(),COLUMN()-10) -> $TB$3 | TM3: =IF(TN3="","",SUM(1+MAXA(TM$1:TM2))) | TN3: {=IF(ISNUMBER(SEARCH(TN$1,INDEX(INDIRECT(TO$1),ROW(TL3),1)))=TRUE,INDIRECT(TL3),"")} | TO3: . | TP3: . | TQ3: . | TY3: . | TZ3: . | UA3: =UM3 | UC3: PINARBAŞI BÖLGESİ | UG3: Açıklama: | UH3: {=IF(INDIRECT(ADDRESS(ROW(),COLUMN()-6))="","X",IF(INDIRECT(ADDRESS(ROW(),COLUMN()-5))="",0,"OK"))} -> X | UI3: =IF(UJ3="","",SUM(1+MAXA(UI$1:UI2))) | UJ3: {=IF(UH3=0,INDIRECT(ADDRESS(ROW(),COLUMN()-8)),"")} | UK3: . | UL3: =ADDRESS(ROW(),COLUMN()-10) -> $UB$3 | UM3: =IF(UN3="","",SUM(1+MAXA(UM$1:UM2))) | UN3: {=IF(ISNUMBER(SEARCH(UN$1,INDEX(INDIRECT(UO$1),ROW(UL3),1)))=TRUE,INDIRECT(UL3),"")} | UO3: . | UP3: . | UQ3: . | UY3: . | UZ3: . | VA3: =VM3 | VB3: SARIOĞLAN SONDAJ | VC3: 39.053500 | VD3: 35.952934 | VE3: {=CONCATENATE($A$37,INDIRECT(ADDRESS(ROW(),COLUMN()-2)),"%20",INDIRECT(ADDRESS(ROW(),COLUMN()-1)),$A$39,INDIRECT(ADDRESS(ROW(),COLUMN()-2)),"%20",INDIRECT(ADDRESS(ROW(),COLUMN()-1)))} -> https://maps.yandex.ru/?ll=39.053500%2035.952934&z=16&text=39.053500%2035.952934 | VF3: {=CONCATENATE($A$40,INDIRECT(ADDRESS(ROW(),COLUMN()-3)),"%2C",INDIRECT(ADDRESS(ROW(),COLUMN()-2)))} -> https://maps.google.com/maps?q=39.053500%2C35.952934 | VG3: Açıklama: | VH3: {=IF(INDIRECT(ADDRESS(ROW(),COLUMN()-6))="","X",IF(INDIRECT(ADDRESS(ROW(),COLUMN()-5))="",0,"OK"))} -> OK | VI3: =IF(VJ3="","",SUM(1+MAXA(VI$1:VI2))) | VJ3: {=IF(VH3=0,INDIRECT(ADDRESS(ROW(),COLUMN()-8)),"")} | VK3: . | VL3: =ADDRESS(ROW(),COLUMN()-10) -> $VB$3 | VM3: =IF(VN3="","",SUM(1+MAXA(VM$1:VM2))) | VN3: {=IF(ISNUMBER(SEARCH(VN$1,INDEX(INDIRECT(VO$1),ROW(VL3),1)))=TRUE,INDIRECT(VL3),"")} | VO3: . | VP3: . | VQ3: . | VY3: . | VZ3: . | WA3: =WM3 | WB3: SARIZ YENİ DEPO | WC3: 38.471027 | WD3: 36.514662 | WE3: {=CONCATENATE($A$37,INDIRECT(ADDRESS(ROW(),COLUMN()-2)),"%20",INDIRECT(ADDRESS(ROW(),COLUMN()-1)),$A$39,INDIRECT(ADDRESS(ROW(),COLUMN()-2)),"%20",INDIRECT(ADDRESS(ROW(),COLUMN()-1)))} -> https://maps.yandex.ru/?ll=38.471027%2036.514662&z=16&text=38.471027%2036.514662 | WF3: {=CONCATENATE($A$40,INDIRECT(ADDRESS(ROW(),COLUMN()-3)),"%2C",INDIRECT(ADDRESS(ROW(),COLUMN()-2)))} -> https://maps.google.com/maps?q=38.471027%2C36.514662 | WG3: Açıklama: | WH3: {=IF(INDIRECT(ADDRESS(ROW(),COLUMN()-6))="","X",IF(INDIRECT(ADDRESS(ROW(),COLUMN()-5))="",0,"OK"))} -> OK | WI3: =IF(WJ3="","",SUM(1+MAXA(WI$1:WI2))) | WJ3: {=IF(WH3=0,INDIRECT(ADDRESS(ROW(),COLUMN()-8)),"")} | WK3: . | WL3: =ADDRESS(ROW(),COLUMN()-10) -> $WB$3 | WM3: =IF(WN3="","",SUM(1+MAXA(WM$1:WM2))) | WN3: {=IF(ISNUMBER(SEARCH(WN$1,INDEX(INDIRECT(WO$1),ROW(WL3),1)))=TRUE,INDIRECT(WL3),"")} | WO3: . | WP3: . | WQ3: . | WR3: . | WV3: . | WZ3: . | XA3: =XM3 | XB3: TOMARZA SARIMEHMET SONDAJ | XC3: 38.455704 | XD3: 35.764527 | XE3: {=CONCATENATE($A$37,INDIRECT(ADDRESS(ROW(),COLUMN()-2)),"%20",INDIRECT(ADDRESS(ROW(),COLUMN()-1)),$A$39,INDIRECT(ADDRESS(ROW(),COLUMN()-2)),"%20",INDIRECT(ADDRESS(ROW(),COLUMN()-1)))} -> https://maps.yandex.ru/?ll=38.455704%2035.764527&z=16&text=38.455704%2035.764527 | XF3: {=CONCATENATE($A$40,INDIRECT(ADDRESS(ROW(),COLUMN()-3)),"%2C",INDIRECT(ADDRESS(ROW(),COLUMN()-2)))} -> https://maps.google.com/maps?q=38.455704%2C35.764527 | XG3: Açıklama: | XH3: {=IF(INDIRECT(ADDRESS(ROW(),COLUMN()-6))="","X",IF(INDIRECT(ADDRESS(ROW(),COLUMN()-5))="",0,"OK"))} -> OK | XI3: =IF(XJ3="","",SUM(1+MAXA(XI$1:XI2))) | XJ3: {=IF(XH3=0,INDIRECT(ADDRESS(ROW(),COLUMN()-8)),"")} | XK3: . | XL3: =ADDRESS(ROW(),COLUMN()-10) -> $XB$3 | XM3: =IF(XN3="","",SUM(1+MAXA(XM$1:XM2))) | XN3: {=IF(ISNUMBER(SEARCH(XN$1,INDEX(INDIRECT(XO$1),ROW(XL3),1)))=TRUE,INDIRECT(XL3),"")} | XO3: . | XP3: . | XQ3: . | XR3: . | XY3: . | XZ3: . | YA3: =YM3 | YH3: {=IF(INDIRECT(ADDRESS(ROW(),COLUMN()-6))="","X",IF(INDIRECT(ADDRESS(ROW(),COLUMN()-5))="",0,"OK"))} -> X | YI3: =IF(YJ3="","",SUM(1+MAXA(YI$1:YI2))) | YJ3: {=IF(YH3=0,INDIRECT(ADDRESS(ROW(),COLUMN()-8)),"")} | YK3: . | YL3: =ADDRESS(ROW(),COLUMN()-10) -> $YB$3 | YM3: =IF(YN3="","",SUM(1+MAXA(YM$1:YM2))) | YN3: {=IF(ISNUMBER(SEARCH(YN$1,INDEX(INDIRECT(YO$1),ROW(YL3),1)))=TRUE,INDIRECT(YL3),"")} | YO3: . | YP3: . | YQ3: . | YR3: . | YY3: . | YZ3: . | ZA3: =ZM3 | ZB3: YAHYALI TERFİLER | ZC3: 38.094950 | ZD3: 35.361790 | ZE3: {=CONCATENATE($A$37,INDIRECT(ADDRESS(ROW(),COLUMN()-2)),"%20",INDIRECT(ADDRESS(ROW(),COLUMN()-1)),$A$39,INDIRECT(ADDRESS(ROW(),COLUMN()-2)),"%20",INDIRECT(ADDRESS(ROW(),COLUMN()-1)))} -> https://maps.yandex.ru/?ll=38.094950%2035.361790&z=16&text=38.094950%2035.361790 | ZF3: {=CONCATENATE($A$40,INDIRECT(ADDRESS(ROW(),COLUMN()-3)),"%2C",INDIRECT(ADDRESS(ROW(),COLUMN()-2)))} -> https://maps.google.com/maps?q=38.094950%2C35.361790 | ZG3: Açıklama: | ZH3: {=IF(INDIRECT(ADDRESS(ROW(),COLUMN()-6))="","X",IF(INDIRECT(ADDRESS(ROW(),COLUMN()-5))="",0,"OK"))} -> OK | ZI3: =IF(ZJ3="","",SUM(1+MAXA(ZI$1:ZI2))) | ZJ3: {=IF(ZH3=0,INDIRECT(ADDRESS(ROW(),COLUMN()-8)),"")} | ZK3: . | ZL3: =ADDRESS(ROW(),COLUMN()-10) -> $ZB$3 | ZM3: =IF(ZN3="","",SUM(1+MAXA(ZM$1:ZM2))) | ZN3: {=IF(ISNUMBER(SEARCH(ZN$1,INDEX(INDIRECT(ZO$1),ROW(ZL3),1)))=TRUE,INDIRECT(ZL3),"")} | ZO3: . | ZP3: . | ZQ3: . | ZR3: . | ZZ3: . | AAA3: =AAM3 | AAB3: SOYSALLI SONDAJ (YEŞİLHİSAR HATTI) | AAC3: 38.398249 | AAD3: 35.369637 | AAE3: {=CONCATENATE($A$37,INDIRECT(ADDRESS(ROW(),COLUMN()-2)),"%20",INDIRECT(ADDRESS(ROW(),COLUMN()-1)),$A$39,INDIRECT(ADDRESS(ROW(),COLUMN()-2)),"%20",INDIRECT(ADDRESS(ROW(),COLUMN()-1)))} -> https://maps.yandex.ru/?ll=38.398249%2035.369637&z=16&text=38.398249%2035.369637 | AAF3: {=CONCATENATE($A$40,INDIRECT(ADDRESS(ROW(),COLUMN()-3)),"%2C",INDIRECT(ADDRESS(ROW(),COLUMN()-2)))} -> https://maps.google.com/maps?q=38.398249%2C35.369637 | AAG3: Açıklama: | AAH3: {=IF(INDIRECT(ADDRESS(ROW(),COLUMN()-6))="","X",IF(INDIRECT(ADDRESS(ROW(),COLUMN()-5))="",0,"OK"))} -> OK | AAI3: =IF(AAJ3="","",SUM(1+MAXA(AAI$1:AAI2))) | AAJ3: {=IF(AAH3=0,INDIRECT(ADDRESS(ROW(),COLUMN()-8)),"")} | AAK3: . | AAL3: =ADDRESS(ROW(),COLUMN()-10) -> $AAB$3 | AAM3: =IF(AAN3="","",SUM(1+MAXA(AAM$1:AAM2))) | AAN3: {=IF(ISNUMBER(SEARCH(AAN$1,INDEX(INDIRECT(AAO$1),ROW(AAL3),1)))=TRUE,INDIRECT(AAL3),"")} | AAO3: . | AAP3: . | AAQ3: . | AAR3: . | AAS3: . | AAZ3: . | ABA3: =ABM3 | ABB3: KEYKUBAT DEPO DEBİ ODASI | ABC3: 38.746891 | ABD3: 35.429494 | ABE3: {=CONCATENATE($A$37,INDIRECT(ADDRESS(ROW(),COLUMN()-2)),"%20",INDIRECT(ADDRESS(ROW(),COLUMN()-1)),$A$39,INDIRECT(ADDRESS(ROW(),COLUMN()-2)),"%20",INDIRECT(ADDRESS(ROW(),COLUMN()-1)))} -> https://maps.yandex.ru/?ll=38.746891%2035.429494&z=16&text=38.746891%2035.429494 | ABF3: {=CONCATENATE($A$40,INDIRECT(ADDRESS(ROW(),COLUMN()-3)),"%2C",INDIRECT(ADDRESS(ROW(),COLUMN()-2)))} -> https://maps.google.com/maps?q=38.746891%2C35.429494 | ABG3: Açıklama: | ABH3: {=IF(INDIRECT(ADDRESS(ROW(),COLUMN()-6))="","X",IF(INDIRECT(ADDRESS(ROW(),COLUMN()-5))="",0,"OK"))} -> OK | ABI3: =IF(ABJ3="","",SUM(1+MAXA(ABI$1:ABI2))) | ABJ3: {=IF(ABH3=0,INDIRECT(ADDRESS(ROW(),COLUMN()-8)),"")} | ABK3: . | ABL3: =ADDRESS(ROW(),COLUMN()-10) -> $ABB$3 | ABM3: =IF(ABN3="","",SUM(1+MAXA(ABM$1:ABM2))) | ABN3: {=IF(ISNUMBER(SEARCH(ABN$1,INDEX(INDIRECT(ABO$1),ROW(ABL3),1)))=TRUE,INDIRECT(ABL3),"")} | ABO3: . | ABP3: . | ABQ3: . | ABZ3: . | ACA3: =ACM3 | ACH3: {=IF(INDIRECT(ADDRESS(ROW(),COLUMN()-6))="","X",IF(INDIRECT(ADDRESS(ROW(),COLUMN()-5))="",0,"OK"))} -> X | ACI3: =IF(ACJ3="","",SUM(1+MAXA(ACI$1:ACI2))) | ACJ3: {=IF(ACH3=0,INDIRECT(ADDRESS(ROW(),COLUMN()-8)),"")} | ACK3: . | ACL3: =ADDRESS(ROW(),COLUMN()-10) -> $ACB$3 | ACM3: =IF(ACN3="","",SUM(1+MAXA(ACM$1:ACM2))) | ACN3: {=IF(ISNUMBER(SEARCH(ACN$1,INDEX(INDIRECT(ACO$1),ROW(ACL3),1)))=TRUE,INDIRECT(ACL3),"")} | ACO3: . | ACP3: . | ACQ3: . | ACZ3: . | ADA3: =ADM3 | ADB3: BARBAROS GÜL PARK ATIKSU | ADC3: 38.741705 | ADD3: 35.475220 | ADE3: {=CONCATENATE($A$37,INDIRECT(ADDRESS(ROW(),COLUMN()-2)),"%20",INDIRECT(ADDRESS(ROW(),COLUMN()-1)),$A$39,INDIRECT(ADDRESS(ROW(),COLUMN()-2)),"%20",INDIRECT(ADDRESS(ROW(),COLUMN()-1)))} -> https://maps.yandex.ru/?ll=38.741705%2035.475220&z=16&text=38.741705%2035.475220 | ADF3: {=CONCATENATE($A$40,INDIRECT(ADDRESS(ROW(),COLUMN()-3)),"%2C",INDIRECT(ADDRESS(ROW(),COLUMN()-2)))} -> https://maps.google.com/maps?q=38.741705%2C35.475220 | ADG3: Açıklama: | ADH3: {=IF(INDIRECT(ADDRESS(ROW(),COLUMN()-6))="","X",IF(INDIRECT(ADDRESS(ROW(),COLUMN()-5))="",0,"OK"))} -> OK | ADI3: =IF(ADJ3="","",SUM(1+MAXA(ADI$1:ADI2))) | ADJ3: {=IF(ADH3=0,INDIRECT(ADDRESS(ROW(),COLUMN()-8)),"")} | ADK3: . | ADL3: =ADDRESS(ROW(),COLUMN()-10) -> $ADB$3 | ADM3: =IF(ADN3="","",SUM(1+MAXA(ADM$1:ADM2))) | ADN3: {=IF(ISNUMBER(SEARCH(ADN$1,INDEX(INDIRECT(ADO$1),ROW(ADL3),1)))=TRUE,INDIRECT(ADL3),"")} | ADO3: . | ADP3: . | ADQ3: . | ADR3: . | ADS3: . | ADZ3: . | AEA3: =AEM3 | AEB3: ERKİLET KEMER DEPO | AEC3: 38.883518 | AED3: 35.378416 | AEE3: {=CONCATENATE($A$37,INDIRECT(ADDRESS(ROW(),COLUMN()-2)),"%20",INDIRECT(ADDRESS(ROW(),COLUMN()-1)),$A$39,INDIRECT(ADDRESS(ROW(),COLUMN()-2)),"%20",INDIRECT(ADDRESS(ROW(),COLUMN()-1)))} -> https://maps.yandex.ru/?ll=38.883518%2035.378416&z=16&text=38.883518%2035.378416 | AEF3: {=CONCATENATE($A$40,INDIRECT(ADDRESS(ROW(),COLUMN()-3)),"%2C",INDIRECT(ADDRESS(ROW(),COLUMN()-2)))} -> https://maps.google.com/maps?q=38.883518%2C35.378416 | AEG3: Açıklama: | AEH3: {=IF(INDIRECT(ADDRESS(ROW(),COLUMN()-6))="","X",IF(INDIRECT(ADDRESS(ROW(),COLUMN()-5))="",0,"OK"))} -> OK | AEI3: =IF(AEJ3="","",SUM(1+MAXA(AEI$1:AEI2))) | AEJ3: {=IF(AEH3=0,INDIRECT(ADDRESS(ROW(),COLUMN()-8)),"")} | AEK3: . | AEL3: =ADDRESS(ROW(),COLUMN()-10) -> $AEB$3 | AEM3: =IF(AEN3="","",SUM(1+MAXA(AEM$1:AEM2))) | AEN3: {=IF(ISNUMBER(SEARCH(AEN$1,INDEX(INDIRECT(AEO$1),ROW(AEL3),1)))=TRUE,INDIRECT(AEL3),"")} | AEO3: . | AEP3: . | AEQ3: . | AER3: . | AES3: . | AET3: . | AEU3: . | AEV3: .
A4: =CONCATENATE(BC1," Ana Depolar1",) -> 106 Ana Depolar1 | B4: =N4 | C4: KUYULAR BÖLGESİ 2 | D4: 38.686837 | E4: 35.335792 | F4: {=CONCATENATE($A$37,INDIRECT(ADDRESS(ROW(),COLUMN()-2)),"%20",INDIRECT(ADDRESS(ROW(),COLUMN()-1)),$A$39,INDIRECT(ADDRESS(ROW(),COLUMN()-2)),"%20",INDIRECT(ADDRESS(ROW(),COLUMN()-1)))} -> https://maps.yandex.ru/?ll=38.686837%2035.335792&z=16&text=38.686837%2035.335792 | G4: {=CONCATENATE($A$40,INDIRECT(ADDRESS(ROW(),COLUMN()-3)),"%2C",INDIRECT(ADDRESS(ROW(),COLUMN()-2)))} -> https://maps.google.com/maps?q=38.686837%2C35.335792 | H4: Açıklama: | I4: {=IF(INDIRECT(ADDRESS(ROW(),COLUMN()-6))="","X",IF(INDIRECT(ADDRESS(ROW(),COLUMN()-5))="",0,"OK"))} -> OK | J4: =IF(K4="","",SUM(1+MAXA(J$1:J3))) | K4: {=IF(I4=0,INDIRECT(ADDRESS(ROW(),COLUMN()-8)),"")} | M4: =ADDRESS(ROW(),COLUMN()-10) -> $C$4 | N4: =IF(O4="","",SUM(1+MAXA(N$1:N3))) | O4: {=IF(ISNUMBER(SEARCH(O$1,INDEX(INDIRECT($P$1),ROW(M4),1)))=TRUE,INDIRECT(M4),"")} | P4: . | Q4: . | Y4: . | Z4: . | AA4: =AM4 | AB4: ERCİYES MASTER SONDAJ | AC4: 38.536368 | AD4: 35.526609 | AE4: {=CONCATENATE($A$37,INDIRECT(ADDRESS(ROW(),COLUMN()-2)),"%20",INDIRECT(ADDRESS(ROW(),COLUMN()-1)),$A$39,INDIRECT(ADDRESS(ROW(),COLUMN()-2)),"%20",INDIRECT(ADDRESS(ROW(),COLUMN()-1)))} -> https://maps.yandex.ru/?ll=38.536368%2035.526609&z=16&text=38.536368%2035.526609 | AF4: {=CONCATENATE($A$40,INDIRECT(ADDRESS(ROW(),COLUMN()-3)),"%2C",INDIRECT(ADDRESS(ROW(),COLUMN()-2)))} -> https://maps.google.com/maps?q=38.536368%2C35.526609 | AG4: Açıklama: Yeni sondaj | AH4: {=IF(INDIRECT(ADDRESS(ROW(),COLUMN()-6))="","X",IF(INDIRECT(ADDRESS(ROW(),COLUMN()-5))="",0,"OK"))} -> OK | AI4: =IF(AJ4="","",SUM(1+MAXA(AI$1:AI3))) | AJ4: {=IF(AH4=0,INDIRECT(ADDRESS(ROW(),COLUMN()-8)),"")} | AL4: =ADDRESS(ROW(),COLUMN()-10) -> $AB$4 | AM4: =IF(AN4="","",SUM(1+MAXA(AM$1:AM3))) | AN4: {=IF(ISNUMBER(SEARCH(AN$1,INDEX(INDIRECT($AO$1),ROW(AL4),1)))=TRUE,INDIRECT(AL4),"")} | AO4: . | AP4: . | AQ4: . | AX4: . | AY4: . | AZ4: . | BA4: =BM4 -> 1 | BB4: ANAYURT SONDAJ 1 | BC4: 38.712423 | BD4: 35.564252 | BE4: {=CONCATENATE($A$37,INDIRECT(ADDRESS(ROW(),COLUMN()-2)),"%20",INDIRECT(ADDRESS(ROW(),COLUMN()-1)),$A$39,INDIRECT(ADDRESS(ROW(),COLUMN()-2)),"%20",INDIRECT(ADDRESS(ROW(),COLUMN()-1)))} -> https://maps.yandex.ru/?ll=38.712423%2035.564252&z=16&text=38.712423%2035.564252 | BF4: {=CONCATENATE($A$40,INDIRECT(ADDRESS(ROW(),COLUMN()-3)),"%2C",INDIRECT(ADDRESS(ROW(),COLUMN()-2)))} -> https://maps.google.com/maps?q=38.712423%2C35.564252 | BG4: Açıklama: | BH4: {=IF(INDIRECT(ADDRESS(ROW(),COLUMN()-6))="","X",IF(INDIRECT(ADDRESS(ROW(),COLUMN()-5))="",0,"OK"))} -> OK | BI4: =IF(BJ4="","",SUM(1+MAXA(BI$1:BI3))) | BJ4: {=IF(BH4=0,INDIRECT(ADDRESS(ROW(),COLUMN()-8)),"")} | BL4: =ADDRESS(ROW(),COLUMN()-10) -> $BB$4 | BM4: =IF(BN4="","",SUM(1+MAXA(BM$1:BM3))) -> 1 | BN4: {=IF(ISNUMBER(SEARCH(BN$1,INDEX(INDIRECT(BO$1),ROW(BL4),1)))=TRUE,INDIRECT(BL4),"")} -> ANAYURT SONDAJ 1 | BO4: . | BP4: . | BQ4: . | BW4: . | BX4: . | CA4: =CM4 | CB4: GERMİRALTI SONDAJ 2 | CC4: 38.720991 | CD4: 35.555715 | CE4: {=CONCATENATE($A$37,INDIRECT(ADDRESS(ROW(),COLUMN()-2)),"%20",INDIRECT(ADDRESS(ROW(),COLUMN()-1)),$A$39,INDIRECT(ADDRESS(ROW(),COLUMN()-2)),"%20",INDIRECT(ADDRESS(ROW(),COLUMN()-1)))} -> https://maps.yandex.ru/?ll=38.720991%2035.555715&z=16&text=38.720991%2035.555715 | CF4: {=CONCATENATE($A$40,INDIRECT(ADDRESS(ROW(),COLUMN()-3)),"%2C",INDIRECT(ADDRESS(ROW(),COLUMN()-2)))} -> https://maps.google.com/maps?q=38.720991%2C35.555715 | CG4: Açıklama: | CH4: {=IF(INDIRECT(ADDRESS(ROW(),COLUMN()-6))="","X",IF(INDIRECT(ADDRESS(ROW(),COLUMN()-5))="",0,"OK"))} -> OK | CI4: =IF(CJ4="","",SUM(1+MAXA(CI$1:CI3))) | CJ4: {=IF(CH4=0,INDIRECT(ADDRESS(ROW(),COLUMN()-8)),"")} | CL4: =ADDRESS(ROW(),COLUMN()-10) -> $CB$4 | CM4: =IF(CN4="","",SUM(1+MAXA(CM$1:CM3))) | CN4: {=IF(ISNUMBER(SEARCH(CN$1,INDEX(INDIRECT(CO$1),ROW(CL4),1)))=TRUE,INDIRECT(CL4),"")} | CO4: . | CZ4: . | DH4: {=IF(INDIRECT(ADDRESS(ROW(),COLUMN()-6))="","X",IF(INDIRECT(ADDRESS(ROW(),COLUMN()-5))="",0,"OK"))} -> X | DI4: =IF(DJ4="","",SUM(1+MAXA(DI$1:DI3))) | DJ4: {=IF(DH4=0,INDIRECT(ADDRESS(ROW(),COLUMN()-8)),"")} | DL4: =ADDRESS(ROW(),COLUMN()-10) -> $DB$4 | DM4: =IF(DN4="","",SUM(1+MAXA(DM$1:DM3))) | DN4: {=IF(ISNUMBER(SEARCH(DN$1,INDEX(INDIRECT(DO$1),ROW(DL4),1)))=TRUE,INDIRECT(DL4),"")} | DO4: . | DZ4: . | EA4: =EM4 | EB4: HACILAR KAVAKLIK SONDAJ 2 | EC4: 38.695687 | ED4: 35.442761 | EE4: {=CONCATENATE($A$37,INDIRECT(ADDRESS(ROW(),COLUMN()-2)),"%20",INDIRECT(ADDRESS(ROW(),COLUMN()-1)),$A$39,INDIRECT(ADDRESS(ROW(),COLUMN()-2)),"%20",INDIRECT(ADDRESS(ROW(),COLUMN()-1)))} -> https://maps.yandex.ru/?ll=38.695687%2035.442761&z=16&text=38.695687%2035.442761 | EF4: {=CONCATENATE($A$40,INDIRECT(ADDRESS(ROW(),COLUMN()-3)),"%2C",INDIRECT(ADDRESS(ROW(),COLUMN()-2)))} -> https://maps.google.com/maps?q=38.695687%2C35.442761 | EG4: Açıklama: | EH4: {=IF(INDIRECT(ADDRESS(ROW(),COLUMN()-6))="","X",IF(INDIRECT(ADDRESS(ROW(),COLUMN()-5))="",0,"OK"))} -> OK | EI4: =IF(EJ4="","",SUM(1+MAXA(EI$1:EI3))) | EJ4: {=IF(EH4=0,INDIRECT(ADDRESS(ROW(),COLUMN()-8)),"")} | EL4: =ADDRESS(ROW(),COLUMN()-10) -> $EB$4 | EM4: =IF(EN4="","",SUM(1+MAXA(EM$1:EM3))) | EN4: {=IF(ISNUMBER(SEARCH(EN$1,INDEX(INDIRECT(EO$1),ROW(EL4),1)))=TRUE,INDIRECT(EL4),"")} | EO4: . | FA4: =FM4 | FB4: AĞIRNAS ÇAMLIK SONDAJ 2 | FC4: 38.843897 | FD4: 35.731728 | FE4: {=CONCATENATE($A$37,INDIRECT(ADDRESS(ROW(),COLUMN()-2)),"%20",INDIRECT(ADDRESS(ROW(),COLUMN()-1)),$A$39,INDIRECT(ADDRESS(ROW(),COLUMN()-2)),"%20",INDIRECT(ADDRESS(ROW(),COLUMN()-1)))} -> https://maps.yandex.ru/?ll=38.843897%2035.731728&z=16&text=38.843897%2035.731728 | FF4: {=CONCATENATE($A$40,INDIRECT(ADDRESS(ROW(),COLUMN()-3)),"%2C",INDIRECT(ADDRESS(ROW(),COLUMN()-2)))} -> https://maps.google.com/maps?q=38.843897%2C35.731728 | FG4: Açıklama: | FH4: {=IF(INDIRECT(ADDRESS(ROW(),COLUMN()-6))="","X",IF(INDIRECT(ADDRESS(ROW(),COLUMN()-5))="",0,"OK"))} -> OK | FI4: =IF(FJ4="","",SUM(1+MAXA(FI$1:FI3))) | FJ4: {=IF(FH4=0,INDIRECT(ADDRESS(ROW(),COLUMN()-8)),"")} | FL4: =ADDRESS(ROW(),COLUMN()-10) -> $FB$4 | FM4: =IF(FN4="","",SUM(1+MAXA(FM$1:FM3))) | FN4: {=IF(ISNUMBER(SEARCH(FN$1,INDEX(INDIRECT(FO$1),ROW(FL4),1)))=TRUE,INDIRECT(FL4),"")} | FO4: . | FP4: . | FQ4: . | FR4: . | FS4: . | GA4: =GM4 | GH4: {=IF(INDIRECT(ADDRESS(ROW(),COLUMN()-6))="","X",IF(INDIRECT(ADDRESS(ROW(),COLUMN()-5))="",0,"OK"))} -> X | GI4: =IF(GJ4="","",SUM(1+MAXA(GI$1:GI3))) | GJ4: {=IF(GH4=0,INDIRECT(ADDRESS(ROW(),COLUMN()-8)),"")} | GL4: =ADDRESS(ROW(),COLUMN()-10) -> $GB$4 | GM4: =IF(GN4="","",SUM(1+MAXA(GM$1:GM3))) | GN4: {=IF(ISNUMBER(SEARCH(GN$1,INDEX(INDIRECT(GO$1),ROW(GL4),1)))=TRUE,INDIRECT(GL4),"")} | GO4: . | GP4: . | GQ4: . | GR4: . | GS4: . | HA4: =HM4 | HB4: BAYRAMHACI MASLAK | HC4: 38.827082 | HD4: 34.966962 | HE4: {=CONCATENATE($A$37,INDIRECT(ADDRESS(ROW(),COLUMN()-2)),"%20",INDIRECT(ADDRESS(ROW(),COLUMN()-1)),$A$39,INDIRECT(ADDRESS(ROW(),COLUMN()-2)),"%20",INDIRECT(ADDRESS(ROW(),COLUMN()-1)))} -> https://maps.yandex.ru/?ll=38.827082%2034.966962&z=16&text=38.827082%2034.966962 | HF4: {=CONCATENATE($A$40,INDIRECT(ADDRESS(ROW(),COLUMN()-3)),"%2C",INDIRECT(ADDRESS(ROW(),COLUMN()-2)))} -> https://maps.google.com/maps?q=38.827082%2C34.966962 | HG4: Açıklama: | HH4: {=IF(INDIRECT(ADDRESS(ROW(),COLUMN()-6))="","X",IF(INDIRECT(ADDRESS(ROW(),COLUMN()-5))="",0,"OK"))} -> OK | HI4: =IF(HJ4="","",SUM(1+MAXA(HI$1:HI3))) | HJ4: {=IF(HH4=0,INDIRECT(ADDRESS(ROW(),COLUMN()-8)),"")} | HL4: =ADDRESS(ROW(),COLUMN()-10) -> $HB$4 | HM4: =IF(HN4="","",SUM(1+MAXA(HM$1:HM3))) | HN4: {=IF(ISNUMBER(SEARCH(HN$1,INDEX(INDIRECT(HO$1),ROW(HL4),1)))=TRUE,INDIRECT(HL4),"")} | HO4: . | HP4: . | HQ4: . | HY4: . | HZ4: . | IA4: =IM4 | IB4: AMARAT DEPO | IC4: 39.044302 | ID4: 35.679911 | IE4: {=CONCATENATE($A$37,INDIRECT(ADDRESS(ROW(),COLUMN()-2)),"%20",INDIRECT(ADDRESS(ROW(),COLUMN()-1)),$A$39,INDIRECT(ADDRESS(ROW(),COLUMN()-2)),"%20",INDIRECT(ADDRESS(ROW(),COLUMN()-1)))} -> https://maps.yandex.ru/?ll=39.044302%2035.679911&z=16&text=39.044302%2035.679911 | IF4: {=CONCATENATE($A$40,INDIRECT(ADDRESS(ROW(),COLUMN()-3)),"%2C",INDIRECT(ADDRESS(ROW(),COLUMN()-2)))} -> https://maps.google.com/maps?q=39.044302%2C35.679911 | IG4: Açıklama: | IH4: {=IF(INDIRECT(ADDRESS(ROW(),COLUMN()-6))="","X",IF(INDIRECT(ADDRESS(ROW(),COLUMN()-5))="",0,"OK"))} -> OK | II4: =IF(IJ4="","",SUM(1+MAXA(II$1:II3))) | IJ4: {=IF(IH4=0,INDIRECT(ADDRESS(ROW(),COLUMN()-8)),"")} | IL4: =ADDRESS(ROW(),COLUMN()-10) -> $IB$4 | IM4: =IF(IN4="","",SUM(1+MAXA(IM$1:IM3))) | IN4: {=IF(ISNUMBER(SEARCH(IN$1,INDEX(INDIRECT(IO$1),ROW(IL4),1)))=TRUE,INDIRECT(IL4),"")} | IO4: . | IP4: . | IQ4: . | IX4: . | IY4: . | IZ4: . | JA4: =JM4 | JH4: {=IF(INDIRECT(ADDRESS(ROW(),COLUMN()-6))="","X",IF(INDIRECT(ADDRESS(ROW(),COLUMN()-5))="",0,"OK"))} -> X | JI4: =IF(JJ4="","",SUM(1+MAXA(JI$1:JI3))) | JJ4: {=IF(JH4=0,INDIRECT(ADDRESS(ROW(),COLUMN()-8)),"")} | JL4: =ADDRESS(ROW(),COLUMN()-10) -> $JB$4 | JM4: =IF(JN4="","",SUM(1+MAXA(JM$1:JM3))) | JN4: {=IF(ISNUMBER(SEARCH(JN$1,INDEX(INDIRECT(JO$1),ROW(JL4),1)))=TRUE,INDIRECT(JL4),"")} | JO4: . | JP4: . | JQ4: . | JX4: . | JY4: . | JZ4: . | KA4: =KM4 | KB4: AKÇAKAYA SONDAJ 2 | KC4: 38.636884 | KD4: 35.577159 | KE4: {=CONCATENATE($A$37,INDIRECT(ADDRESS(ROW(),COLUMN()-2)),"%20",INDIRECT(ADDRESS(ROW(),COLUMN()-1)),$A$39,INDIRECT(ADDRESS(ROW(),COLUMN()-2)),"%20",INDIRECT(ADDRESS(ROW(),COLUMN()-1)))} -> https://maps.yandex.ru/?ll=38.636884%2035.577159&z=16&text=38.636884%2035.577159 | KF4: {=CONCATENATE($A$40,INDIRECT(ADDRESS(ROW(),COLUMN()-3)),"%2C",INDIRECT(ADDRESS(ROW(),COLUMN()-2)))} -> https://maps.google.com/maps?q=38.636884%2C35.577159 | KG4: Açıklama: | KH4: {=IF(INDIRECT(ADDRESS(ROW(),COLUMN()-6))="","X",IF(INDIRECT(ADDRESS(ROW(),COLUMN()-5))="",0,"OK"))} -> OK | KI4: =IF(KJ4="","",SUM(1+MAXA(KI$1:KI3))) | KJ4: {=IF(KH4=0,INDIRECT(ADDRESS(ROW(),COLUMN()-8)),"")} | KL4: =ADDRESS(ROW(),COLUMN()-10) -> $KB$4 | KM4: =IF(KN4="","",SUM(1+MAXA(KM$1:KM3))) | KN4: {=IF(ISNUMBER(SEARCH(KN$1,INDEX(INDIRECT(KO$1),ROW(KL4),1)))=TRUE,INDIRECT(KL4),"")} | KO4: . | KP4: . | KQ4: . | KY4: . | KZ4: . | LA4: =LM4 | LB4: AKKIŞLA 1000 LİK DEPO | LC4: 38.982971 | LD4: 36.168385 | LE4: {=CONCATENATE($A$37,INDIRECT(ADDRESS(ROW(),COLUMN()-2)),"%20",INDIRECT(ADDRESS(ROW(),COLUMN()-1)),$A$39,INDIRECT(ADDRESS(ROW(),COLUMN()-2)),"%20",INDIRECT(ADDRESS(ROW(),COLUMN()-1)))} -> https://maps.yandex.ru/?ll=38.982971%2036.168385&z=16&text=38.982971%2036.168385 | LF4: {=CONCATENATE($A$40,INDIRECT(ADDRESS(ROW(),COLUMN()-3)),"%2C",INDIRECT(ADDRESS(ROW(),COLUMN()-2)))} -> https://maps.google.com/maps?q=38.982971%2C36.168385 | LG4: Açıklama: | LH4: {=IF(INDIRECT(ADDRESS(ROW(),COLUMN()-6))="","X",IF(INDIRECT(ADDRESS(ROW(),COLUMN()-5))="",0,"OK"))} -> OK | LI4: =IF(LJ4="","",SUM(1+MAXA(LI$1:LI3))) | LJ4: {=IF(LH4=0,INDIRECT(ADDRESS(ROW(),COLUMN()-8)),"")} | LL4: =ADDRESS(ROW(),COLUMN()-10) -> $LB$4 | LM4: =IF(LN4="","",SUM(1+MAXA(LM$1:LM3))) | LN4: {=IF(ISNUMBER(SEARCH(LN$1,INDEX(INDIRECT(LO$1),ROW(LL4),1)))=TRUE,INDIRECT(LL4),"")} | LO4: . | LP4: . | LQ4: . | LR4: . | LY4: . | LZ4: . | MA4: =MM4 | MB4: BÜNYAN TOKİ HİDROFOR | MC4: 38.837335 | MD4: 35.854213 | ME4: {=CONCATENATE($A$37,INDIRECT(ADDRESS(ROW(),COLUMN()-2)),"%20",INDIRECT(ADDRESS(ROW(),COLUMN()-1)),$A$39,INDIRECT(ADDRESS(ROW(),COLUMN()-2)),"%20",INDIRECT(ADDRESS(ROW(),COLUMN()-1)))} -> https://maps.yandex.ru/?ll=38.837335%2035.854213&z=16&text=38.837335%2035.854213 | MF4: {=CONCATENATE($A$40,INDIRECT(ADDRESS(ROW(),COLUMN()-3)),"%2C",INDIRECT(ADDRESS(ROW(),COLUMN()-2)))} -> https://maps.google.com/maps?q=38.837335%2C35.854213 | MG4: Açıklama: TD1 Depoiçi | MH4: {=IF(INDIRECT(ADDRESS(ROW(),COLUMN()-6))="","X",IF(INDIRECT(ADDRESS(ROW(),COLUMN()-5))="",0,"OK"))} -> OK | MI4: =IF(MJ4="","",SUM(1+MAXA(MI$1:MI3))) | MJ4: {=IF(MH4=0,INDIRECT(ADDRESS(ROW(),COLUMN()-8)),"")} | ML4: =ADDRESS(ROW(),COLUMN()-10) -> $MB$4 | MM4: =IF(MN4="","",SUM(1+MAXA(MM$1:MM3))) | MN4: {=IF(ISNUMBER(SEARCH(MN$1,INDEX(INDIRECT(MO$1),ROW(ML4),1)))=TRUE,INDIRECT(ML4),"")} | MO4: . | MP4: . | MQ4: . | MW4: . | MY4: . | MZ4: . | NA4: =NM4 | NB4: ÖKSÜT DEPO İÇİ DALGIÇ | NC4: 38.243855 | ND4: 35.466143 | NE4: {=CONCATENATE($A$37,INDIRECT(ADDRESS(ROW(),COLUMN()-2)),"%20",INDIRECT(ADDRESS(ROW(),COLUMN()-1)),$A$39,INDIRECT(ADDRESS(ROW(),COLUMN()-2)),"%20",INDIRECT(ADDRESS(ROW(),COLUMN()-1)))} -> https://maps.yandex.ru/?ll=38.243855%2035.466143&z=16&text=38.243855%2035.466143 | NF4: {=CONCATENATE($A$40,INDIRECT(ADDRESS(ROW(),COLUMN()-3)),"%2C",INDIRECT(ADDRESS(ROW(),COLUMN()-2)))} -> https://maps.google.com/maps?q=38.243855%2C35.466143 | NG4: Açıklama: Öksüt terfi ortak modem | NH4: {=IF(INDIRECT(ADDRESS(ROW(),COLUMN()-6))="","X",IF(INDIRECT(ADDRESS(ROW(),COLUMN()-5))="",0,"OK"))} -> OK | NI4: =IF(NJ4="","",SUM(1+MAXA(NI$1:NI3))) | NJ4: {=IF(NH4=0,INDIRECT(ADDRESS(ROW(),COLUMN()-8)),"")} | NL4: =ADDRESS(ROW(),COLUMN()-10) -> $NB$4 | NM4: =IF(NN4="","",SUM(1+MAXA(NM$1:NM3))) | NN4: {=IF(ISNUMBER(SEARCH(NN$1,INDEX(INDIRECT(NO$1),ROW(NL4),1)))=TRUE,INDIRECT(NL4),"")} | NO4: . | NP4: . | NQ4: . | NX4: . | NY4: . | OA4: =OM4 | OG4: Açıklama: | OH4: {=IF(INDIRECT(ADDRESS(ROW(),COLUMN()-6))="","X",IF(INDIRECT(ADDRESS(ROW(),COLUMN()-5))="",0,"OK"))} -> X | OI4: =IF(OJ4="","",SUM(1+MAXA(OI$1:OI3))) | OJ4: {=IF(OH4=0,INDIRECT(ADDRESS(ROW(),COLUMN()-8)),"")} | OL4: =ADDRESS(ROW(),COLUMN()-10) -> $OB$4 | OM4: =IF(ON4="","",SUM(1+MAXA(OM$1:OM3))) | ON4: {=IF(ISNUMBER(SEARCH(ON$1,INDEX(INDIRECT(OO$1),ROW(OL4),1)))=TRUE,INDIRECT(OL4),"")} | OO4: . | OZ4: . | PA4: =PM4 | PB4: FELAHİYE MERKEZ SONDAJ 3 | PC4: 39.095544 | PD4: 35.586106 | PE4: {=CONCATENATE($A$37,INDIRECT(ADDRESS(ROW(),COLUMN()-2)),"%20",INDIRECT(ADDRESS(ROW(),COLUMN()-1)),$A$39,INDIRECT(ADDRESS(ROW(),COLUMN()-2)),"%20",INDIRECT(ADDRESS(ROW(),COLUMN()-1)))} -> https://maps.yandex.ru/?ll=39.095544%2035.586106&z=16&text=39.095544%2035.586106 | PF4: {=CONCATENATE($A$40,INDIRECT(ADDRESS(ROW(),COLUMN()-3)),"%2C",INDIRECT(ADDRESS(ROW(),COLUMN()-2)))} -> https://maps.google.com/maps?q=39.095544%2C35.586106 | PG4: Açıklama: | PH4: {=IF(INDIRECT(ADDRESS(ROW(),COLUMN()-6))="","X",IF(INDIRECT(ADDRESS(ROW(),COLUMN()-5))="",0,"OK"))} -> OK | PI4: =IF(PJ4="","",SUM(1+MAXA(PI$1:PI3))) | PJ4: {=IF(PH4=0,INDIRECT(ADDRESS(ROW(),COLUMN()-8)),"")} | PL4: =ADDRESS(ROW(),COLUMN()-10) -> $PB$4 | PM4: =IF(PN4="","",SUM(1+MAXA(PM$1:PM3))) | PN4: {=IF(ISNUMBER(SEARCH(PN$1,INDEX(INDIRECT(PO$1),ROW(PL4),1)))=TRUE,INDIRECT(PL4),"")} | PO4: . | PP4: . | PQ4: . | PR4: . | PY4: . | PZ4: . | QA4: =QM4 | QB4: İNCESU MASTER SONDAJ 2 | QC4: 38.646482 | QD4: 35.300560 | QE4: {=CONCATENATE($A$37,INDIRECT(ADDRESS(ROW(),COLUMN()-2)),"%20",INDIRECT(ADDRESS(ROW(),COLUMN()-1)),$A$39,INDIRECT(ADDRESS(ROW(),COLUMN()-2)),"%20",INDIRECT(ADDRESS(ROW(),COLUMN()-1)))} -> https://maps.yandex.ru/?ll=38.646482%2035.300560&z=16&text=38.646482%2035.300560 | QF4: {=CONCATENATE($A$40,INDIRECT(ADDRESS(ROW(),COLUMN()-3)),"%2C",INDIRECT(ADDRESS(ROW(),COLUMN()-2)))} -> https://maps.google.com/maps?q=38.646482%2C35.300560 | QG4: Açıklama: | QH4: {=IF(INDIRECT(ADDRESS(ROW(),COLUMN()-6))="","X",IF(INDIRECT(ADDRESS(ROW(),COLUMN()-5))="",0,"OK"))} -> OK | QI4: =IF(QJ4="","",SUM(1+MAXA(QI$1:QI3))) | QJ4: {=IF(QH4=0,INDIRECT(ADDRESS(ROW(),COLUMN()-8)),"")} | QL4: =ADDRESS(ROW(),COLUMN()-10) -> $QB$4 | QM4: =IF(QN4="","",SUM(1+MAXA(QM$1:QM3))) | QN4: {=IF(ISNUMBER(SEARCH(QN$1,INDEX(INDIRECT(QO$1),ROW(QL4),1)))=TRUE,INDIRECT(QL4),"")} | QO4: . | QP4: . | QQ4: . | QR4: . | QY4: . | QZ4: . | RA4: =RM4 | RB4: ÖZVATAN MEHMET USTA DEPO | RC4: 39.11295 | RD4: 35.685067 | RE4: {=CONCATENATE($A$37,INDIRECT(ADDRESS(ROW(),COLUMN()-2)),"%20",INDIRECT(ADDRESS(ROW(),COLUMN()-1)),$A$39,INDIRECT(ADDRESS(ROW(),COLUMN()-2)),"%20",INDIRECT(ADDRESS(ROW(),COLUMN()-1)))} -> https://maps.yandex.ru/?ll=39.11295%2035.685067&z=16&text=39.11295%2035.685067 | RF4: {=CONCATENATE($A$40,INDIRECT(ADDRESS(ROW(),COLUMN()-3)),"%2C",INDIRECT(ADDRESS(ROW(),COLUMN()-2)))} -> https://maps.google.com/maps?q=39.11295%2C35.685067 | RG4: Açıklama: | RH4: {=IF(INDIRECT(ADDRESS(ROW(),COLUMN()-6))="","X",IF(INDIRECT(ADDRESS(ROW(),COLUMN()-5))="",0,"OK"))} -> OK | RI4: =IF(RJ4="","",SUM(1+MAXA(RI$1:RI3))) | RJ4: {=IF(RH4=0,INDIRECT(ADDRESS(ROW(),COLUMN()-8)),"")} | RL4: =ADDRESS(ROW(),COLUMN()-10) -> $RB$4 | RM4: =IF(RN4="","",SUM(1+MAXA(RM$1:RM3))) | RN4: {=IF(ISNUMBER(SEARCH(RN$1,INDEX(INDIRECT(RO$1),ROW(RL4),1)))=TRUE,INDIRECT(RL4),"")} | RO4: . | RP4: . | RQ4: . | RY4: . | RZ4: . | SA4: =SM4 | SB4: PINARBAŞI TOKİ DEPO | SC4: 38.716777 | SD4: 36.398705 | SE4: {=CONCATENATE($A$37,INDIRECT(ADDRESS(ROW(),COLUMN()-2)),"%20",INDIRECT(ADDRESS(ROW(),COLUMN()-1)),$A$39,INDIRECT(ADDRESS(ROW(),COLUMN()-2)),"%20",INDIRECT(ADDRESS(ROW(),COLUMN()-1)))} -> https://maps.yandex.ru/?ll=38.716777%2036.398705&z=16&text=38.716777%2036.398705 | SF4: {=CONCATENATE($A$40,INDIRECT(ADDRESS(ROW(),COLUMN()-3)),"%2C",INDIRECT(ADDRESS(ROW(),COLUMN()-2)))} -> https://maps.google.com/maps?q=38.716777%2C36.398705 | SG4: Açıklama: | SH4: {=IF(INDIRECT(ADDRESS(ROW(),COLUMN()-6))="","X",IF(INDIRECT(ADDRESS(ROW(),COLUMN()-5))="",0,"OK"))} -> OK | SI4: =IF(SJ4="","",SUM(1+MAXA(SI$1:SI3))) | SJ4: {=IF(SH4=0,INDIRECT(ADDRESS(ROW(),COLUMN()-8)),"")} | SK4: . | SL4: =ADDRESS(ROW(),COLUMN()-10) -> $SB$4 | SM4: =IF(SN4="","",SUM(1+MAXA(SM$1:SM3))) | SN4: {=IF(ISNUMBER(SEARCH(SN$1,INDEX(SB$1:SB$174,ROW(SL4),1)))=TRUE,INDIRECT(SL4),"")} | SO4: . | SP4: . | SQ4: . | SY4: . | SZ4: . | TA4: =TM4 | TH4: {=IF(INDIRECT(ADDRESS(ROW(),COLUMN()-6))="","X",IF(INDIRECT(ADDRESS(ROW(),COLUMN()-5))="",0,"OK"))} -> X | TI4: =IF(TJ4="","",SUM(1+MAXA(TI$1:TI3))) | TJ4: {=IF(TH4=0,INDIRECT(ADDRESS(ROW(),COLUMN()-8)),"")} | TK4: . | TL4: =ADDRESS(ROW(),COLUMN()-10) -> $TB$4 | TM4: =IF(TN4="","",SUM(1+MAXA(TM$1:TM3))) | TN4: {=IF(ISNUMBER(SEARCH(TN$1,INDEX(INDIRECT(TO$1),ROW(TL4),1)))=TRUE,INDIRECT(TL4),"")} | TO4: . | TP4: . | TQ4: . | TY4: . | TZ4: . | UA4: =UM4 | UC4: AYVACIK | UG4: Açıklama: | UH4: {=IF(INDIRECT(ADDRESS(ROW(),COLUMN()-6))="","X",IF(INDIRECT(ADDRESS(ROW(),COLUMN()-5))="",0,"OK"))} -> X | UI4: =IF(UJ4="","",SUM(1+MAXA(UI$1:UI3))) | UJ4: {=IF(UH4=0,INDIRECT(ADDRESS(ROW(),COLUMN()-8)),"")} | UK4: . | UL4: =ADDRESS(ROW(),COLUMN()-10) -> $UB$4 | UM4: =IF(UN4="","",SUM(1+MAXA(UM$1:UM3))) | UN4: {=IF(ISNUMBER(SEARCH(UN$1,INDEX(INDIRECT(UO$1),ROW(UL4),1)))=TRUE,INDIRECT(UL4),"")} | UO4: . | UP4: . | UQ4: . | UY4: . | UZ4: . | VA4: =VM4 | VB4: SARIOĞLAN SONDAJ 2 | VC4: 39.053513 | VD4: 35.952200 | VE4: {=CONCATENATE($A$37,INDIRECT(ADDRESS(ROW(),COLUMN()-2)),"%20",INDIRECT(ADDRESS(ROW(),COLUMN()-1)),$A$39,INDIRECT(ADDRESS(ROW(),COLUMN()-2)),"%20",INDIRECT(ADDRESS(ROW(),COLUMN()-1)))} -> https://maps.yandex.ru/?ll=39.053513%2035.952200&z=16&text=39.053513%2035.952200 | VF4: {=CONCATENATE($A$40,INDIRECT(ADDRESS(ROW(),COLUMN()-3)),"%2C",INDIRECT(ADDRESS(ROW(),COLUMN()-2)))} -> https://maps.google.com/maps?q=39.053513%2C35.952200 | VG4: Açıklama:Scada panosu sondaj 1 in içerisinde | VH4: {=IF(INDIRECT(ADDRESS(ROW(),COLUMN()-6))="","X",IF(INDIRECT(ADDRESS(ROW(),COLUMN()-5))="",0,"OK"))} -> OK | VI4: =IF(VJ4="","",SUM(1+MAXA(VI$1:VI3))) | VJ4: {=IF(VH4=0,INDIRECT(ADDRESS(ROW(),COLUMN()-8)),"")} | VK4: . | VL4: =ADDRESS(ROW(),COLUMN()-10) -> $VB$4 | VM4: =IF(VN4="","",SUM(1+MAXA(VM$1:VM3))) | VN4: {=IF(ISNUMBER(SEARCH(VN$1,INDEX(INDIRECT(VO$1),ROW(VL4),1)))=TRUE,INDIRECT(VL4),"")} | VO4: . | VP4: . | VQ4: . | VY4: . | VZ4: . | WA4: =WM4 | WB4: SARIZ MERKEZ DEPO | WC4: 38.477170 | WD4: 36.505626 | WE4: {=CONCATENATE($A$37,INDIRECT(ADDRESS(ROW(),COLUMN()-2)),"%20",INDIRECT(ADDRESS(ROW(),COLUMN()-1)),$A$39,INDIRECT(ADDRESS(ROW(),COLUMN()-2)),"%20",INDIRECT(ADDRESS(ROW(),COLUMN()-1)))} -> https://maps.yandex.ru/?ll=38.477170%2036.505626&z=16&text=38.477170%2036.505626 | WF4: {=CONCATENATE($A$40,INDIRECT(ADDRESS(ROW(),COLUMN()-3)),"%2C",INDIRECT(ADDRESS(ROW(),COLUMN()-2)))} -> https://maps.google.com/maps?q=38.477170%2C36.505626 | WG4: Açıklama: | WH4: {=IF(INDIRECT(ADDRESS(ROW(),COLUMN()-6))="","X",IF(INDIRECT(ADDRESS(ROW(),COLUMN()-5))="",0,"OK"))} -> OK | WI4: =IF(WJ4="","",SUM(1+MAXA(WI$1:WI3))) | WJ4: {=IF(WH4=0,INDIRECT(ADDRESS(ROW(),COLUMN()-8)),"")} | WK4: . | WL4: =ADDRESS(ROW(),COLUMN()-10) -> $WB$4 | WM4: =IF(WN4="","",SUM(1+MAXA(WM$1:WM3))) | WN4: {=IF(ISNUMBER(SEARCH(WN$1,INDEX(INDIRECT(WO$1),ROW(WL4),1)))=TRUE,INDIRECT(WL4),"")} | WO4: . | WP4: . | WQ4: . | WR4: . | WV4: . | WZ4: . | XA4: =XM4 | XB4: TOMARZA SARIMEHMET DEPO | XC4: 38.465507 | XD4: 35.750819 | XE4: {=CONCATENATE($A$37,INDIRECT(ADDRESS(ROW(),COLUMN()-2)),"%20",INDIRECT(ADDRESS(ROW(),COLUMN()-1)),$A$39,INDIRECT(ADDRESS(ROW(),COLUMN()-2)),"%20",INDIRECT(ADDRESS(ROW(),COLUMN()-1)))} -> https://maps.yandex.ru/?ll=38.465507%2035.750819&z=16&text=38.465507%2035.750819 | XF4: {=CONCATENATE($A$40,INDIRECT(ADDRESS(ROW(),COLUMN()-3)),"%2C",INDIRECT(ADDRESS(ROW(),COLUMN()-2)))} -> https://maps.google.com/maps?q=38.465507%2C35.750819 | XG4: Açıklama: | XH4: {=IF(INDIRECT(ADDRESS(ROW(),COLUMN()-6))="","X",IF(INDIRECT(ADDRESS(ROW(),COLUMN()-5))="",0,"OK"))} -> OK | XI4: =IF(XJ4="","",SUM(1+MAXA(XI$1:XI3))) | XJ4: {=IF(XH4=0,INDIRECT(ADDRESS(ROW(),COLUMN()-8)),"")} | XK4: . | XL4: =ADDRESS(ROW(),COLUMN()-10) -> $XB$4 | XM4: =IF(XN4="","",SUM(1+MAXA(XM$1:XM3))) | XN4: {=IF(ISNUMBER(SEARCH(XN$1,INDEX(INDIRECT(XO$1),ROW(XL4),1)))=TRUE,INDIRECT(XL4),"")} | XO4: . | XP4: . | XQ4: . | XR4: . | XY4: . | XZ4: . | YA4: =YM4 | YH4: {=IF(INDIRECT(ADDRESS(ROW(),COLUMN()-6))="","X",IF(INDIRECT(ADDRESS(ROW(),COLUMN()-5))="",0,"OK"))} -> X | YI4: =IF(YJ4="","",SUM(1+MAXA(YI$1:YI3))) | YJ4: {=IF(YH4=0,INDIRECT(ADDRESS(ROW(),COLUMN()-8)),"")} | YK4: . | YL4: =ADDRESS(ROW(),COLUMN()-10) -> $YB$4 | YM4: =IF(YN4="","",SUM(1+MAXA(YM$1:YM3))) | YN4: {=IF(ISNUMBER(SEARCH(YN$1,INDEX(INDIRECT(YO$1),ROW(YL4),1)))=TRUE,INDIRECT(YL4),"")} | YO4: . | YP4: . | YQ4: . | YR4: . | YY4: . | YZ4: . | ZA4: =ZM4 | ZB4: YAHYALI GÖZBAŞI DEPO | ZC4: 38.094413 | ZD4: 35.363011 | ZE4: {=CONCATENATE($A$37,INDIRECT(ADDRESS(ROW(),COLUMN()-2)),"%20",INDIRECT(ADDRESS(ROW(),COLUMN()-1)),$A$39,INDIRECT(ADDRESS(ROW(),COLUMN()-2)),"%20",INDIRECT(ADDRESS(ROW(),COLUMN()-1)))} -> https://maps.yandex.ru/?ll=38.094413%2035.363011&z=16&text=38.094413%2035.363011 | ZF4: {=CONCATENATE($A$40,INDIRECT(ADDRESS(ROW(),COLUMN()-3)),"%2C",INDIRECT(ADDRESS(ROW(),COLUMN()-2)))} -> https://maps.google.com/maps?q=38.094413%2C35.363011 | ZG4: Açıklama: | ZH4: {=IF(INDIRECT(ADDRESS(ROW(),COLUMN()-6))="","X",IF(INDIRECT(ADDRESS(ROW(),COLUMN()-5))="",0,"OK"))} -> OK | ZI4: =IF(ZJ4="","",SUM(1+MAXA(ZI$1:ZI3))) | ZJ4: {=IF(ZH4=0,INDIRECT(ADDRESS(ROW(),COLUMN()-8)),"")} | ZK4: . | ZL4: =ADDRESS(ROW(),COLUMN()-10) -> $ZB$4 | ZM4: =IF(ZN4="","",SUM(1+MAXA(ZM$1:ZM3))) | ZN4: {=IF(ISNUMBER(SEARCH(ZN$1,INDEX(INDIRECT(ZO$1),ROW(ZL4),1)))=TRUE,INDIRECT(ZL4),"")} | ZO4: . | ZP4: . | ZQ4: . | ZR4: . | ZZ4: . | AAA4: =AAM4 | AAB4: EKİPEVİ YANI SONDAJ | AAC4: 38.354481 | AAD4: 35.109844 | AAE4: {=CONCATENATE($A$37,INDIRECT(ADDRESS(ROW(),COLUMN()-2)),"%20",INDIRECT(ADDRESS(ROW(),COLUMN()-1)),$A$39,INDIRECT(ADDRESS(ROW(),COLUMN()-2)),"%20",INDIRECT(ADDRESS(ROW(),COLUMN()-1)))} -> https://maps.yandex.ru/?ll=38.354481%2035.109844&z=16&text=38.354481%2035.109844 | AAF4: {=CONCATENATE($A$40,INDIRECT(ADDRESS(ROW(),COLUMN()-3)),"%2C",INDIRECT(ADDRESS(ROW(),COLUMN()-2)))} -> https://maps.google.com/maps?q=38.354481%2C35.109844 | AAG4: Açıklama: | AAH4: {=IF(INDIRECT(ADDRESS(ROW(),COLUMN()-6))="","X",IF(INDIRECT(ADDRESS(ROW(),COLUMN()-5))="",0,"OK"))} -> OK | AAI4: =IF(AAJ4="","",SUM(1+MAXA(AAI$1:AAI3))) | AAJ4: {=IF(AAH4=0,INDIRECT(ADDRESS(ROW(),COLUMN()-8)),"")} | AAK4: . | AAL4: =ADDRESS(ROW(),COLUMN()-10) -> $AAB$4 | AAM4: =IF(AAN4="","",SUM(1+MAXA(AAM$1:AAM3))) | AAN4: {=IF(ISNUMBER(SEARCH(AAN$1,INDEX(INDIRECT(AAO$1),ROW(AAL4),1)))=TRUE,INDIRECT(AAL4),"")} | AAO4: . | AAP4: . | AAQ4: . | AAR4: . | AAS4: . | AAZ4: . | ABA4: =ABM4 | ABB4: MEVLANA KONTROL ODASI | ABC4: 38.749074 | ABD4: 35.475373 | ABE4: {=CONCATENATE($A$37,INDIRECT(ADDRESS(ROW(),COLUMN()-2)),"%20",INDIRECT(ADDRESS(ROW(),COLUMN()-1)),$A$39,INDIRECT(ADDRESS(ROW(),COLUMN()-2)),"%20",INDIRECT(ADDRESS(ROW(),COLUMN()-1)))} -> https://maps.yandex.ru/?ll=38.749074%2035.475373&z=16&text=38.749074%2035.475373 | ABF4: {=CONCATENATE($A$40,INDIRECT(ADDRESS(ROW(),COLUMN()-3)),"%2C",INDIRECT(ADDRESS(ROW(),COLUMN()-2)))} -> https://maps.google.com/maps?q=38.749074%2C35.475373 | ABG4: Açıklama: | ABH4: {=IF(INDIRECT(ADDRESS(ROW(),COLUMN()-6))="","X",IF(INDIRECT(ADDRESS(ROW(),COLUMN()-5))="",0,"OK"))} -> OK | ABI4: =IF(ABJ4="","",SUM(1+MAXA(ABI$1:ABI3))) | ABJ4: {=IF(ABH4=0,INDIRECT(ADDRESS(ROW(),COLUMN()-8)),"")} | ABK4: . | ABL4: =ADDRESS(ROW(),COLUMN()-10) -> $ABB$4 | ABM4: =IF(ABN4="","",SUM(1+MAXA(ABM$1:ABM3))) | ABN4: {=IF(ISNUMBER(SEARCH(ABN$1,INDEX(INDIRECT(ABO$1),ROW(ABL4),1)))=TRUE,INDIRECT(ABL4),"")} | ABO4: . | ABP4: . | ABQ4: . | ABZ4: . | ACA4: =ACM4 | ACH4: {=IF(INDIRECT(ADDRESS(ROW(),COLUMN()-6))="","X",IF(INDIRECT(ADDRESS(ROW(),COLUMN()-5))="",0,"OK"))} -> X | ACI4: =IF(ACJ4="","",SUM(1+MAXA(ACI$1:ACI3))) | ACJ4: {=IF(ACH4=0,INDIRECT(ADDRESS(ROW(),COLUMN()-8)),"")} | ACK4: . | ACL4: =ADDRESS(ROW(),COLUMN()-10) -> $ACB$4 | ACM4: =IF(ACN4="","",SUM(1+MAXA(ACM$1:ACM3))) | ACN4: {=IF(ISNUMBER(SEARCH(ACN$1,INDEX(INDIRECT(ACO$1),ROW(ACL4),1)))=TRUE,INDIRECT(ACL4),"")} | ACO4: . | ACP4: . | ACQ4: . | ACZ4: . | ADA4: =ADM4 | ADB4: GÜZELKÖY ATIKSU | ADC4: 38.763588 | ADD4: 35.674336 | ADE4: {=CONCATENATE($A$37,INDIRECT(ADDRESS(ROW(),COLUMN()-2)),"%20",INDIRECT(ADDRESS(ROW(),COLUMN()-1)),$A$39,INDIRECT(ADDRESS(ROW(),COLUMN()-2)),"%20",INDIRECT(ADDRESS(ROW(),COLUMN()-1)))} -> https://maps.yandex.ru/?ll=38.763588%2035.674336&z=16&text=38.763588%2035.674336 | ADF4: {=CONCATENATE($A$40,INDIRECT(ADDRESS(ROW(),COLUMN()-3)),"%2C",INDIRECT(ADDRESS(ROW(),COLUMN()-2)))} -> https://maps.google.com/maps?q=38.763588%2C35.674336 | ADG4: Açıklama: | ADH4: {=IF(INDIRECT(ADDRESS(ROW(),COLUMN()-6))="","X",IF(INDIRECT(ADDRESS(ROW(),COLUMN()-5))="",0,"OK"))} -> OK | ADI4: =IF(ADJ4="","",SUM(1+MAXA(ADI$1:ADI3))) | ADJ4: {=IF(ADH4=0,INDIRECT(ADDRESS(ROW(),COLUMN()-8)),"")} | ADK4: . | ADL4: =ADDRESS(ROW(),COLUMN()-10) -> $ADB$4 | ADM4: =IF(ADN4="","",SUM(1+MAXA(ADM$1:ADM3))) | ADN4: {=IF(ISNUMBER(SEARCH(ADN$1,INDEX(INDIRECT(ADO$1),ROW(ADL4),1)))=TRUE,INDIRECT(ADL4),"")} | ADO4: . | ADP4: . | ADQ4: . | ADR4: . | ADS4: . | ADZ4: . | AEA4: =AEM4 | AEB4: KOCASİNAN AKÇATEPE ESKİ DEPO | AEC4: 38.821699 | AED4: 35.569758 | AEE4: {=CONCATENATE($A$37,INDIRECT(ADDRESS(ROW(),COLUMN()-2)),"%20",INDIRECT(ADDRESS(ROW(),COLUMN()-1)),$A$39,INDIRECT(ADDRESS(ROW(),COLUMN()-2)),"%20",INDIRECT(ADDRESS(ROW(),COLUMN()-1)))} -> https://maps.yandex.ru/?ll=38.821699%2035.569758&z=16&text=38.821699%2035.569758 | AEF4: {=CONCATENATE($A$40,INDIRECT(ADDRESS(ROW(),COLUMN()-3)),"%2C",INDIRECT(ADDRESS(ROW(),COLUMN()-2)))} -> https://maps.google.com/maps?q=38.821699%2C35.569758 | AEG4: Açıklama: | AEH4: {=IF(INDIRECT(ADDRESS(ROW(),COLUMN()-6))="","X",IF(INDIRECT(ADDRESS(ROW(),COLUMN()-5))="",0,"OK"))} -> OK | AEI4: =IF(AEJ4="","",SUM(1+MAXA(AEI$1:AEI3))) | AEJ4: {=IF(AEH4=0,INDIRECT(ADDRESS(ROW(),COLUMN()-8)),"")} | AEK4: . | AEL4: =ADDRESS(ROW(),COLUMN()-10) -> $AEB$4 | AEM4: =IF(AEN4="","",SUM(1+MAXA(AEM$1:AEM3))) | AEN4: {=IF(ISNUMBER(SEARCH(AEN$1,INDEX(INDIRECT(AEO$1),ROW(AEL4),1)))=TRUE,INDIRECT(AEL4),"")} | AEO4: . | AEP4: . | AEQ4: . | AER4: . | AES4: . | AET4: . | AEU4: . | AEV4: .
